BEGIN:VCALENDAR
VERSION:2.0
PRODID:-//WINGS Guatemala - ECPv6.15.20//NONSGML v1.0//EN
CALSCALE:GREGORIAN
METHOD:PUBLISH
X-ORIGINAL-URL:https://www.wingsguate.org
X-WR-CALDESC:Events for WINGS Guatemala
REFRESH-INTERVAL;VALUE=DURATION:PT1H
X-Robots-Tag:noindex
X-PUBLISHED-TTL:PT1H
BEGIN:VTIMEZONE
TZID:UTC
BEGIN:STANDARD
TZOFFSETFROM:+0000
TZOFFSETTO:+0000
TZNAME:UTC
DTSTART:20210101T000000
END:STANDARD
END:VTIMEZONE
BEGIN:VEVENT
DTSTART;TZID=UTC:20220912T080000
DTEND;TZID=UTC:20220912T143000
DTSTAMP:20260421T180321
CREATED:20220831T021853Z
LAST-MODIFIED:20220831T021853Z
UID:9914-1662969600-1662993000@www.wingsguate.org
SUMMARY:Anticonceptivos – Yepocapa (Chimaltenango)
DESCRIPTION:Servicios anticonceptivos en el Centro de Atención Permanente de Yepocapa (Chimaltenango).  \nAnticonceptivos: Colocación de DIU (T de cobre) y Jadelle (implante hormonal).  \nTambién se ofrecerán pruebas de detección de cáncer cervical.  \nServicios gratuitos.  \nPara más información y reserva de cupo\, llamar al 4511-5525. 
URL:https://www.wingsguate.org/event/anticonceptivos-yepocapa-chimaltenango-16/
CATEGORIES:English,Spanish
END:VEVENT
BEGIN:VEVENT
DTSTART;TZID=UTC:20220912T080000
DTEND;TZID=UTC:20220912T143000
DTSTAMP:20260421T180321
CREATED:20220906T202821Z
LAST-MODIFIED:20220906T202831Z
UID:9998-1662969600-1662993000@www.wingsguate.org
SUMMARY:Anticonceptivos – Totonicapán (Totonicapán)
DESCRIPTION:Servicios anticonceptivos en el Centro de Salud Totonicapán (Totonicapán).  \nAnticonceptivos: Colocación de DIU (T de cobre) y Jadelle (implante hormonal).  \nTambién se ofrecerán pruebas de detección de cáncer cervical.  \nServicios gratuitos.  \nPara más información y reserva de cupo\, llamar al 3227-4564. 
URL:https://www.wingsguate.org/event/anticonceptivos-totonicapan-totonicapan-38/
CATEGORIES:English,Spanish
END:VEVENT
BEGIN:VEVENT
DTSTART;TZID=UTC:20220912T080000
DTEND;TZID=UTC:20220912T143000
DTSTAMP:20260421T180321
CREATED:20220906T202932Z
LAST-MODIFIED:20220906T202932Z
UID:10001-1662969600-1662993000@www.wingsguate.org
SUMMARY:Anticonceptivos – San Cristobal (Totonicapán)
DESCRIPTION:Servicios anticonceptivos en el Puesto de Salud Nueva Candelaria\, San Cristobal (Totonicapán).  \nAnticonceptivos: Colocación de DIU (T de cobre) y Jadelle (implante hormonal).  \nTambién se ofrecerán pruebas de detección de cáncer cervical.  \nServicios gratuitos.  \nPara más información y reserva de cupo\, llamar al 3227-4564. 
URL:https://www.wingsguate.org/event/anticonceptivos-san-cristobal-totonicapan-2/
CATEGORIES:English,Spanish
END:VEVENT
BEGIN:VEVENT
DTSTART;TZID=UTC:20220912T080000
DTEND;TZID=UTC:20220912T150000
DTSTAMP:20260421T180321
CREATED:20220906T180053Z
LAST-MODIFIED:20220906T180053Z
UID:9958-1662969600-1662994800@www.wingsguate.org
SUMMARY:Anticonceptivos – Villa Nueva (Ciudad de Guatemala)
DESCRIPTION:Servicios anticonceptivos en Clínicas Centro de Salud\, Centro de Comercio\, Villa Nueva (Ciudad de Guatemala).  \nAnticonceptivos: Colocación de DIU (T de cobre) y Jadelle (implante hormonal).  \nTambién se ofrecerán pruebas de detección de cáncer cervical.  \nServicios gratuitos.  \nPara más información y reserva de cupo\, llamar al 3003-1246. 
URL:https://www.wingsguate.org/event/anticonceptivos-villa-nueva-ciudad-de-guatemala-25/
CATEGORIES:English,Spanish
END:VEVENT
END:VCALENDAR