BEGIN:VCALENDAR
VERSION:2.0
PRODID:-//WINGS Guatemala - ECPv6.15.20//NONSGML v1.0//EN
CALSCALE:GREGORIAN
METHOD:PUBLISH
X-ORIGINAL-URL:https://www.wingsguate.org
X-WR-CALDESC:Events for WINGS Guatemala
REFRESH-INTERVAL;VALUE=DURATION:PT1H
X-Robots-Tag:noindex
X-PUBLISHED-TTL:PT1H
BEGIN:VTIMEZONE
TZID:UTC
BEGIN:STANDARD
TZOFFSETFROM:+0000
TZOFFSETTO:+0000
TZNAME:UTC
DTSTART:20210101T000000
END:STANDARD
END:VTIMEZONE
BEGIN:VEVENT
DTSTART;TZID=UTC:20220825T080000
DTEND;TZID=UTC:20220825T140000
DTSTAMP:20260420T034651
CREATED:20220805T214027Z
LAST-MODIFIED:20220805T214027Z
UID:9790-1661414400-1661436000@www.wingsguate.org
SUMMARY:Operaciones – Malacatán (San Marcos)
DESCRIPTION:Jornada de operaciones para mujer y hombre en Hospital de Malacatán (San Marcos).  \nOperaciones (para no tener más hijos): Ligaduras de trompas y Vasectomía.  \nServicios Gratuitos.  \nPara más información y reserva de cupo\, llamar al 4511-7490. 
URL:https://www.wingsguate.org/event/operaciones-malacatan-san-marcos-4-2/
CATEGORIES:English,Spanish
END:VEVENT
BEGIN:VEVENT
DTSTART;TZID=UTC:20220825T080000
DTEND;TZID=UTC:20220825T143000
DTSTAMP:20260420T034651
CREATED:20220730T021003Z
LAST-MODIFIED:20220730T021003Z
UID:9613-1661414400-1661437800@www.wingsguate.org
SUMMARY:Anticonceptivos – El Tejar (Chimaltenango)
DESCRIPTION:Servicios anticonceptivos en la Clínica de Planificación Familiar (Salón Municipal)\, El Tejar  (Chimaltenango).  \nAnticonceptivos: Colocación de DIU (T de cobre) y Jadelle (implante hormonal).  \nTambién se ofrecerán pruebas de detección de cáncer cervical.  \nServicios gratuitos.  \nPara más información y reserva de cupo\, llamar al 4511-5525. 
URL:https://www.wingsguate.org/event/anticonceptivos-el-tejar-chimaltenango-12/
CATEGORIES:English,Spanish
END:VEVENT
BEGIN:VEVENT
DTSTART;TZID=UTC:20220825T080000
DTEND;TZID=UTC:20220825T143000
DTSTAMP:20260420T034651
CREATED:20220730T021500Z
LAST-MODIFIED:20220730T021500Z
UID:9619-1661414400-1661437800@www.wingsguate.org
SUMMARY:Operaciones – Chimaltenango (Chimaltenango)
DESCRIPTION:Jornada de operaciones para mujer en el Hospital Carroll Berhorst\, Chimaltenango (Chimaltenango).  \nOperaciones (para no tener más hijos): Ligaduras de trompas.  \nDonativo: Q50. \nPara más información y reserva de cupo\, llamar al 4511-5525. 
URL:https://www.wingsguate.org/event/operaciones-chimaltenango-chimaltenango-32/
CATEGORIES:English,Spanish
END:VEVENT
BEGIN:VEVENT
DTSTART;TZID=UTC:20220825T080000
DTEND;TZID=UTC:20220825T143000
DTSTAMP:20260420T034651
CREATED:20220730T025151Z
LAST-MODIFIED:20220730T025151Z
UID:9646-1661414400-1661437800@www.wingsguate.org
SUMMARY:Anticonceptivos – Santo Tomás Milpas Altas (Sacatepéquez)
DESCRIPTION:Servicios anticonceptivos en la Granja Municipal de Santo Tomás Milpas  Altas (Sacatepéquez).\nAnticonceptivos: Colocación de DIU (T de cobre) y Jadelle (implante hormonal). \n\n\nTambién se ofrecerán pruebas de detección de cáncer cervical.  \nServicios gratuitos.  \nPara más información y reserva de cupo\, llamar al 4511-3527. 
URL:https://www.wingsguate.org/event/anticonceptivos-santo-tomas-milpas-altas-sacatepequez-13/
CATEGORIES:English,Spanish
END:VEVENT
END:VCALENDAR