BEGIN:VCALENDAR
VERSION:2.0
PRODID:-//WINGS Guatemala - ECPv6.15.20//NONSGML v1.0//EN
CALSCALE:GREGORIAN
METHOD:PUBLISH
X-ORIGINAL-URL:https://www.wingsguate.org
X-WR-CALDESC:Events for WINGS Guatemala
REFRESH-INTERVAL;VALUE=DURATION:PT1H
X-Robots-Tag:noindex
X-PUBLISHED-TTL:PT1H
BEGIN:VTIMEZONE
TZID:UTC
BEGIN:STANDARD
TZOFFSETFROM:+0000
TZOFFSETTO:+0000
TZNAME:UTC
DTSTART:20210101T000000
END:STANDARD
END:VTIMEZONE
BEGIN:VEVENT
DTSTART;TZID=UTC:20220812T080000
DTEND;TZID=UTC:20220812T143000
DTSTAMP:20260423T182728
CREATED:20220730T023305Z
LAST-MODIFIED:20220730T023305Z
UID:9637-1660291200-1660314600@www.wingsguate.org
SUMMARY:Anticonceptivos – Puerto de San José (Escuintla)
DESCRIPTION:Servicios anticonceptivos en el Centro de Convergencia Barrita Vieja\, Puerto de San José (Escuintla).\nAnticonceptivos: Colocación de DIU (T de cobre) y Jadelle (implante hormonal). \n\n\nTambién se ofrecerán pruebas de detección de cáncer cervical.  \nServicios gratuitos.  \nPara más información y reserva de cupo\, llamar al 4511-3527. 
URL:https://www.wingsguate.org/event/anticonceptivos-puerto-de-san-jose-escuintla-2/
CATEGORIES:English,Spanish
END:VEVENT
BEGIN:VEVENT
DTSTART;TZID=UTC:20220812T080000
DTEND;TZID=UTC:20220812T143000
DTSTAMP:20260423T182728
CREATED:20220801T214759Z
LAST-MODIFIED:20220801T214759Z
UID:9684-1660291200-1660314600@www.wingsguate.org
SUMMARY:Operaciones – Mixco (Ciudad de Guatemala)
DESCRIPTION:Jornada de operaciones para mujer en La Maternidad 1ro. de Julio\, zona 5 de Mixco (Ciudad de Guatemala).  \nOperaciones (para no tener más hijos): Ligaduras de trompas.  \nServicios Gratuitos \nPara más información y reserva de cupo\, llamar al 3003-1246. 
URL:https://www.wingsguate.org/event/operaciones-mixco-ciudad-de-guatemala/
CATEGORIES:English,Spanish
END:VEVENT
BEGIN:VEVENT
DTSTART;TZID=UTC:20220812T080000
DTEND;TZID=UTC:20220812T143000
DTSTAMP:20260423T182728
CREATED:20220801T220724Z
LAST-MODIFIED:20220801T220724Z
UID:9694-1660291200-1660314600@www.wingsguate.org
SUMMARY:Anticonceptivos – Santo Domingo (Suchitepéquez)
DESCRIPTION:Servicios anticonceptivos en el Puesto de Salud Aldea Los Tiesos\, Santo Domingo (Suchitepéquez).  \nAnticonceptivos: Colocación de DIU (T de cobre) y Jadelle (implante hormonal).  \nTambién se ofrecerán pruebas de detección de cáncer cervical.  \nServicios gratuitos.  \nPara más información y reserva de cupo\, llamar al 4511-6520.
URL:https://www.wingsguate.org/event/anticonceptivos-santo-domingo-suchitepequez-18/
CATEGORIES:English,Spanish
END:VEVENT
BEGIN:VEVENT
DTSTART;TZID=UTC:20220812T080000
DTEND;TZID=UTC:20220812T143000
DTSTAMP:20260423T182728
CREATED:20220802T033620Z
LAST-MODIFIED:20220802T033620Z
UID:9755-1660291200-1660314600@www.wingsguate.org
SUMMARY:Anticonceptivos – Quetzaltenango (Quetzaltenango)
DESCRIPTION:Servicios anticonceptivos en el Centro de Salud La Esperanza\, zona 1\, Quetzaltenango (Quetzaltenango).  \nAnticonceptivos: Colocación de DIU (T de cobre) y Jadelle (implante hormonal).  \nTambién se ofrecerán pruebas de detección de cáncer cervical.  \nServicios gratuitos.  \nPara más información y reserva de cupo\, llamar al 4511-7490. 
URL:https://www.wingsguate.org/event/anticonceptivos-quetzaltenango-quetzaltenango-84/
CATEGORIES:English,Spanish
END:VEVENT
END:VCALENDAR