BEGIN:VCALENDAR
VERSION:2.0
PRODID:-//WINGS Guatemala - ECPv6.15.20//NONSGML v1.0//EN
CALSCALE:GREGORIAN
METHOD:PUBLISH
X-ORIGINAL-URL:https://www.wingsguate.org
X-WR-CALDESC:Events for WINGS Guatemala
REFRESH-INTERVAL;VALUE=DURATION:PT1H
X-Robots-Tag:noindex
X-PUBLISHED-TTL:PT1H
BEGIN:VTIMEZONE
TZID:UTC
BEGIN:STANDARD
TZOFFSETFROM:+0000
TZOFFSETTO:+0000
TZNAME:UTC
DTSTART:20210101T000000
END:STANDARD
END:VTIMEZONE
BEGIN:VEVENT
DTSTART;TZID=UTC:20220803T080000
DTEND;TZID=UTC:20220803T133000
DTSTAMP:20260420T034648
CREATED:20220802T010927Z
LAST-MODIFIED:20220802T010927Z
UID:9748-1659513600-1659533400@www.wingsguate.org
SUMMARY:Anticonceptivos – San Mateo (Quetzaltenango)
DESCRIPTION:Servicios anticonceptivos en el Puesto de Salud San Mateo (Quetzaltenango).  \nAnticonceptivos: Colocación de DIU (T de cobre) y Jadelle (implante hormonal).  \nTambién se ofrecerán pruebas de detección de cáncer cervical.  \nServicios gratuitos.  \nPara más información y reserva de cupo\, llamar al 4511-7490. 
URL:https://www.wingsguate.org/event/anticonceptivos-san-mateo-quetzaltenango/
CATEGORIES:English,Spanish
END:VEVENT
BEGIN:VEVENT
DTSTART;TZID=UTC:20220803T080000
DTEND;TZID=UTC:20220803T143000
DTSTAMP:20260420T034648
CREATED:20220730T001320Z
LAST-MODIFIED:20220730T001320Z
UID:9585-1659513600-1659537000@www.wingsguate.org
SUMMARY:Anticonceptivos – Purulhá (Baja Verapaz)
DESCRIPTION:Servicios anticonceptivos en el Centro de Atención Permanente de Purulhá (Baja Verapaz). \nAnticonceptivos: Colocación de DIU (T de cobre) y Jadelle (implante hormonal).  \nTambién se ofrecerán pruebas de detección de cáncer cervical.  \nServicios gratuitos.  \nPara más información y reserva de cupo\, llamar al 3227-1513. 
URL:https://www.wingsguate.org/event/anticonceptivos-purulha-baja-verapaz-4/
CATEGORIES:English,Spanish
END:VEVENT
BEGIN:VEVENT
DTSTART;TZID=UTC:20220803T080000
DTEND;TZID=UTC:20220803T143000
DTSTAMP:20260420T034648
CREATED:20220730T003003Z
LAST-MODIFIED:20220730T003003Z
UID:9591-1659513600-1659537000@www.wingsguate.org
SUMMARY:Anticonceptivos – San Martín Jilotepeque (Chimaltenango)
DESCRIPTION:Servicios anticonceptivos en Asociación Hombre y Mujeres en Acción\, Aldea Santo Domingo\, San Martín Jilotepeque (Chimaltenango).  \nAnticonceptivos: Colocación de DIU (T de cobre) y Jadelle (implante hormonal).  \nTambién se ofrecerán pruebas de detección de cáncer cervical.  \nServicios gratuitos.  \nPara más información y reserva de cupo\, llamar al 4511-5525. 
URL:https://www.wingsguate.org/event/anticonceptivos-san-martin-jilotepeque-chimaltenango-11/
CATEGORIES:English,Spanish
END:VEVENT
BEGIN:VEVENT
DTSTART;TZID=UTC:20220803T080000
DTEND;TZID=UTC:20220803T143000
DTSTAMP:20260420T034648
CREATED:20220730T023523Z
LAST-MODIFIED:20220730T023523Z
UID:9639-1659513600-1659537000@www.wingsguate.org
SUMMARY:Anticonceptivos – San Juan Alotenango (Sacatepéquez)
DESCRIPTION:Servicios anticonceptivos en la Dirección Municipal de la Mujer\, San Juan Alotenango (Sacatepéquez).\nAnticonceptivos: Colocación de DIU (T de cobre) y Jadelle (implante hormonal). \n\n\nTambién se ofrecerán pruebas de detección de cáncer cervical.  \nServicios gratuitos.  \nPara más información y reserva de cupo\, llamar al 4511-3527. 
URL:https://www.wingsguate.org/event/anticonceptivos-san-juan-alotenango-sacatepequez-13/
CATEGORIES:English,Spanish
END:VEVENT
BEGIN:VEVENT
DTSTART;TZID=UTC:20220803T080000
DTEND;TZID=UTC:20220803T143000
DTSTAMP:20260420T034648
CREATED:20220730T035239Z
LAST-MODIFIED:20220805T211818Z
UID:9658-1659513600-1659537000@www.wingsguate.org
SUMMARY:Anticonceptivos – Mixco (Ciudad de Guatemala)
DESCRIPTION:Servicios anticonceptivos en la Alcaldía Auxiliar de Ciudad Sátelite\, Mixco (Ciudad de Guatemala).  \nAnticonceptivos: Colocación de DIU (T de cobre) y Jadelle (implante hormonal).  \nTambién se ofrecerán pruebas de detección de cáncer cervical.  \nServicios gratuitos.  \nPara más información y reserva de cupo\, llamar al 3003-1246. 
URL:https://www.wingsguate.org/event/anticonceptivos-mixco-ciudad-de-guatemala-7/
CATEGORIES:English,Spanish
END:VEVENT
BEGIN:VEVENT
DTSTART;TZID=UTC:20220803T080000
DTEND;TZID=UTC:20220803T143000
DTSTAMP:20260420T034648
CREATED:20220801T220125Z
LAST-MODIFIED:20220801T220125Z
UID:9686-1659513600-1659537000@www.wingsguate.org
SUMMARY:Anticonceptivos – Santo Tomás La Unión (Suchitepéquez)
DESCRIPTION:Servicios anticonceptivos en el Centro de Salud de Santo Tomás La Unión (Suchitepéquez).  \nAnticonceptivos: Colocación de DIU (T de cobre) y Jadelle (implante hormonal).  \nTambién se ofrecerán pruebas de detección de cáncer cervical.  \nServicios gratuitos.  \nPara más información y reserva de cupo\, llamar al 4511-6520. 
URL:https://www.wingsguate.org/event/anticonceptivos-santo-tomas-la-union-suchitepequez-3/
CATEGORIES:English,Spanish
END:VEVENT
BEGIN:VEVENT
DTSTART;TZID=UTC:20220803T080000
DTEND;TZID=UTC:20220803T143000
DTSTAMP:20260420T034648
CREATED:20220801T220354Z
LAST-MODIFIED:20220801T220354Z
UID:9688-1659513600-1659537000@www.wingsguate.org
SUMMARY:Anticonceptivos – Cuyotenango (Suchitepéquez)
DESCRIPTION:Servicios anticonceptivos en el Centro de Atención Permanente Cuyotenango (Suchitepéquez).  \nAnticonceptivos: Colocación de DIU (T de cobre) y Jadelle (implante hormonal).  \nTambién se ofrecerán pruebas de detección de cáncer cervical.  \nServicios gratuitos.  \nPara más información y reserva de cupo\, llamar al 4511-6520. 
URL:https://www.wingsguate.org/event/anticonceptivos-cuyotenango-suchitepequez-42/
CATEGORIES:English,Spanish
END:VEVENT
BEGIN:VEVENT
DTSTART;TZID=UTC:20220803T080000
DTEND;TZID=UTC:20220803T143000
DTSTAMP:20260420T034648
CREATED:20220805T213418Z
LAST-MODIFIED:20220805T213418Z
UID:9784-1659513600-1659537000@www.wingsguate.org
SUMMARY:Anticonceptivos – San Pedro (San Marcos)
DESCRIPTION:Servicios anticonceptivos en el Centro de Atención Permanente San Pedro (San Marcos).  \nAnticonceptivos: Colocación de DIU (T de cobre) y Jadelle (implante hormonal).  \nTambién se ofrecerán pruebas de detección de cáncer cervical.  \nServicios gratuitos.  \nPara más información y reserva de cupo\, llamar al 4511-7490. 
URL:https://www.wingsguate.org/event/anticonceptivos-san-pedro-san-marcos-9/
CATEGORIES:English,Spanish
END:VEVENT
END:VCALENDAR