BEGIN:VCALENDAR
VERSION:2.0
PRODID:-//WINGS Guatemala - ECPv6.15.20//NONSGML v1.0//EN
CALSCALE:GREGORIAN
METHOD:PUBLISH
X-ORIGINAL-URL:https://www.wingsguate.org
X-WR-CALDESC:Events for WINGS Guatemala
REFRESH-INTERVAL;VALUE=DURATION:PT1H
X-Robots-Tag:noindex
X-PUBLISHED-TTL:PT1H
BEGIN:VTIMEZONE
TZID:UTC
BEGIN:STANDARD
TZOFFSETFROM:+0000
TZOFFSETTO:+0000
TZNAME:UTC
DTSTART:20210101T000000
END:STANDARD
END:VTIMEZONE
BEGIN:VEVENT
DTSTART;TZID=UTC:20220715T080000
DTEND;TZID=UTC:20220715T130000
DTSTAMP:20260421T235836
CREATED:20220708T105533Z
LAST-MODIFIED:20220708T105533Z
UID:9392-1657872000-1657890000@www.wingsguate.org
SUMMARY:Operaciones – Coatepeque (Quetzaltenango)
DESCRIPTION:Jornada de operaciones para mujer y hombre en el Centro de Atención Permanente Las Palmas\, Coatepeque (Quetzaltenango).  \nOperaciones (para no tener más hijos): Ligaduras de trompas y Vasectomías.  \nServicios Gratuitos.  \nPara más información y reserva de cupo\, llamar al 4511-7490. 
URL:https://www.wingsguate.org/event/operaciones-coatepeque-quetzaltenango-8/
CATEGORIES:English,Spanish
END:VEVENT
BEGIN:VEVENT
DTSTART;TZID=UTC:20220715T080000
DTEND;TZID=UTC:20220715T143000
DTSTAMP:20260421T235836
CREATED:20220708T095731Z
LAST-MODIFIED:20220708T095731Z
UID:9322-1657872000-1657895400@www.wingsguate.org
SUMMARY:Anticonceptivos – Cahabón (Alta Verapaz)
DESCRIPTION:Servicios anticonceptivos en el Centro de Salud de Cahabón (Alta Verapaz). \nAnticonceptivos: Colocación de DIU (T de cobre) y Jadelle (implante hormonal).  \nTambién se ofrecerán pruebas de detección de cáncer cervical.  \nServicios gratuitos.  \nPara más información y reserva de cupo\, llamar al 3227-1513. 
URL:https://www.wingsguate.org/event/anticonceptivos-cahabon-alta-verapaz-15/
CATEGORIES:English,Spanish
END:VEVENT
BEGIN:VEVENT
DTSTART;TZID=UTC:20220715T080000
DTEND;TZID=UTC:20220715T143000
DTSTAMP:20260421T235836
CREATED:20220708T095904Z
LAST-MODIFIED:20220708T095904Z
UID:9324-1657872000-1657895400@www.wingsguate.org
SUMMARY:Anticonceptivos – Cobán (Alta Verapaz)
DESCRIPTION:Servicios anticonceptivos en Asociación Alas de Guatemala\, 2da calle 11-51\, zona 2\, Cobán (frente a la Escuela de Comercio) (Alta Verapaz). \nAnticonceptivos: Colocación de DIU (T de cobre) y Jadelle (implante hormonal).  \nTambién se ofrecerán pruebas de detección de cáncer cervical.  \nServicios gratuitos.  \nPara más información y reserva de cupo\, llamar al 3227-1513. 
URL:https://www.wingsguate.org/event/anticonceptivos-coban-alta-verapaz-43/
CATEGORIES:English,Spanish
END:VEVENT
BEGIN:VEVENT
DTSTART;TZID=UTC:20220715T080000
DTEND;TZID=UTC:20220715T143000
DTSTAMP:20260421T235836
CREATED:20220708T104244Z
LAST-MODIFIED:20220708T104244Z
UID:9376-1657872000-1657895400@www.wingsguate.org
SUMMARY:Anticonceptivos – Ciudad de Guatemala (Ciudad de Guatemala)
DESCRIPTION:Servicios anticonceptivos en Iglesia Cristo Rey\, zona 6\, Ciudad de Guatemala (Ciudad de Guatemala).  \nAnticonceptivos: Colocación de DIU (T de cobre) y Jadelle (implante hormonal).  \nTambién se ofrecerán pruebas de detección de cáncer cervical.  \nServicios gratuitos.  \nPara más información y reserva de cupo\, llamar al 3003-1246. 
URL:https://www.wingsguate.org/event/anticonceptivos-ciudad-de-guatemala-ciudad-de-guatemala-12/
CATEGORIES:English,Spanish
END:VEVENT
END:VCALENDAR