BEGIN:VCALENDAR
VERSION:2.0
PRODID:-//WINGS Guatemala - ECPv6.15.20//NONSGML v1.0//EN
CALSCALE:GREGORIAN
METHOD:PUBLISH
X-WR-CALNAME:WINGS Guatemala
X-ORIGINAL-URL:https://www.wingsguate.org
X-WR-CALDESC:Events for WINGS Guatemala
REFRESH-INTERVAL;VALUE=DURATION:PT1H
X-Robots-Tag:noindex
X-PUBLISHED-TTL:PT1H
BEGIN:VTIMEZONE
TZID:UTC
BEGIN:STANDARD
TZOFFSETFROM:+0000
TZOFFSETTO:+0000
TZNAME:UTC
DTSTART:20210101T000000
END:STANDARD
END:VTIMEZONE
BEGIN:VEVENT
DTSTART;TZID=UTC:20220706T080000
DTEND;TZID=UTC:20220706T143000
DTSTAMP:20260422T011606
CREATED:20220705T101651Z
LAST-MODIFIED:20220705T101651Z
UID:9256-1657094400-1657117800@www.wingsguate.org
SUMMARY:Anticonceptivos – Santa Cruz Verapaz (Alta Verapaz)
DESCRIPTION:Servicios anticonceptivos en el Centro de Salud de Santa Cruz Verapaz (Alta Verapaz). \nAnticonceptivos: Colocación de DIU (T de cobre) y Jadelle (implante hormonal).  \nTambién se ofrecerán pruebas de detección de cáncer cervical.  \nServicios gratuitos.  \nPara más información y reserva de cupo\, llamar al 3227-1513. 
URL:https://www.wingsguate.org/event/anticonceptivos-santacruz-alta-verapaz-43/
CATEGORIES:English,Spanish
END:VEVENT
BEGIN:VEVENT
DTSTART;TZID=UTC:20220706T080000
DTEND;TZID=UTC:20220706T143000
DTSTAMP:20260422T011606
CREATED:20220705T102026Z
LAST-MODIFIED:20220705T102026Z
UID:9260-1657094400-1657117800@www.wingsguate.org
SUMMARY:Anticonceptivos – Salamá (Baja Verapaz)
DESCRIPTION:Servicios anticonceptivos en el Puesto de Salud Chilascó\, Salamá (Baja Verapaz). \nAnticonceptivos: Colocación de DIU (T de cobre) y Jadelle (implante hormonal).  \nTambién se ofrecerán pruebas de detección de cáncer cervical.  \nServicios gratuitos.  \nPara más información y reserva de cupo\, llamar al 3227-1513. 
URL:https://www.wingsguate.org/event/anticonceptivos-salama-baja-verapaz-8/
CATEGORIES:English,Spanish
END:VEVENT
BEGIN:VEVENT
DTSTART;TZID=UTC:20220706T080000
DTEND;TZID=UTC:20220706T143000
DTSTAMP:20260422T011606
CREATED:20220705T102543Z
LAST-MODIFIED:20220705T102543Z
UID:9267-1657094400-1657117800@www.wingsguate.org
SUMMARY:Anticonceptivos – Yepocapa (Chimaltenango)
DESCRIPTION:Servicios anticonceptivos en el Centro de Atención Permanente de Yepocapa (Chimaltenango).  \nAnticonceptivos: Colocación de DIU (T de cobre) y Jadelle (implante hormonal).  \nTambién se ofrecerán pruebas de detección de cáncer cervical.  \nServicios gratuitos.  \nPara más información y reserva de cupo\, llamar al 4511-5525. 
URL:https://www.wingsguate.org/event/anticonceptivos-yepocapa-chimaltenango-13/
CATEGORIES:English,Spanish
END:VEVENT
BEGIN:VEVENT
DTSTART;TZID=UTC:20220706T080000
DTEND;TZID=UTC:20220706T143000
DTSTAMP:20260422T011606
CREATED:20220705T103510Z
LAST-MODIFIED:20220705T103510Z
UID:9273-1657094400-1657117800@www.wingsguate.org
SUMMARY:Anticonceptivos – Mixco (Ciudad de Guatemala)
DESCRIPTION:Servicios anticonceptivos en la Escuela de Enfermeria\, zona 4 de Mixco (Ciudad de Guatemala).  \nAnticonceptivos: Colocación de DIU (T de cobre) y Jadelle (implante hormonal).  \nTambién se ofrecerán pruebas de detección de cáncer cervical.  \nServicios gratuitos.  \nPara más información y reserva de cupo\, llamar al 3003-1246. 
URL:https://www.wingsguate.org/event/anticonceptivos-mixco-ciudad-de-guatemala-4/
CATEGORIES:English,Spanish
END:VEVENT
BEGIN:VEVENT
DTSTART;TZID=UTC:20220706T080000
DTEND;TZID=UTC:20220706T143000
DTSTAMP:20260422T011606
CREATED:20220705T104704Z
LAST-MODIFIED:20220705T104704Z
UID:9281-1657094400-1657117800@www.wingsguate.org
SUMMARY:Anticonceptivos – Santo Domingo (Suchitepéquez)
DESCRIPTION:Servicios anticonceptivos en el Centro de Salud de Santo Domingo (Suchitepéquez).  \nAnticonceptivos: Colocación de DIU (T de cobre) y Jadelle (implante hormonal).  \nTambién se ofrecerán pruebas de detección de cáncer cervical.  \nServicios gratuitos.  \nPara más información y reserva de cupo\, llamar al 4511-6520. 
URL:https://www.wingsguate.org/event/anticonceptivos-santo-domingo-suchitepequez-17/
CATEGORIES:English,Spanish
END:VEVENT
BEGIN:VEVENT
DTSTART;TZID=UTC:20220706T080000
DTEND;TZID=UTC:20220706T143000
DTSTAMP:20260422T011606
CREATED:20220705T104850Z
LAST-MODIFIED:20220705T104850Z
UID:9283-1657094400-1657117800@www.wingsguate.org
SUMMARY:Anticonceptivos – San Miguel Panán (Suchitepéquez)
DESCRIPTION:Servicios anticonceptivos en el Centro de Salud de San Miguel Panán (Suchitepéquez).  \nAnticonceptivos: Colocación de DIU (T de cobre) y Jadelle (implante hormonal).  \nTambién se ofrecerán pruebas de detección de cáncer cervical.  \nServicios gratuitos.  \nPara más información y reserva de cupo\, llamar al 4511-6520. 
URL:https://www.wingsguate.org/event/anticonceptivos-panan-suchitepequez-42/
CATEGORIES:English,Spanish
END:VEVENT
END:VCALENDAR