BEGIN:VCALENDAR
VERSION:2.0
PRODID:-//WINGS Guatemala - ECPv6.15.20//NONSGML v1.0//EN
CALSCALE:GREGORIAN
METHOD:PUBLISH
X-WR-CALNAME:WINGS Guatemala
X-ORIGINAL-URL:https://www.wingsguate.org
X-WR-CALDESC:Events for WINGS Guatemala
REFRESH-INTERVAL;VALUE=DURATION:PT1H
X-Robots-Tag:noindex
X-PUBLISHED-TTL:PT1H
BEGIN:VTIMEZONE
TZID:UTC
BEGIN:STANDARD
TZOFFSETFROM:+0000
TZOFFSETTO:+0000
TZNAME:UTC
DTSTART:20210101T000000
END:STANDARD
END:VTIMEZONE
BEGIN:VEVENT
DTSTART;TZID=UTC:20220627T080000
DTEND;TZID=UTC:20220627T143000
DTSTAMP:20260421T102505
CREATED:20220611T025218Z
LAST-MODIFIED:20220611T025218Z
UID:8960-1656316800-1656340200@www.wingsguate.org
SUMMARY:Anticonceptivos – La Gomera (Escuintla)
DESCRIPTION:Servicios anticonceptivos en el Polideportivo de La Gomera (Escuintla).\nAnticonceptivos: Colocación de DIU (T de cobre) y Jadelle (implante hormonal). \n\n\nTambién se ofrecerán pruebas de detección de cáncer cervical.  \nServicios gratuitos.  \nPara más información y reserva de cupo\, llamar al 4511-3527. 
URL:https://www.wingsguate.org/event/anticonceptivos-la-gomera-escuintla-7/
CATEGORIES:English,Spanish
END:VEVENT
BEGIN:VEVENT
DTSTART;TZID=UTC:20220627T080000
DTEND;TZID=UTC:20220627T143000
DTSTAMP:20260421T102505
CREATED:20220611T025341Z
LAST-MODIFIED:20220611T025411Z
UID:8962-1656316800-1656340200@www.wingsguate.org
SUMMARY:Anticonceptivos – Osuna (Escuintla)
DESCRIPTION:Servicios anticonceptivos en el Puesto de Salud de Osuna (Escuintla).\nAnticonceptivos: Colocación de DIU (T de cobre) y Jadelle (implante hormonal). \n\n\nTambién se ofrecerán pruebas de detección de cáncer cervical.  \nServicios gratuitos.  \nPara más información y reserva de cupo\, llamar al 4511-3527. 
URL:https://www.wingsguate.org/event/anticonceptivos-osuna-escuintla-6/
CATEGORIES:English,Spanish
END:VEVENT
END:VCALENDAR