BEGIN:VCALENDAR
VERSION:2.0
PRODID:-//WINGS Guatemala - ECPv6.15.20//NONSGML v1.0//EN
CALSCALE:GREGORIAN
METHOD:PUBLISH
X-WR-CALNAME:WINGS Guatemala
X-ORIGINAL-URL:https://www.wingsguate.org
X-WR-CALDESC:Events for WINGS Guatemala
REFRESH-INTERVAL;VALUE=DURATION:PT1H
X-Robots-Tag:noindex
X-PUBLISHED-TTL:PT1H
BEGIN:VTIMEZONE
TZID:UTC
BEGIN:STANDARD
TZOFFSETFROM:+0000
TZOFFSETTO:+0000
TZNAME:UTC
DTSTART:20210101T000000
END:STANDARD
END:VTIMEZONE
BEGIN:VEVENT
DTSTART;TZID=UTC:20220614T080000
DTEND;TZID=UTC:20220614T130000
DTSTAMP:20260423T051243
CREATED:20220611T022238Z
LAST-MODIFIED:20220611T022239Z
UID:8935-1655193600-1655211600@www.wingsguate.org
SUMMARY:Operaciones – San José Cotzal (Quiché)
DESCRIPTION:Jornada de operaciones para mujer y hombre en el Centro de Atención Permanente San José Cotzal (Quiché).  \nOperaciones (para no tener más hijos): Ligaduras de trompas y Vasectomías.  \nServicios Gratuitos.  \nPara más información y reserva de cupo\, llamar al 4511-3725. 
URL:https://www.wingsguate.org/event/operaciones-san-jose-cotzal-quiche/
CATEGORIES:English,Spanish
END:VEVENT
BEGIN:VEVENT
DTSTART;TZID=UTC:20220614T080000
DTEND;TZID=UTC:20220614T143000
DTSTAMP:20260423T051243
CREATED:20220606T234211Z
LAST-MODIFIED:20220606T234211Z
UID:8512-1655193600-1655217000@www.wingsguate.org
SUMMARY:Anticonceptivos – Fray Bartolomé de las Casas (Alta Verapaz)
DESCRIPTION:Servicios anticonceptivos en el Puesto de Salud Tuilá\, Fray Bartolomé de las Casas (Alta Verapaz). \nAnticonceptivos: Colocación de DIU (T de cobre) y Jadelle (implante hormonal).  \nTambién se ofrecerán pruebas de detección de cáncer cervical.  \nServicios gratuitos.  \nPara más información y reserva de cupo\, llamar al 3227-1513. 
URL:https://www.wingsguate.org/event/anticonceptivos-fray-bartolome-de-las-casas-alta-verapaz-2/
CATEGORIES:English,Spanish
END:VEVENT
BEGIN:VEVENT
DTSTART;TZID=UTC:20220614T080000
DTEND;TZID=UTC:20220614T143000
DTSTAMP:20260423T051243
CREATED:20220607T022903Z
LAST-MODIFIED:20220607T022903Z
UID:8548-1655193600-1655217000@www.wingsguate.org
SUMMARY:Anticonceptivos – San Juan Comalapa (Chimaltenango)
DESCRIPTION:Servicios anticonceptivos en el Centro de Atención Permanente de San Juan Comalapa (Chimaltenango).  \nAnticonceptivos: Colocación de DIU (T de cobre) y Jadelle (implante hormonal).  \nTambién se ofrecerán pruebas de detección de cáncer cervical.  \nServicios gratuitos.  \nPara más información y reserva de cupo\, llamar al 4511-5525. 
URL:https://www.wingsguate.org/event/anticonceptivos-san-juan-comalapa-chimaltenango-18/
CATEGORIES:English,Spanish
END:VEVENT
BEGIN:VEVENT
DTSTART;TZID=UTC:20220614T080000
DTEND;TZID=UTC:20220614T143000
DTSTAMP:20260423T051243
CREATED:20220607T031003Z
LAST-MODIFIED:20220607T031003Z
UID:8562-1655193600-1655217000@www.wingsguate.org
SUMMARY:Anticonceptivos – San Juan Amatitlán (Ciudad de Guatemala)
DESCRIPTION:Servicios anticonceptivos en la Dirección Municipal de la Mujer Barrio San Juan Amatitlán (Ciudad de Guatemala).  \nAnticonceptivos: Colocación de DIU (T de cobre) y Jadelle (implante hormonal).  \nTambién se ofrecerán pruebas de detección de cáncer cervical.  \nServicios gratuitos.  \nPara más información y reserva de cupo\, llamar al 3003-1246. 
URL:https://www.wingsguate.org/event/anticonceptivos-san-juan-amatitlan-ciudad-de-guatemala-3/
CATEGORIES:English,Spanish
END:VEVENT
BEGIN:VEVENT
DTSTART;TZID=UTC:20220614T080000
DTEND;TZID=UTC:20220614T143000
DTSTAMP:20260423T051243
CREATED:20220610T231300Z
LAST-MODIFIED:20220610T231300Z
UID:8909-1655193600-1655217000@www.wingsguate.org
SUMMARY:Anticonceptivos – San Sebástian (Retalhuleu)
DESCRIPTION:Servicios anticonceptivos en Finca Buena Vista\, Aldea San Luis\, San Sebástian (Retalhuleu).  \nAnticonceptivos: Colocación de DIU (T de cobre) y Jadelle (implante hormonal).  \nTambién se ofrecerán pruebas de detección de cáncer cervical.  \nServicios gratuitos.  \nPara más información y reserva de cupo\, llamar al 4511-6520. 
URL:https://www.wingsguate.org/event/anticonceptivos-san-sebastian-retalhuleu-9/
CATEGORIES:English,Spanish
END:VEVENT
BEGIN:VEVENT
DTSTART;TZID=UTC:20220614T080000
DTEND;TZID=UTC:20220614T143000
DTSTAMP:20260423T051243
CREATED:20220611T030251Z
LAST-MODIFIED:20220611T030305Z
UID:8967-1655193600-1655217000@www.wingsguate.org
SUMMARY:Anticonceptivos – Santiago Sacatepéquez (Sacatepéquez)
DESCRIPTION:Servicios anticonceptivos en Clínica Dr. Juan Carlos Barrios\, Santiago Sacatepéquez (Santiago Sacatepéquez).\nAnticonceptivos: Colocación de DIU (T de cobre) y Jadelle (implante hormonal). \n\n\nTambién se ofrecerán pruebas de detección de cáncer cervical.  \nServicios gratuitos.  \nPara más información y reserva de cupo\, llamar al 3003-1246. 
URL:https://www.wingsguate.org/event/anticonceptivos-santiago-sacatepequez-sacatepequez-14/
CATEGORIES:English,Spanish
END:VEVENT
END:VCALENDAR