BEGIN:VCALENDAR
VERSION:2.0
PRODID:-//WINGS Guatemala - ECPv6.15.20//NONSGML v1.0//EN
CALSCALE:GREGORIAN
METHOD:PUBLISH
X-WR-CALNAME:WINGS Guatemala
X-ORIGINAL-URL:https://www.wingsguate.org
X-WR-CALDESC:Events for WINGS Guatemala
REFRESH-INTERVAL;VALUE=DURATION:PT1H
X-Robots-Tag:noindex
X-PUBLISHED-TTL:PT1H
BEGIN:VTIMEZONE
TZID:UTC
BEGIN:STANDARD
TZOFFSETFROM:+0000
TZOFFSETTO:+0000
TZNAME:UTC
DTSTART:20210101T000000
END:STANDARD
END:VTIMEZONE
BEGIN:VEVENT
DTSTART;TZID=UTC:20220602T080000
DTEND;TZID=UTC:20220602T113000
DTSTAMP:20260422T045709
CREATED:20220528T005259Z
LAST-MODIFIED:20220528T005259Z
UID:8493-1654156800-1654169400@www.wingsguate.org
SUMMARY:Operaciones – Ciudad de Guatemala (Ciudad de Guatemala)
DESCRIPTION:Jornada de operaciones para mujer en la Maternidad zona 18\, Ciudad de Guatemala (Ciudad de Guatemala).  \nOperaciones (para no tener más hijos): Ligaduras de trompas.  \nServicios Gratuitos \nPara más información y reserva de cupo\, llamar al 3003-1246. 
URL:https://www.wingsguate.org/event/operaciones-ciudad-de-guatemala-ciudad-de-guatemala-6/
CATEGORIES:English,Spanish
END:VEVENT
BEGIN:VEVENT
DTSTART;TZID=UTC:20220602T080000
DTEND;TZID=UTC:20220602T143000
DTSTAMP:20260422T045709
CREATED:20220527T235503Z
LAST-MODIFIED:20220527T235503Z
UID:8445-1654156800-1654180200@www.wingsguate.org
SUMMARY:Anticonceptivos – Cobán (Alta Verapaz)
DESCRIPTION:Servicios anticonceptivos en Asociación Alas de Guatemala 2da calle 11-51\, zona 2\, Cobán (Alta Verapaz). \nAnticonceptivos: Colocación de DIU (T de cobre) y Jadelle (implante hormonal).  \nTambién se ofrecerán pruebas de detección de cáncer cervical.  \nServicios gratuitos.  \nPara más información y reserva de cupo\, llamar al 3227-1513. 
URL:https://www.wingsguate.org/event/anticonceptivos-coban-alta-verapaz-39/
CATEGORIES:English,Spanish
END:VEVENT
BEGIN:VEVENT
DTSTART;TZID=UTC:20220602T080000
DTEND;TZID=UTC:20220602T143000
DTSTAMP:20260422T045709
CREATED:20220528T003211Z
LAST-MODIFIED:20220528T003211Z
UID:8471-1654156800-1654180200@www.wingsguate.org
SUMMARY:Anticonceptivos – San Pedro Ayampuc (Ciudad de Guatemala)
DESCRIPTION:Servicios anticonceptivos en el Salon Municipal El Cantón Pueblo Nuevo\, San Pedro Ayampuc (Ciudad de Guatemala).  \nAnticonceptivos: Colocación de DIU (T de cobre) y Jadelle (implante hormonal).  \nTambién se ofrecerán pruebas de detección de cáncer cervical.  \nServicios gratuitos.  \nPara más información y reserva de cupo\, llamar al 3003-1246. 
URL:https://www.wingsguate.org/event/anticonceptivos-san-pedro-ayampuc-ciudad-de-guatemala/
CATEGORIES:English,Spanish
END:VEVENT
BEGIN:VEVENT
DTSTART;TZID=UTC:20220602T080000
DTEND;TZID=UTC:20220602T143000
DTSTAMP:20260422T045709
CREATED:20220609T222327Z
LAST-MODIFIED:20220609T222327Z
UID:8861-1654156800-1654180200@www.wingsguate.org
SUMMARY:Anticonceptivos – Quetzaltenango (Quetzaltenango)
DESCRIPTION:Servicios anticonceptivos en el Centro de Atención Permanente Quetzaltenango (Quetzaltenango).  \nAnticonceptivos: Colocación de DIU (T de cobre) y Jadelle (implante hormonal).  \nTambién se ofrecerán pruebas de detección de cáncer cervical.  \nServicios gratuitos.  \nPara más información y reserva de cupo\, llamar al 4511-7490. 
URL:https://www.wingsguate.org/event/anticonceptivos-quetzaltenango-quetzaltenango-77/
CATEGORIES:English,Spanish
END:VEVENT
BEGIN:VEVENT
DTSTART;TZID=UTC:20220602T080000
DTEND;TZID=UTC:20220602T143000
DTSTAMP:20260422T045709
CREATED:20220610T215914Z
LAST-MODIFIED:20220610T215914Z
UID:8882-1654156800-1654180200@www.wingsguate.org
SUMMARY:Anticonceptivos – San Felipe (Retalhuleu)
DESCRIPTION:Servicios anticonceptivos en el Centro de Salud San Felipe (Retalhuleu).  \nAnticonceptivos: Colocación de DIU (T de cobre) y Jadelle (implante hormonal).  \nTambién se ofrecerán pruebas de detección de cáncer cervical.  \nServicios gratuitos.  \nPara más información y reserva de cupo\, llamar al 4511-6520. 
URL:https://www.wingsguate.org/event/anticonceptivos-san-felipe-retalhuleu-6/
CATEGORIES:English,Spanish
END:VEVENT
BEGIN:VEVENT
DTSTART;TZID=UTC:20220602T080000
DTEND;TZID=UTC:20220602T143000
DTSTAMP:20260422T045709
CREATED:20220610T220319Z
LAST-MODIFIED:20220610T220319Z
UID:8886-1654156800-1654180200@www.wingsguate.org
SUMMARY:Anticonceptivos – Zunilito (Suchitepéquez)
DESCRIPTION:Servicios anticonceptivos en el Centro de Atención Permanente Zunilito (Suchitepéquez).  \nAnticonceptivos: Colocación de DIU (T de cobre) y Jadelle (implante hormonal).  \nTambién se ofrecerán pruebas de detección de cáncer cervical.  \nServicios gratuitos.  \nPara más información y reserva de cupo\, llamar al 4511-6520. 
URL:https://www.wingsguate.org/event/anticonceptivos-zunilito-suchitepequez-5/
CATEGORIES:English,Spanish
END:VEVENT
END:VCALENDAR