BEGIN:VCALENDAR
VERSION:2.0
PRODID:-//WINGS Guatemala - ECPv6.15.20//NONSGML v1.0//EN
CALSCALE:GREGORIAN
METHOD:PUBLISH
X-ORIGINAL-URL:https://www.wingsguate.org
X-WR-CALDESC:Events for WINGS Guatemala
REFRESH-INTERVAL;VALUE=DURATION:PT1H
X-Robots-Tag:noindex
X-PUBLISHED-TTL:PT1H
BEGIN:VTIMEZONE
TZID:UTC
BEGIN:STANDARD
TZOFFSETFROM:+0000
TZOFFSETTO:+0000
TZNAME:UTC
DTSTART:20210101T000000
END:STANDARD
END:VTIMEZONE
BEGIN:VEVENT
DTSTART;TZID=UTC:20220601T080000
DTEND;TZID=UTC:20220601T143000
DTSTAMP:20260421T111548
CREATED:20220528T002303Z
LAST-MODIFIED:20220528T002303Z
UID:8461-1654070400-1654093800@www.wingsguate.org
SUMMARY:Anticonceptivos – San Martín Jilotepeque (Chimaltenango)
DESCRIPTION:Servicios anticonceptivos en Asociación Hombres y Mujeres en acción\, Obras Sociales Aldea Santo Domingo\, San Martín Jilotepeque (Chimaltenango).  \nAnticonceptivos: Colocación de DIU (T de cobre) y Jadelle (implante hormonal).  \nTambién se ofrecerán pruebas de detección de cáncer cervical.  \nServicios gratuitos.  \nPara más información y reserva de cupo\, llamar al 4511-5525. 
URL:https://www.wingsguate.org/event/anticonceptivos-san-martin-jilotepeque-chimaltenango-9/
CATEGORIES:English,Spanish
END:VEVENT
BEGIN:VEVENT
DTSTART;TZID=UTC:20220601T080000
DTEND;TZID=UTC:20220601T143000
DTSTAMP:20260421T111548
CREATED:20220528T003034Z
LAST-MODIFIED:20220528T003034Z
UID:8469-1654070400-1654093800@www.wingsguate.org
SUMMARY:Anticonceptivos – Ciudad de Guatemala (Ciudad de Guatemala)
DESCRIPTION:Servicios anticonceptivos en Sede Pequeños Gigantes frente Plaza Madero Atanasio Tzul\, zona 12 (Ciudad de Guatemala).  \nAnticonceptivos: Colocación de DIU (T de cobre) y Jadelle (implante hormonal).  \nTambién se ofrecerán pruebas de detección de cáncer cervical.  \nServicios gratuitos.  \nPara más información y reserva de cupo\, llamar al 3003-1246. 
URL:https://www.wingsguate.org/event/anticonceptivos-ciudad-de-guatemala-ciudad-de-guatemala-8/
CATEGORIES:English,Spanish
END:VEVENT
BEGIN:VEVENT
DTSTART;TZID=UTC:20220601T080000
DTEND;TZID=UTC:20220601T143000
DTSTAMP:20260421T111548
CREATED:20220528T005144Z
LAST-MODIFIED:20220528T005144Z
UID:8491-1654070400-1654093800@www.wingsguate.org
SUMMARY:Operaciones – Ciudad de Guatemala (Ciudad de Guatemala)
DESCRIPTION:Jornada de operaciones para mujer en la 39 calle 31-89\, zona 7 El Amparo II Ciudad de Guatemala (Ciudad de Guatemala).  \nOperaciones (para no tener más hijos): Ligaduras de trompas y vasectomías.  \nServicios Gratuitos \nPara más información y reserva de cupo\, llamar al 3003-1246. 
URL:https://www.wingsguate.org/event/operaciones-ciudad-de-guatemala-ciudad-de-guatemala-5/
CATEGORIES:English,Spanish
END:VEVENT
END:VCALENDAR