BEGIN:VCALENDAR
VERSION:2.0
PRODID:-//WINGS Guatemala - ECPv6.15.20//NONSGML v1.0//EN
CALSCALE:GREGORIAN
METHOD:PUBLISH
X-WR-CALNAME:WINGS Guatemala
X-ORIGINAL-URL:https://www.wingsguate.org
X-WR-CALDESC:Events for WINGS Guatemala
REFRESH-INTERVAL;VALUE=DURATION:PT1H
X-Robots-Tag:noindex
X-PUBLISHED-TTL:PT1H
BEGIN:VTIMEZONE
TZID:UTC
BEGIN:STANDARD
TZOFFSETFROM:+0000
TZOFFSETTO:+0000
TZNAME:UTC
DTSTART:20210101T000000
END:STANDARD
END:VTIMEZONE
BEGIN:VEVENT
DTSTART;TZID=UTC:20220516T080000
DTEND;TZID=UTC:20220516T140000
DTSTAMP:20260422T014012
CREATED:20220512T213523Z
LAST-MODIFIED:20220512T213523Z
UID:8273-1652688000-1652709600@www.wingsguate.org
SUMMARY:Anticonceptivos – San Juan Alotenango (Sacatepéquez)
DESCRIPTION:Servicios anticonceptivos en la Dirección Municipal de la Mujer\, San Juan Alotenango (Sacatepéquez).  \nAnticonceptivos: Colocación de DIU (T de cobre) y Jadelle (implante hormonal).  \nTambién se ofrecerán pruebas de detección de cáncer cervical.  \nServicios gratuitos.  \nPara más información y reserva de cupo\, llamar al 4511-3527. 
URL:https://www.wingsguate.org/event/anticonceptivos-san-juan-alotenango-sacatepequez-12/
CATEGORIES:English,Spanish
END:VEVENT
BEGIN:VEVENT
DTSTART;TZID=UTC:20220516T080000
DTEND;TZID=UTC:20220516T140000
DTSTAMP:20260422T014012
CREATED:20220512T233355Z
LAST-MODIFIED:20220512T233355Z
UID:8285-1652688000-1652709600@www.wingsguate.org
SUMMARY:Anticonceptivos – San Juan Amatitlán (Ciudad de Guatemala)
DESCRIPTION:Servicios anticonceptivos en la Dirección Municipal de la Mujer de San Juan Amatitlán (Ciudad de Guatemala).  \nAnticonceptivos: Colocación de DIU (T de cobre) y Jadelle (implante hormonal).  \nTambién se ofrecerán pruebas de detección de cáncer cervical.  \nServicios gratuitos.  \nPara más información y reserva de cupo\, llamar al 3003-1246. 
URL:https://www.wingsguate.org/event/anticonceptivos-san-juan-amatitlan-ciudad-de-guatemala-2/
CATEGORIES:English,Spanish
END:VEVENT
BEGIN:VEVENT
DTSTART;TZID=UTC:20220516T080000
DTEND;TZID=UTC:20220516T140000
DTSTAMP:20260422T014012
CREATED:20220514T002705Z
LAST-MODIFIED:20220514T002705Z
UID:8307-1652688000-1652709600@www.wingsguate.org
SUMMARY:Anticonceptivos – Totonicapán (Totonicapán)
DESCRIPTION:Servicios anticonceptivos en el Centro de Salud de Totonicapán (Totonicapán).  \nAnticonceptivos: Colocación de DIU (T de cobre) y Jadelle (implante hormonal).  \nTambién se ofrecerán pruebas de detección de cáncer cervical.  \nServicios gratuitos.  \nPara más información y reserva de cupo\, llamar al 3227-4564. 
URL:https://www.wingsguate.org/event/anticonceptivos-totonicapan-totonicapan-33/
CATEGORIES:English,Spanish
END:VEVENT
END:VCALENDAR