BEGIN:VCALENDAR
VERSION:2.0
PRODID:-//WINGS Guatemala - ECPv6.15.20//NONSGML v1.0//EN
CALSCALE:GREGORIAN
METHOD:PUBLISH
X-WR-CALNAME:WINGS Guatemala
X-ORIGINAL-URL:https://www.wingsguate.org
X-WR-CALDESC:Events for WINGS Guatemala
REFRESH-INTERVAL;VALUE=DURATION:PT1H
X-Robots-Tag:noindex
X-PUBLISHED-TTL:PT1H
BEGIN:VTIMEZONE
TZID:UTC
BEGIN:STANDARD
TZOFFSETFROM:+0000
TZOFFSETTO:+0000
TZNAME:UTC
DTSTART:20210101T000000
END:STANDARD
END:VTIMEZONE
BEGIN:VEVENT
DTSTART;TZID=UTC:20220316T080000
DTEND;TZID=UTC:20220316T140000
DTSTAMP:20260422T023134
CREATED:20220305T021722Z
LAST-MODIFIED:20220305T021722Z
UID:7767-1647417600-1647439200@www.wingsguate.org
SUMMARY:Anticonceptivos – San Bartolomé Milpas Altas (Sacatepéquez)
DESCRIPTION:Servicios anticonceptivos en el Puesto de Salud de San Bartolomé Milpas Altas (Sacatepéquez).  \nAnticonceptivos: Colocación de DIU (T de cobre) y Jadelle (implante hormonal).  \nTambién se ofrecerán pruebas de detección de cáncer cervical.  \nServicios gratuitos.  \nPara más información y reserva de cupo\, llamar al 4511-5525. 
URL:https://www.wingsguate.org/event/anticonceptivos-san-bartolome-milpas-altas-sacatepequez-7/
CATEGORIES:English,Spanish
END:VEVENT
BEGIN:VEVENT
DTSTART;TZID=UTC:20220316T080000
DTEND;TZID=UTC:20220316T140000
DTSTAMP:20260422T023134
CREATED:20220305T022819Z
LAST-MODIFIED:20220305T022954Z
UID:7777-1647417600-1647439200@www.wingsguate.org
SUMMARY:Anticonceptivos – Río Bravo (Suchitepéquez)
DESCRIPTION:Servicios anticonceptivos en el Puesto de Salud Parcelamiento La Campecina\, Río Bravo (Suchitepéquez).  \nAnticonceptivos: Colocación de DIU (T de cobre) y Jadelle (implante hormonal).  \nTambién se ofrecerán pruebas de detección de cáncer cervical.  \nServicios gratuitos.  \nPara más información y reserva de cupo\, llamar al 4511-6520. 
URL:https://www.wingsguate.org/event/anticonceptivos-rio-bravo-suchitepequez-5/
CATEGORIES:English,Spanish
END:VEVENT
BEGIN:VEVENT
DTSTART;TZID=UTC:20220316T080000
DTEND;TZID=UTC:20220316T140000
DTSTAMP:20260422T023134
CREATED:20220305T022923Z
LAST-MODIFIED:20220305T022923Z
UID:7779-1647417600-1647439200@www.wingsguate.org
SUMMARY:Anticonceptivos – Cuyotenango (Suchitepéquez)
DESCRIPTION:Servicios anticonceptivos en el Centro de Atención Permanente de Cuyotenango (Suchitepéquez).  \nAnticonceptivos: Colocación de DIU (T de cobre) y Jadelle (implante hormonal).  \nTambién se ofrecerán pruebas de detección de cáncer cervical.  \nServicios gratuitos.  \nPara más información y reserva de cupo\, llamar al 4511-6520. 
URL:https://www.wingsguate.org/event/anticonceptivos-cuyotenango-suchitepequez-36/
CATEGORIES:English,Spanish
END:VEVENT
BEGIN:VEVENT
DTSTART;TZID=UTC:20220316T080000
DTEND;TZID=UTC:20220316T140000
DTSTAMP:20260422T023134
CREATED:20220305T025053Z
LAST-MODIFIED:20220305T025053Z
UID:7789-1647417600-1647439200@www.wingsguate.org
SUMMARY:Anticonceptivos – Huehuetenango (Huehuetenango)
DESCRIPTION:Servicios anticonceptivos en el Puesto de Salud\, Aldea Suculque\, Huehuetenango (Huehuetenango).  \nAnticonceptivos: Colocación de DIU (T de cobre) y Jadelle (implante hormonal).  \nTambién se ofrecerán pruebas de detección de cáncer cervical.  \nServicios gratuitos.  \nPara más información y reserva de cupo\, llamar al 3227-4564.
URL:https://www.wingsguate.org/event/anticonceptivos-huehuetenango-huehuetenango-41/
CATEGORIES:English,Spanish
END:VEVENT
BEGIN:VEVENT
DTSTART;TZID=UTC:20220316T080000
DTEND;TZID=UTC:20220316T140000
DTSTAMP:20260422T023134
CREATED:20220305T025137Z
LAST-MODIFIED:20220305T025137Z
UID:7791-1647417600-1647439200@www.wingsguate.org
SUMMARY:Anticonceptivos – Huehuetenango (Huehuetenango)
DESCRIPTION:Servicios anticonceptivos en Parteras zona 1\, Huehuetenango (Huehuetenango).  \nAnticonceptivos: Colocación de DIU (T de cobre) y Jadelle (implante hormonal).  \nTambién se ofrecerán pruebas de detección de cáncer cervical.  \nServicios gratuitos.  \nPara más información y reserva de cupo\, llamar al 3227-4564. 
URL:https://www.wingsguate.org/event/anticonceptivos-huehuetenango-huehuetenango-42/
CATEGORIES:English,Spanish
END:VEVENT
BEGIN:VEVENT
DTSTART;TZID=UTC:20220316T080000
DTEND;TZID=UTC:20220316T140000
DTSTAMP:20260422T023134
CREATED:20220308T225040Z
LAST-MODIFIED:20220308T225040Z
UID:7812-1647417600-1647439200@www.wingsguate.org
SUMMARY:Anticonceptivos – Villa Nueva (Ciudad de Guatemala)
DESCRIPTION:Servicios anticonceptivos en el Centro de Comercio de Villa Nueva (Ciudad de Guatemala).\nAnticonceptivos: Colocación de DIU (T de cobre) y Jadelle (implante hormonal). \n\n\nTambién se ofrecerán pruebas de detección de cáncer cervical.  \nServicios gratuitos.  \nPara más información y reserva de cupo\, llamar al 4511-3527. 
URL:https://www.wingsguate.org/event/anticonceptivos-villa-nueva-ciudad-de-guatemala-13/
CATEGORIES:English,Spanish
END:VEVENT
BEGIN:VEVENT
DTSTART;TZID=UTC:20220316T080000
DTEND;TZID=UTC:20220316T140000
DTSTAMP:20260422T023134
CREATED:20220308T225513Z
LAST-MODIFIED:20220308T225533Z
UID:7814-1647417600-1647439200@www.wingsguate.org
SUMMARY:Operaciones – Cuilapa (Santa Rosa)
DESCRIPTION:Jornada de operaciones para hombre y mujer en Centro de Atención Permanente (CAP)\, Cuilapa (Santa Rosa).  \n Operaciones (para no tener más hijos): Ligaduras de trompas y vasectomías.  \nJORNADA GRATUITA.  \n\nPara más información y reserva de cupo\, llamar al 4511-3527. 
URL:https://www.wingsguate.org/event/operaciones-cuilapa-santa-rosa-16/
CATEGORIES:English,Spanish
END:VEVENT
END:VCALENDAR