BEGIN:VCALENDAR
VERSION:2.0
PRODID:-//WINGS Guatemala - ECPv6.15.20//NONSGML v1.0//EN
CALSCALE:GREGORIAN
METHOD:PUBLISH
X-WR-CALNAME:WINGS Guatemala
X-ORIGINAL-URL:https://www.wingsguate.org
X-WR-CALDESC:Events for WINGS Guatemala
REFRESH-INTERVAL;VALUE=DURATION:PT1H
X-Robots-Tag:noindex
X-PUBLISHED-TTL:PT1H
BEGIN:VTIMEZONE
TZID:UTC
BEGIN:STANDARD
TZOFFSETFROM:+0000
TZOFFSETTO:+0000
TZNAME:UTC
DTSTART:20210101T000000
END:STANDARD
END:VTIMEZONE
BEGIN:VEVENT
DTSTART;TZID=UTC:20220211T080000
DTEND;TZID=UTC:20220211T140000
DTSTAMP:20260422T022502
CREATED:20220128T232352Z
LAST-MODIFIED:20220128T232352Z
UID:7437-1644566400-1644588000@www.wingsguate.org
SUMMARY:Anticonceptivos – San Pedro Carchá (Alta Verapaz)
DESCRIPTION:Servicios anticonceptivos en el Centro Comunitario Sequixquib\, San Pedro Carchá (Alta Verapaz).  \nAnticonceptivos: Colocación de DIU (T de cobre) y Jadelle (implante hormonal).  \nTambién se ofrecerán pruebas de detección de cáncer cervical.  \nServicios gratuitos.  \nPara más información y reserva de cupo\, llamar al 3227-1513. 
URL:https://www.wingsguate.org/event/anticonceptivos-san-pedro-carcha-alta-verapaz-47/
CATEGORIES:English,Spanish
END:VEVENT
BEGIN:VEVENT
DTSTART;TZID=UTC:20220211T080000
DTEND;TZID=UTC:20220211T140000
DTSTAMP:20260422T022502
CREATED:20220129T002016Z
LAST-MODIFIED:20220129T002016Z
UID:7483-1644566400-1644588000@www.wingsguate.org
SUMMARY:Anticonceptivos – Patzicia (Chimaltenango)
DESCRIPTION:Servicios anticonceptivos en el Puesto de Salud Aldea El Caman\, Patzicia (Chimaltenango).\nAnticonceptivos: Colocación de DIU (T de cobre) y Jadelle (implante hormonal). \n\n\nTambién se ofrecerán pruebas de detección de cáncer cervical.  \nServicios gratuitos.  \nPara más información y reserva de cupo\, llamar al 4511-5525. 
URL:https://www.wingsguate.org/event/anticonceptivos-patzicia-chimaltenango-21/
CATEGORIES:English,Spanish
END:VEVENT
BEGIN:VEVENT
DTSTART;TZID=UTC:20220211T080000
DTEND;TZID=UTC:20220211T140000
DTSTAMP:20260422T022502
CREATED:20220201T043353Z
LAST-MODIFIED:20220201T043353Z
UID:7556-1644566400-1644588000@www.wingsguate.org
SUMMARY:Anticonceptivos – San Pedro Sacatepéquez (San Marcos)
DESCRIPTION:Servicios anticonceptivos en el Centro de Salud de San Pedro Sacatepéquez (San Marcos).  \nAnticonceptivos: Colocación de DIU (T de cobre) y Jadelle (implante hormonal).  \nTambién se ofrecerán pruebas de detección de cáncer cervical.  \nServicios gratuitos.  \nPara más información y reserva de cupo\, llamar al 4511-7490. 
URL:https://www.wingsguate.org/event/anticonceptivos-san-pedro-sacatepequez-san-marcos-13/
CATEGORIES:English,Spanish
END:VEVENT
BEGIN:VEVENT
DTSTART;TZID=UTC:20220211T080000
DTEND;TZID=UTC:20220211T140000
DTSTAMP:20260422T022502
CREATED:20220201T043537Z
LAST-MODIFIED:20220201T043537Z
UID:7558-1644566400-1644588000@www.wingsguate.org
SUMMARY:Anticonceptivos – Río Blanco (San Marcos)
DESCRIPTION:Servicios anticonceptivos en el Puesto de Salud Río Blanco (San Marcos).  \nAnticonceptivos: Colocación de DIU (T de cobre) y Jadelle (implante hormonal).  \nTambién se ofrecerán pruebas de detección de cáncer cervical.  \nServicios gratuitos.  \nPara más información y reserva de cupo\, llamar al 4511-7490. 
URL:https://www.wingsguate.org/event/anticonceptivos-rio-blanco-san-marcos-2/
CATEGORIES:English,Spanish
END:VEVENT
BEGIN:VEVENT
DTSTART;TZID=UTC:20220211T080000
DTEND;TZID=UTC:20220211T140000
DTSTAMP:20260422T022502
CREATED:20220201T044208Z
LAST-MODIFIED:20220201T044208Z
UID:7568-1644566400-1644588000@www.wingsguate.org
SUMMARY:Anticonceptivos – Santo Tomás La Unión (Suchitepéquez)
DESCRIPTION:Servicios anticonceptivos en el Centro de Salud Santo Tomás de La Unión (Suchitepéquez).  \nAnticonceptivos: Colocación de DIU (T de cobre) y Jadelle (implante hormonal).  \nTambién se ofrecerán pruebas de detección de cáncer cervical.  \nServicios gratuitos.  \nPara más información y reserva de cupo\, llamar al 4511-6520. 
URL:https://www.wingsguate.org/event/anticonceptivos-santo-tomas-la-union-suchitepequez/
CATEGORIES:English,Spanish
END:VEVENT
BEGIN:VEVENT
DTSTART;TZID=UTC:20220211T080000
DTEND;TZID=UTC:20220211T140000
DTSTAMP:20260422T022502
CREATED:20220201T044332Z
LAST-MODIFIED:20220201T044332Z
UID:7570-1644566400-1644588000@www.wingsguate.org
SUMMARY:Anticonceptivos – Chicacao (Suchitepéquez)
DESCRIPTION:Servicios anticonceptivos en el Puesto de Salud San Juan Mocá\, Chicacao (Suchitepéquez).  \nAnticonceptivos: Colocación de DIU (T de cobre) y Jadelle (implante hormonal).  \nTambién se ofrecerán pruebas de detección de cáncer cervical.  \nServicios gratuitos.  \nPara más información y reserva de cupo\, llamar al 4511-6520. 
URL:https://www.wingsguate.org/event/anticonceptivos-chicacao-suchitepequez/
CATEGORIES:English,Spanish
END:VEVENT
END:VCALENDAR