BEGIN:VCALENDAR
VERSION:2.0
PRODID:-//WINGS Guatemala - ECPv6.15.20//NONSGML v1.0//EN
CALSCALE:GREGORIAN
METHOD:PUBLISH
X-WR-CALNAME:WINGS Guatemala
X-ORIGINAL-URL:https://www.wingsguate.org
X-WR-CALDESC:Events for WINGS Guatemala
REFRESH-INTERVAL;VALUE=DURATION:PT1H
X-Robots-Tag:noindex
X-PUBLISHED-TTL:PT1H
BEGIN:VTIMEZONE
TZID:UTC
BEGIN:STANDARD
TZOFFSETFROM:+0000
TZOFFSETTO:+0000
TZNAME:UTC
DTSTART:20210101T000000
END:STANDARD
END:VTIMEZONE
BEGIN:VEVENT
DTSTART;TZID=UTC:20220204T080000
DTEND;TZID=UTC:20220204T140000
DTSTAMP:20260423T110707
CREATED:20220128T231040Z
LAST-MODIFIED:20220128T231040Z
UID:7423-1643961600-1643983200@www.wingsguate.org
SUMMARY:Anticonceptivos – San Miguel Chicaj (Baja Verapaz)
DESCRIPTION:Servicios anticonceptivos en el Centro de Atención Permanente de San Miguel Chicaj (BajaVerapaz).  \nAnticonceptivos: Colocación de DIU (T de cobre) y Jadelle (implante hormonal).  \nTambién se ofrecerán pruebas de detección de cáncer cervical.  \nServicios gratuitos.  \nPara más información y reserva de cupo\, llamar al 3227-1513. 
URL:https://www.wingsguate.org/event/anticonceptivos-san-miguel-chicaj-baja-verapaz/
CATEGORIES:English,Spanish
END:VEVENT
BEGIN:VEVENT
DTSTART;TZID=UTC:20220204T080000
DTEND;TZID=UTC:20220204T140000
DTSTAMP:20260423T110707
CREATED:20220129T001618Z
LAST-MODIFIED:20220129T001618Z
UID:7476-1643961600-1643983200@www.wingsguate.org
SUMMARY:Anticonceptivos – Zaragoza (Chimaltenango)
DESCRIPTION:Servicios anticonceptivos en la Casa Rosmery 1av 4-29 zona 4\, Zaragoza (Chimaltenango).\nAnticonceptivos: Colocación de DIU (T de cobre) y Jadelle (implante hormonal). \n\n\nTambién se ofrecerán pruebas de detección de cáncer cervical.  \nServicios gratuitos.  \nPara más información y reserva de cupo\, llamar al 4511-5525. 
URL:https://www.wingsguate.org/event/anticonceptivos-zaragoza-chimaltenango-10/
CATEGORIES:English,Spanish
END:VEVENT
BEGIN:VEVENT
DTSTART;TZID=UTC:20220204T080000
DTEND;TZID=UTC:20220204T140000
DTSTAMP:20260423T110707
CREATED:20220201T041258Z
LAST-MODIFIED:20220201T041258Z
UID:7536-1643961600-1643983200@www.wingsguate.org
SUMMARY:Anticonceptivos – Quetzaltenango (Quetzaltenango)
DESCRIPTION:Servicios anticonceptivos en el Puesto de Salud Pacajá\, Quetzaltenango (Quetzaltenango).  \nAnticonceptivos: Colocación de DIU (T de cobre) y Jadelle (implante hormonal).  \nTambién se ofrecerán pruebas de detección de cáncer cervical.  \nServicios gratuitos.  \nPara más información y reserva de cupo\, llamar al 4511-7490. 
URL:https://www.wingsguate.org/event/anticonceptivos-quetzaltenango-quetzaltenango-69/
CATEGORIES:English,Spanish
END:VEVENT
END:VCALENDAR