BEGIN:VCALENDAR
VERSION:2.0
PRODID:-//WINGS Guatemala - ECPv6.15.20//NONSGML v1.0//EN
CALSCALE:GREGORIAN
METHOD:PUBLISH
X-WR-CALNAME:WINGS Guatemala
X-ORIGINAL-URL:https://www.wingsguate.org
X-WR-CALDESC:Events for WINGS Guatemala
REFRESH-INTERVAL;VALUE=DURATION:PT1H
X-Robots-Tag:noindex
X-PUBLISHED-TTL:PT1H
BEGIN:VTIMEZONE
TZID:UTC
BEGIN:STANDARD
TZOFFSETFROM:+0000
TZOFFSETTO:+0000
TZNAME:UTC
DTSTART:20200101T000000
END:STANDARD
END:VTIMEZONE
BEGIN:VEVENT
DTSTART;TZID=UTC:20210504T080000
DTEND;TZID=UTC:20210504T123000
DTSTAMP:20260424T061115
CREATED:20210423T231550Z
LAST-MODIFIED:20210423T231550Z
UID:5301-1620115200-1620131400@www.wingsguate.org
SUMMARY:Anticonceptivos – Chimaltenango (Chimaltenango)
DESCRIPTION:Servicios anticonceptivos en SOSEA Chimaltenango (Chimaltenango).  \nAnticonceptivos: Colocación de DIU (T de cobre) y Jadelle (implante hormonal).  \nTambién se ofrecerán pruebas de detección de cáncer cervical.  \nServicios gratuitos.  \nPara más información y reserva de cupo\, llamar al 4511-5525. 
URL:https://www.wingsguate.org/event/anticonceptivos-chimaltenango-chimaltenango-12/
CATEGORIES:English,Spanish
END:VEVENT
BEGIN:VEVENT
DTSTART;TZID=UTC:20210504T080000
DTEND;TZID=UTC:20210504T123000
DTSTAMP:20260424T061115
CREATED:20210504T220514Z
LAST-MODIFIED:20210504T220715Z
UID:5380-1620115200-1620131400@www.wingsguate.org
SUMMARY:Anticonceptivos – San Juan Ostuncalco (Quetzaltenango)
DESCRIPTION:Servicios anticonceptivos en el Puesto de Salud de Aldea Monrovia\, San Juan Ostuncalco (Quetzaltenango).  \nAnticonceptivos: Colocación de DIU (T de cobre) y Jadelle (implante hormonal).  \nTambién se ofrecerán pruebas de detección de cáncer cervical.  \nServicios gratuitos.  \nPara más información y reserva de cupo\, llamar al 4511-7490. 
URL:https://www.wingsguate.org/event/anticonceptivos-san-juan-ostuncalco-quetzaltenango/
CATEGORIES:English,Spanish
END:VEVENT
BEGIN:VEVENT
DTSTART;TZID=UTC:20210504T080000
DTEND;TZID=UTC:20210504T123000
DTSTAMP:20260424T061115
CREATED:20210504T225324Z
LAST-MODIFIED:20210504T225324Z
UID:5414-1620115200-1620131400@www.wingsguate.org
SUMMARY:Anticonceptivos – Huehuetenango (Huehuetenango)
DESCRIPTION:Servicios anticonceptivos en el Puesto de Salud de Aldea Gracias a Dios Nentón\, Huehuetenango (Huehuetenango).  \nAnticonceptivos: Colocación de DIU (T de cobre) y Jadelle (implante hormonal).  \nTambién se ofrecerán pruebas de detección de cáncer cervical.  \nServicios gratuitos.  \nPara más información y reserva de cupo\, llamar al 3227-4564. 
URL:https://www.wingsguate.org/event/anticonceptivos-huehuetenango-huehuetenango-23/
CATEGORIES:English,Spanish
END:VEVENT
BEGIN:VEVENT
DTSTART;TZID=UTC:20210504T080000
DTEND;TZID=UTC:20210504T123000
DTSTAMP:20260424T061115
CREATED:20210505T031843Z
LAST-MODIFIED:20210505T031959Z
UID:5444-1620115200-1620131400@www.wingsguate.org
SUMMARY:Anticonceptivos – Patzún (Chimaltenango)
DESCRIPTION:Servicios anticonceptivos en el Puesto de Salud de Aldea el Sitio\, Patzún (Chimaltenango).  \nAnticonceptivos: Colocación de DIU (T de cobre) y Jadelle (implante hormonal).  \nTambién se ofrecerán pruebas de detección de cáncer cervical.  \nServicios gratuitos.  \nPara más información y reserva de cupo\, llamar al 3226-7744. 
URL:https://www.wingsguate.org/event/anticonceptivos-patzun-chimaltenango-17/
CATEGORIES:English,Spanish
END:VEVENT
END:VCALENDAR