BEGIN:VCALENDAR
VERSION:2.0
PRODID:-//WINGS Guatemala - ECPv6.15.20//NONSGML v1.0//EN
CALSCALE:GREGORIAN
METHOD:PUBLISH
X-ORIGINAL-URL:https://www.wingsguate.org
X-WR-CALDESC:Events for WINGS Guatemala
REFRESH-INTERVAL;VALUE=DURATION:PT1H
X-Robots-Tag:noindex
X-PUBLISHED-TTL:PT1H
BEGIN:VTIMEZONE
TZID:UTC
BEGIN:STANDARD
TZOFFSETFROM:+0000
TZOFFSETTO:+0000
TZNAME:UTC
DTSTART:20190101T000000
END:STANDARD
END:VTIMEZONE
BEGIN:VEVENT
DTSTART;TZID=UTC:20201221T080000
DTEND;TZID=UTC:20201221T130000
DTSTAMP:20260419T142113
CREATED:20201121T090258Z
LAST-MODIFIED:20201121T090258Z
UID:4337-1608537600-1608555600@www.wingsguate.org
SUMMARY:Anticonceptivos – Tecpán (Chimaltenango)
DESCRIPTION:Servicios anticonceptivos en el Centro de Salud de Tecpán (Chimaltenango).  \nAnticonceptivos: Colocación de DIU (T de cobre) y Jadelle (implante hormonal).  \nTambién se ofrecerán pruebas de detección de cáncer cervical.  \nServicios gratuitos.  \nPara más información y reserva de cupo\, llamar al 4511-5525. 
URL:https://www.wingsguate.org/event/anticonceptivos-tecpan-chimaltenango-24/
CATEGORIES:English,Spanish
END:VEVENT
END:VCALENDAR