BEGIN:VCALENDAR
VERSION:2.0
PRODID:-//WINGS Guatemala - ECPv6.15.20//NONSGML v1.0//EN
CALSCALE:GREGORIAN
METHOD:PUBLISH
X-WR-CALNAME:WINGS Guatemala
X-ORIGINAL-URL:https://www.wingsguate.org
X-WR-CALDESC:Events for WINGS Guatemala
REFRESH-INTERVAL;VALUE=DURATION:PT1H
X-Robots-Tag:noindex
X-PUBLISHED-TTL:PT1H
BEGIN:VTIMEZONE
TZID:UTC
BEGIN:STANDARD
TZOFFSETFROM:+0000
TZOFFSETTO:+0000
TZNAME:UTC
DTSTART:20190101T000000
END:STANDARD
END:VTIMEZONE
BEGIN:VEVENT
DTSTART;TZID=UTC:20201125T080000
DTEND;TZID=UTC:20201125T130000
DTSTAMP:20260420T150147
CREATED:20201104T103514Z
LAST-MODIFIED:20201104T103514Z
UID:4235-1606291200-1606309200@www.wingsguate.org
SUMMARY:Anticonceptivos – La Nueva Concepción (Escuintla)
DESCRIPTION:Servicios anticonceptivos en la Escuela de Canoguitas\, La Nueva Concepción (Escuintla).  \nAnticonceptivos: Colocación de DIU (T de cobre) y Jadelle (implante hormonal).  \nTambién se ofrecerán pruebas de detección de cáncer cervical.  \nServicios gratuitos.  \nPara más información y reserva de cupo\, llamar al 4511-5327. 
URL:https://www.wingsguate.org/event/anticonceptivos-la-nueva-concepcion-escuintla-9/
CATEGORIES:English,Spanish
END:VEVENT
BEGIN:VEVENT
DTSTART;TZID=UTC:20201125T080000
DTEND;TZID=UTC:20201125T130000
DTSTAMP:20260420T150147
CREATED:20201104T103736Z
LAST-MODIFIED:20201104T103736Z
UID:4237-1606291200-1606309200@www.wingsguate.org
SUMMARY:Anticonceptivos – Huehuetenango (Huehuetenango)
DESCRIPTION:Servicios anticonceptivos en el Puesto de Salud San Lorenzo\, Huehuetenango (Huehuetenango).  \nAnticonceptivos: Colocación de DIU (T de cobre) y Jadelle (implante hormonal).  \nTambién se ofrecerán pruebas de detección de cáncer cervical.  \nServicios gratuitos.  \nPara más información y reserva de cupo\, llamar al 3227-4564. 
URL:https://www.wingsguate.org/event/anticonceptivos-huehuetenango-huehuetenango-15/
CATEGORIES:English,Spanish
END:VEVENT
BEGIN:VEVENT
DTSTART;TZID=UTC:20201125T080000
DTEND;TZID=UTC:20201125T130000
DTSTAMP:20260420T150147
CREATED:20201104T104025Z
LAST-MODIFIED:20201104T104025Z
UID:4239-1606291200-1606309200@www.wingsguate.org
SUMMARY:Anticonceptivos – Santa Cruz Verapaz (Alta Verapaz)
DESCRIPTION:Servicios anticonceptivos en el Centro de Salud de Santa Cruz Verapaz (Alta Verapaz).  \nAnticonceptivos: Colocación de DIU (T de cobre) y Jadelle (implante hormonal).  \nTambién se ofrecerán pruebas de detección de cáncer cervical.  \nServicios gratuitos.  \nPara más información y reserva de cupo\, llamar al 4511-7279. 
URL:https://www.wingsguate.org/event/anticonceptivos-santa-cruz-verapaz-alta-verapaz-16/
CATEGORIES:English,Spanish
END:VEVENT
END:VCALENDAR