BEGIN:VCALENDAR
VERSION:2.0
PRODID:-//WINGS Guatemala - ECPv6.15.20//NONSGML v1.0//EN
CALSCALE:GREGORIAN
METHOD:PUBLISH
X-WR-CALNAME:WINGS Guatemala
X-ORIGINAL-URL:https://www.wingsguate.org
X-WR-CALDESC:Events for WINGS Guatemala
REFRESH-INTERVAL;VALUE=DURATION:PT1H
X-Robots-Tag:noindex
X-PUBLISHED-TTL:PT1H
BEGIN:VTIMEZONE
TZID:UTC
BEGIN:STANDARD
TZOFFSETFROM:+0000
TZOFFSETTO:+0000
TZNAME:UTC
DTSTART:20190101T000000
END:STANDARD
END:VTIMEZONE
BEGIN:VEVENT
DTSTART;TZID=UTC:20201124T080000
DTEND;TZID=UTC:20201124T130000
DTSTAMP:20260424T094025
CREATED:20201103T112105Z
LAST-MODIFIED:20201103T112105Z
UID:4227-1606204800-1606222800@www.wingsguate.org
SUMMARY:Anticonceptivos – Ocubilá (Huehuetenango)
DESCRIPTION:Servicios anticonceptivos en el Puesto de Salud de Ocubilá (Huehuetenango).  \nAnticonceptivos: Colocación de DIU (T de cobre) y Jadelle (implante hormonal).  \nTambién se ofrecerán pruebas de detección de cáncer cervical.  \nServicios gratuitos.  \nPara más información y reserva de cupo\, llamar al 3227-4564. 
URL:https://www.wingsguate.org/event/anticonceptivos-ocubila-huehuetenango/
CATEGORIES:English,Spanish
END:VEVENT
BEGIN:VEVENT
DTSTART;TZID=UTC:20201124T080000
DTEND;TZID=UTC:20201124T130000
DTSTAMP:20260424T094025
CREATED:20201103T112227Z
LAST-MODIFIED:20201104T104739Z
UID:4229-1606204800-1606222800@www.wingsguate.org
SUMMARY:Anticonceptivos – Chimaltenango (Chimaltenango)
DESCRIPTION:Servicios anticonceptivos en la Clínica Alpha Medic\, Chimaltenango (Chimaltenango).  \nAnticonceptivos: Colocación de DIU (T de cobre) y Jadelle (implante hormonal).  \nTambién se ofrecerán pruebas de detección de cáncer cervical.  \nServicios gratuitos.  \nPara más información y reserva de cupo\, llamar al 4511-5525. 
URL:https://www.wingsguate.org/event/anticonceptivos-chimaltenangochimaltenango/
CATEGORIES:English,Spanish
END:VEVENT
BEGIN:VEVENT
DTSTART;TZID=UTC:20201124T080000
DTEND;TZID=UTC:20201124T133000
DTSTAMP:20260424T094025
CREATED:20201103T111950Z
LAST-MODIFIED:20201103T111950Z
UID:4225-1606204800-1606224600@www.wingsguate.org
SUMMARY:Anticonceptivos – Samayac (Suchitepéquez)
DESCRIPTION:Servicios anticonceptivos en la Clínica Municipal de la Mujer de Samayac (Suchitepéquez).  \nAnticonceptivos: Colocación de DIU (T de cobre) y Jadelle (implante hormonal).  \nTambién se ofrecerán pruebas de detección de cáncer cervical.  \nServicios gratuitos.  \nPara más información y reserva de cupo\, llamar al 4511-6520. 
URL:https://www.wingsguate.org/event/anticonceptivos-samayac-suchitepequez-2/
CATEGORIES:English,Spanish
END:VEVENT
END:VCALENDAR