BEGIN:VCALENDAR
VERSION:2.0
PRODID:-//WINGS Guatemala - ECPv6.15.20//NONSGML v1.0//EN
CALSCALE:GREGORIAN
METHOD:PUBLISH
X-WR-CALNAME:WINGS Guatemala
X-ORIGINAL-URL:https://www.wingsguate.org
X-WR-CALDESC:Events for WINGS Guatemala
REFRESH-INTERVAL;VALUE=DURATION:PT1H
X-Robots-Tag:noindex
X-PUBLISHED-TTL:PT1H
BEGIN:VTIMEZONE
TZID:UTC
BEGIN:STANDARD
TZOFFSETFROM:+0000
TZOFFSETTO:+0000
TZNAME:UTC
DTSTART:20190101T000000
END:STANDARD
END:VTIMEZONE
BEGIN:VEVENT
DTSTART;TZID=UTC:20201112T080000
DTEND;TZID=UTC:20201112T130000
DTSTAMP:20260421T193822
CREATED:20201030T113219Z
LAST-MODIFIED:20201030T113219Z
UID:4154-1605168000-1605186000@www.wingsguate.org
SUMMARY:Anticonceptivos – Quetzaltenango (Quetzaltenango)
DESCRIPTION:Servicios anticonceptivos en el Puesto de Salud Chiquilaja\, Quetzaltenango (Quetzaltenango).  \nAnticonceptivos: Colocación de DIU (T de cobre) y Jadelle (implante hormonal).  \nTambién se ofrecerán pruebas de detección de cáncer cervical.  \nServicios gratuitos.  \nPara más información y reserva de cupo\, llamar al 4511-7490. 
URL:https://www.wingsguate.org/event/anticonceptivos-quetzaltenango-quetzaltenango-23/
CATEGORIES:English,Spanish
END:VEVENT
BEGIN:VEVENT
DTSTART;TZID=UTC:20201112T080000
DTEND;TZID=UTC:20201112T130000
DTSTAMP:20260421T193822
CREATED:20201030T113438Z
LAST-MODIFIED:20201104T085749Z
UID:4156-1605168000-1605186000@www.wingsguate.org
SUMMARY:Anticonceptivos – Tactic (Alta Verapaz)
DESCRIPTION:Servicios anticonceptivos en el Puesto de Salud Chaí\, Tactic (Alta Verapaz) \nAnticonceptivos: Colocación de DIU (T de cobre) y Jadelle (implante hormonal).  \nTambién se ofrecerán pruebas de detección de cáncer cervical.  \nServicios gratuitos.  \nPara más información y reserva de cupo\, llamar al 4511-7279. 
URL:https://www.wingsguate.org/event/anticonceptivos-san-pedro-carcha-alta-verapaz-12/
CATEGORIES:English,Spanish
END:VEVENT
BEGIN:VEVENT
DTSTART;TZID=UTC:20201112T080000
DTEND;TZID=UTC:20201112T130000
DTSTAMP:20260421T193822
CREATED:20201030T113620Z
LAST-MODIFIED:20201030T113620Z
UID:4158-1605168000-1605186000@www.wingsguate.org
SUMMARY:Anticonceptivos – Huehuetenango (Huehuetenango)
DESCRIPTION:Servicios anticonceptivos en el Puesto de Salud Ocubilá\, Huehuetenango (Huehuetenango).  \nAnticonceptivos: Colocación de DIU (T de cobre) y Jadelle (implante hormonal).  \nTambién se ofrecerán pruebas de detección de cáncer cervical.  \nServicios gratuitos.  \nPara más información y reserva de cupo\, llamar al 3227-4564. 
URL:https://www.wingsguate.org/event/anticonceptivos-huehuetenango-huehuetenango-12/
CATEGORIES:English,Spanish
END:VEVENT
BEGIN:VEVENT
DTSTART;TZID=UTC:20201112T080000
DTEND;TZID=UTC:20201112T130000
DTSTAMP:20260421T193822
CREATED:20201030T113824Z
LAST-MODIFIED:20201030T113824Z
UID:4160-1605168000-1605186000@www.wingsguate.org
SUMMARY:Anticonceptivos – Momostenango (Totonicapán)
DESCRIPTION:Servicios anticonceptivos en la Clínica Chocruz Pamumus\, Momostenango (Totonicapán).  \nAnticonceptivos: Colocación de DIU (T de cobre) y Jadelle (implante hormonal).  \nTambién se ofrecerán pruebas de detección de cáncer cervical.  \nServicios gratuitos.  \nPara más información y reserva de cupo\, llamar al 4511-7490. 
URL:https://www.wingsguate.org/event/anticonceptivos-momostenango-totonicapan-2/
CATEGORIES:English,Spanish
END:VEVENT
BEGIN:VEVENT
DTSTART;TZID=UTC:20201112T080000
DTEND;TZID=UTC:20201112T133000
DTSTAMP:20260421T193822
CREATED:20201030T112856Z
LAST-MODIFIED:20201030T112856Z
UID:4152-1605168000-1605187800@www.wingsguate.org
SUMMARY:Anticonceptivos – Retalhuleu (Retalhuleu)
DESCRIPTION:Servicios anticonceptivos en la Clínica de APEVIHS zona 1\,  Retalhuleu (Retalhuleu).  \nAnticonceptivos: Colocación de DIU (T de cobre) y Jadelle (implante hormonal).  \nTambién se ofrecerán pruebas de detección de cáncer cervical.  \nServicios gratuitos.  \nPara más información y reserva de cupo\, llamar al 3227-7895. 
URL:https://www.wingsguate.org/event/anticonceptivos-retalhuleu-retalhuleu-5/
CATEGORIES:English,Spanish
END:VEVENT
END:VCALENDAR