BEGIN:VCALENDAR
VERSION:2.0
PRODID:-//WINGS Guatemala - ECPv6.15.20//NONSGML v1.0//EN
CALSCALE:GREGORIAN
METHOD:PUBLISH
X-WR-CALNAME:WINGS Guatemala
X-ORIGINAL-URL:https://www.wingsguate.org
X-WR-CALDESC:Events for WINGS Guatemala
REFRESH-INTERVAL;VALUE=DURATION:PT1H
X-Robots-Tag:noindex
X-PUBLISHED-TTL:PT1H
BEGIN:VTIMEZONE
TZID:UTC
BEGIN:STANDARD
TZOFFSETFROM:+0000
TZOFFSETTO:+0000
TZNAME:UTC
DTSTART:20190101T000000
END:STANDARD
END:VTIMEZONE
BEGIN:VEVENT
DTSTART;TZID=UTC:20201111T080000
DTEND;TZID=UTC:20201111T130000
DTSTAMP:20260422T155351
CREATED:20201030T111541Z
LAST-MODIFIED:20201030T111541Z
UID:4142-1605081600-1605099600@www.wingsguate.org
SUMMARY:Anticonceptivos – San Bartolomé Milpas Altas (Sacatepéquez)
DESCRIPTION:Servicios anticonceptivos en el Puesto de Salud de San Bartolomé Milpas Altas (Sacatepéquez).  \nAnticonceptivos: Colocación de DIU (T de cobre) y Jadelle (implante hormonal).  \nTambién se ofrecerán pruebas de detección de cáncer cervical.  \nServicios gratuitos.  \nPara más información y reserva de cupo\, llamar al 4511-5525. 
URL:https://www.wingsguate.org/event/anticonceptivos-san-bartolome-milpas-altas-sacatepequez-2/
CATEGORIES:English,Spanish
END:VEVENT
BEGIN:VEVENT
DTSTART;TZID=UTC:20201111T080000
DTEND;TZID=UTC:20201111T130000
DTSTAMP:20260422T155351
CREATED:20201030T111820Z
LAST-MODIFIED:20201030T111820Z
UID:4144-1605081600-1605099600@www.wingsguate.org
SUMMARY:Anticonceptivos – Huehuetenango (Huehuetenango)
DESCRIPTION:Servicios anticonceptivos en el Puesto de Salud Ojechejel\, Huehuetenango (Huehuetenango).  \nAnticonceptivos: Colocación de DIU (T de cobre) y Jadelle (implante hormonal).  \nTambién se ofrecerán pruebas de detección de cáncer cervical.  \nServicios gratuitos.  \nPara más información y reserva de cupo\, llamar al 3227-4564. 
URL:https://www.wingsguate.org/event/anticonceptivos-huehuetenango-huehuetenango-11/
CATEGORIES:English,Spanish
END:VEVENT
BEGIN:VEVENT
DTSTART;TZID=UTC:20201111T080000
DTEND;TZID=UTC:20201111T130000
DTSTAMP:20260422T155351
CREATED:20201030T112040Z
LAST-MODIFIED:20201030T112040Z
UID:4146-1605081600-1605099600@www.wingsguate.org
SUMMARY:Anticonceptivos – Momostenango (Totonicapán)
DESCRIPTION:Servicios anticonceptivos en el CAIMI de Momostenango (Totonicapán).  \nAnticonceptivos: Colocación de DIU (T de cobre) y Jadelle (implante hormonal).  \nTambién se ofrecerán pruebas de detección de cáncer cervical.  \nServicios gratuitos.  \nPara más información y reserva de cupo\, llamar al 4511-7490. 
URL:https://www.wingsguate.org/event/anticonceptivos-momostenango-totonicapan/
CATEGORIES:English,Spanish
END:VEVENT
BEGIN:VEVENT
DTSTART;TZID=UTC:20201111T080000
DTEND;TZID=UTC:20201111T130000
DTSTAMP:20260422T155351
CREATED:20201030T112236Z
LAST-MODIFIED:20201030T112236Z
UID:4148-1605081600-1605099600@www.wingsguate.org
SUMMARY:Anticonceptivos – El Palmar (Quetzaltenango)
DESCRIPTION:Servicios anticonceptivos en el Centro de Atención Permanente del Palmar (Quetzaltenango).  \nAnticonceptivos: Colocación de DIU (T de cobre) y Jadelle (implante hormonal).  \nTambién se ofrecerán pruebas de detección de cáncer cervical.  \nServicios gratuitos.  \nPara más información y reserva de cupo\, llamar al 4511-7490. 
URL:https://www.wingsguate.org/event/anticonceptivos-el-palmar-quetzaltenango-13/
CATEGORIES:English,Spanish
END:VEVENT
BEGIN:VEVENT
DTSTART;TZID=UTC:20201111T080000
DTEND;TZID=UTC:20201111T130000
DTSTAMP:20260422T155351
CREATED:20201030T112506Z
LAST-MODIFIED:20201030T112506Z
UID:4150-1605081600-1605099600@www.wingsguate.org
SUMMARY:Anticonceptivos – Santa Apolonia (Chimaltenango)
DESCRIPTION:Servicios anticonceptivos en el Centro de Salud de Santa Apolonia (Chimaltenango).  \nAnticonceptivos: Colocación de DIU (T de cobre) y Jadelle (implante hormonal).  \nTambién se ofrecerán pruebas de detección de cáncer cervical.  \nServicios gratuitos.  \nPara más información y reserva de cupo\, llamar al 4511-5525. 
URL:https://www.wingsguate.org/event/anticonceptivos-santa-apolonia-chimaltenango-3/
CATEGORIES:English,Spanish
END:VEVENT
END:VCALENDAR