BEGIN:VCALENDAR
VERSION:2.0
PRODID:-//WINGS Guatemala - ECPv6.15.20//NONSGML v1.0//EN
CALSCALE:GREGORIAN
METHOD:PUBLISH
X-ORIGINAL-URL:https://www.wingsguate.org
X-WR-CALDESC:Events for WINGS Guatemala
REFRESH-INTERVAL;VALUE=DURATION:PT1H
X-Robots-Tag:noindex
X-PUBLISHED-TTL:PT1H
BEGIN:VTIMEZONE
TZID:UTC
BEGIN:STANDARD
TZOFFSETFROM:+0000
TZOFFSETTO:+0000
TZNAME:UTC
DTSTART:20190101T000000
END:STANDARD
END:VTIMEZONE
BEGIN:VEVENT
DTSTART;TZID=UTC:20201104T080000
DTEND;TZID=UTC:20201104T130000
DTSTAMP:20260420T110303
CREATED:20201023T065531Z
LAST-MODIFIED:20201023T065531Z
UID:4054-1604476800-1604494800@www.wingsguate.org
SUMMARY:Anticonceptivos – Aguacatán (Huehuetenango)
DESCRIPTION:Servicios anticonceptivos en el Centro de Salud de Aguacatán (Huehuetenango).  \nAnticonceptivos: Colocación de DIU (T de cobre) y Jadelle (implante hormonal).  \nTambién se ofrecerán pruebas de detección de cáncer cervical.  \nServicios gratuitos.  \nPara más información y reserva de cupo\, llamar al 3227-4564. 
URL:https://www.wingsguate.org/event/anticonceptivos-aguacatan-huehuetenango-3/
CATEGORIES:English,Spanish
END:VEVENT
BEGIN:VEVENT
DTSTART;TZID=UTC:20201104T080000
DTEND;TZID=UTC:20201104T130000
DTSTAMP:20260420T110303
CREATED:20201023T115250Z
LAST-MODIFIED:20201023T115250Z
UID:4090-1604476800-1604494800@www.wingsguate.org
SUMMARY:Anticonceptivos – Cuyotenango (Suchitepéquez)
DESCRIPTION:Servicios anticonceptivos en el Centro de Atención Permanente de Cuyotenango (Suchitepéquez).  \nAnticonceptivos: Colocación de DIU (T de cobre) y Jadelle (implante hormonal).  \nTambién se ofrecerán pruebas de detección de cáncer cervical.  \nServicios gratuitos.  \nPara más información y reserva de cupo\, llamar al 4511-6520. 
URL:https://www.wingsguate.org/event/anticonceptivos-cuyotenango-suchitepequez-6/
CATEGORIES:English,Spanish
END:VEVENT
BEGIN:VEVENT
DTSTART;TZID=UTC:20201104T080000
DTEND;TZID=UTC:20201104T130000
DTSTAMP:20260420T110303
CREATED:20201023T115424Z
LAST-MODIFIED:20201023T115424Z
UID:4092-1604476800-1604494800@www.wingsguate.org
SUMMARY:Anticonceptivos – El Palmar (Quetzaltenango)
DESCRIPTION:Servicios anticonceptivos en el Puesto de Salud Nimina\, El Palmar (Quetzaltenango).  \nAnticonceptivos: Colocación de DIU (T de cobre) y Jadelle (implante hormonal).  \nTambién se ofrecerán pruebas de detección de cáncer cervical.  \nServicios gratuitos.  \nPara más información y reserva de cupo\, llamar al 4511-7490. 
URL:https://www.wingsguate.org/event/anticonceptivos-el-palmar-quetzaltenango-10/
CATEGORIES:English,Spanish
END:VEVENT
BEGIN:VEVENT
DTSTART;TZID=UTC:20201104T080000
DTEND;TZID=UTC:20201104T130000
DTSTAMP:20260420T110303
CREATED:20201023T115553Z
LAST-MODIFIED:20201023T115553Z
UID:4094-1604476800-1604494800@www.wingsguate.org
SUMMARY:Anticonceptivos – Santa Cruz Verapaz (Alta Verapaz)
DESCRIPTION:Servicios anticonceptivos en Centro de Salud de Santa Cruz Verapaz (Alta Verapaz).  \nAnticonceptivos: Colocación de DIU (T de cobre) y Jadelle (implante hormonal).  \nTambién se ofrecerán pruebas de detección de cáncer cervical.  \nServicios gratuitos.  \nPara más información y reserva de cupo\, llamar al 4511-7279. 
URL:https://www.wingsguate.org/event/anticonceptivos-santa-cruz-verapaz-alta-verapaz-15/
CATEGORIES:English,Spanish
END:VEVENT
BEGIN:VEVENT
DTSTART;TZID=UTC:20201104T080000
DTEND;TZID=UTC:20201104T130000
DTSTAMP:20260420T110303
CREATED:20201023T115949Z
LAST-MODIFIED:20201023T115949Z
UID:4096-1604476800-1604494800@www.wingsguate.org
SUMMARY:Anticonceptivos – Santo Tomás Milpas Altas (Sacatepéquez)
DESCRIPTION:ervicios anticonceptivos en Iglesia Shalom de Santo Tomás Milpas Altas (Sacatepéquez).  \nAnticonceptivos: Colocación de DIU (T de cobre) y Jadelle (implante hormonal).  \nTambién se ofrecerán pruebas de detección de cáncer cervical.  \nServicios gratuitos.  \nPara más información y reserva de cupo\, llamar al 4511-5525. 
URL:https://www.wingsguate.org/event/anticonceptivos-santo-tomas-milpas-altas-sacatepequez-9/
CATEGORIES:English,Spanish
END:VEVENT
BEGIN:VEVENT
DTSTART;TZID=UTC:20201104T083000
DTEND;TZID=UTC:20201104T130000
DTSTAMP:20260420T110303
CREATED:20201023T114735Z
LAST-MODIFIED:20201023T114914Z
UID:4088-1604478600-1604494800@www.wingsguate.org
SUMMARY:Anticonceptivos – Santa Lucía Cotzumalguapa (Escuintla)
DESCRIPTION:Servicios anticonceptivos en la Escuela de la Comunidad XAYA\, Santa Lucía Cotzumalguapa (Escuintla).  \nAnticonceptivos: Colocación de DIU (T de cobre) y Jadelle (implante hormonal).  \nTambién se ofrecerán pruebas de detección de cáncer cervical.  \nServicios gratuitos.  \nPara más información y reserva de cupo\, llamar al 4511-3527. 
URL:https://www.wingsguate.org/event/anticonceptivos-santa-lucia-cotzumalguapa-escuintla-11/
CATEGORIES:English,Spanish
END:VEVENT
END:VCALENDAR