BEGIN:VCALENDAR
VERSION:2.0
PRODID:-//WINGS Guatemala - ECPv6.15.20//NONSGML v1.0//EN
CALSCALE:GREGORIAN
METHOD:PUBLISH
X-WR-CALNAME:WINGS Guatemala
X-ORIGINAL-URL:https://www.wingsguate.org
X-WR-CALDESC:Events for WINGS Guatemala
REFRESH-INTERVAL;VALUE=DURATION:PT1H
X-Robots-Tag:noindex
X-PUBLISHED-TTL:PT1H
BEGIN:VTIMEZONE
TZID:UTC
BEGIN:STANDARD
TZOFFSETFROM:+0000
TZOFFSETTO:+0000
TZNAME:UTC
DTSTART:20190101T000000
END:STANDARD
END:VTIMEZONE
BEGIN:VEVENT
DTSTART;TZID=UTC:20201103T080000
DTEND;TZID=UTC:20201103T130000
DTSTAMP:20260420T150131
CREATED:20201023T113936Z
LAST-MODIFIED:20201023T113936Z
UID:4082-1604390400-1604408400@www.wingsguate.org
SUMMARY:Anticonceptivos – Patzún (Chimaltenango)
DESCRIPTION:Servicios anticonceptivos en el Centro de Salud de Patzún (Chimaltenango).  \nAnticonceptivos: Colocación de DIU (T de cobre) y Jadelle (implante hormonal).  \nTambién se ofrecerán pruebas de detección de cáncer cervical.  \nServicios gratuitos.  \nPara más información y reserva de cupo\, llamar al 4511-5525. 
URL:https://www.wingsguate.org/event/anticonceptivos-patzun-chimaltenango-9/
CATEGORIES:English,Spanish
END:VEVENT
BEGIN:VEVENT
DTSTART;TZID=UTC:20201103T080000
DTEND;TZID=UTC:20201103T130000
DTSTAMP:20260420T150131
CREATED:20201023T114259Z
LAST-MODIFIED:20201023T114259Z
UID:4084-1604390400-1604408400@www.wingsguate.org
SUMMARY:Anticonceptivos – San Carlos Sija (Quetzaltenango)
DESCRIPTION:Servicios anticonceptivos en el Puesto de Salud San José Chicaluix\, San Carlos Sija (Quetzaltenango).  \nAnticonceptivos: Colocación de DIU (T de cobre) y Jadelle (implante hormonal).  \nTambién se ofrecerán pruebas de detección de cáncer cervical.  \nServicios gratuitos.  \nPara más información y reserva de cupo\, llamar al 4511-7490. 
URL:https://www.wingsguate.org/event/anticonceptivos-san-carlos-sija-quetzaltenango-3/
CATEGORIES:English,Spanish
END:VEVENT
BEGIN:VEVENT
DTSTART;TZID=UTC:20201103T080000
DTEND;TZID=UTC:20201103T133000
DTSTAMP:20260420T150131
CREATED:20201023T114436Z
LAST-MODIFIED:20201023T114436Z
UID:4086-1604390400-1604410200@www.wingsguate.org
SUMMARY:Anticonceptivos – El Palmar (Quetzaltenango)
DESCRIPTION:Servicios anticonceptivos en el Puesto de Salud Las Marías\, El Palmar (Quetzaltenango).  \nAnticonceptivos: Colocación de DIU (T de cobre) y Jadelle (implante hormonal).  \nTambién se ofrecerán pruebas de detección de cáncer cervical.  \nServicios gratuitos.  \nPara más información y reserva de cupo\, llamar al 4511-7490. 
URL:https://www.wingsguate.org/event/anticonceptivos-el-palmar-quetzaltenango-9/
CATEGORIES:English,Spanish
END:VEVENT
END:VCALENDAR