BEGIN:VCALENDAR
VERSION:2.0
PRODID:-//WINGS Guatemala - ECPv6.15.20//NONSGML v1.0//EN
CALSCALE:GREGORIAN
METHOD:PUBLISH
X-WR-CALNAME:WINGS Guatemala
X-ORIGINAL-URL:https://www.wingsguate.org
X-WR-CALDESC:Events for WINGS Guatemala
REFRESH-INTERVAL;VALUE=DURATION:PT1H
X-Robots-Tag:noindex
X-PUBLISHED-TTL:PT1H
BEGIN:VTIMEZONE
TZID:UTC
BEGIN:STANDARD
TZOFFSETFROM:+0000
TZOFFSETTO:+0000
TZNAME:UTC
DTSTART:20190101T000000
END:STANDARD
END:VTIMEZONE
BEGIN:VEVENT
DTSTART;TZID=UTC:20200923T080000
DTEND;TZID=UTC:20200923T130000
DTSTAMP:20260422T224023
CREATED:20200922T102041Z
LAST-MODIFIED:20200922T102041Z
UID:3827-1600848000-1600866000@www.wingsguate.org
SUMMARY:Anticonceptivos – San Francisco el Alto (Totonicapán)
DESCRIPTION:Servicios anticonceptivos en el Centro de Atención Permanente de San Francisco el Alto (Totonicapán).  \nAnticonceptivos: Colocación de DIU (T de cobre) y Jadelle (implante hormonal).  \nTambién se ofrecerán pruebas de detección de cáncer cervical.  \nServicios gratuitos.  \nPara más información y reserva de cupo\, llamar al 3227-7895. 
URL:https://www.wingsguate.org/event/anticonceptivos-san-francisco-el-alto-totonicapan-4/
CATEGORIES:English,Spanish
END:VEVENT
BEGIN:VEVENT
DTSTART;TZID=UTC:20200923T080000
DTEND;TZID=UTC:20200923T140000
DTSTAMP:20260422T224023
CREATED:20200828T122814Z
LAST-MODIFIED:20200828T122814Z
UID:3705-1600848000-1600869600@www.wingsguate.org
SUMMARY:Anticonceptivos – Santa Cruz Verapaz (Alta Verapaz)
DESCRIPTION:Servicios anticonceptivos en Centro de Salud de Santa Cruz Verapaz (Alta Verapaz).  \nAnticonceptivos: Colocación de DIU (T de cobre) y Jadelle (implante hormonal).  \nTambién se ofrecerán pruebas de detección de cáncer cervical.  \nServicios gratuitos.  \nPara más información y reserva de cupo\, llamar al 4511-7279. 
URL:https://www.wingsguate.org/event/anticonceptivos-santa-cruz-verapaz-alta-verapaz-11/
CATEGORIES:English,Spanish
END:VEVENT
BEGIN:VEVENT
DTSTART;TZID=UTC:20200923T083000
DTEND;TZID=UTC:20200923T133000
DTSTAMP:20260422T224023
CREATED:20200910T110937Z
LAST-MODIFIED:20200910T110937Z
UID:3797-1600849800-1600867800@www.wingsguate.org
SUMMARY:Anticonceptivos – San Bartolomé Milpas Altas (Sacatepéquez)
DESCRIPTION:Servicios anticonceptivos en el Centro de Salud de San Bartolomé Milpas Altas (Sacatepéquez).  \nAnticonceptivos: Colocación de DIU (T de cobre) y Jadelle (implante hormonal).  \nTambién se ofrecerán pruebas de detección de cáncer cervical.  \nServicios gratuitos.  \nPara más información y reserva de cupo\, llamar al 4511-5525. 
URL:https://www.wingsguate.org/event/anticonceptivos-san-bartolome-milpas-altas-sacatepequez/
CATEGORIES:English,Spanish
END:VEVENT
BEGIN:VEVENT
DTSTART;TZID=UTC:20200923T083000
DTEND;TZID=UTC:20200923T133000
DTSTAMP:20260422T224023
CREATED:20200910T111433Z
LAST-MODIFIED:20200910T111433Z
UID:3803-1600849800-1600867800@www.wingsguate.org
SUMMARY:Anticonceptivos – La Gomera (Escuintla)
DESCRIPTION:Servicios anticonceptivos en las Obras Sociales de la Municipalidad\, La Gomera (Escuintla).  \nAnticonceptivos: Colocación de DIU (T de cobre) y Jadelle (implante hormonal).  \nTambién se ofrecerán pruebas de detección de cáncer cervical.  \nServicios gratuitos.  \nPara más información y reserva de cupo\, llamar al 4511-3527. 
URL:https://www.wingsguate.org/event/anticonceptivos-la-gomera-escuintla-5/
CATEGORIES:English,Spanish
END:VEVENT
END:VCALENDAR