BEGIN:VCALENDAR
VERSION:2.0
PRODID:-//WINGS Guatemala - ECPv6.15.20//NONSGML v1.0//EN
CALSCALE:GREGORIAN
METHOD:PUBLISH
X-WR-CALNAME:WINGS Guatemala
X-ORIGINAL-URL:https://www.wingsguate.org
X-WR-CALDESC:Events for WINGS Guatemala
REFRESH-INTERVAL;VALUE=DURATION:PT1H
X-Robots-Tag:noindex
X-PUBLISHED-TTL:PT1H
BEGIN:VTIMEZONE
TZID:UTC
BEGIN:STANDARD
TZOFFSETFROM:+0000
TZOFFSETTO:+0000
TZNAME:UTC
DTSTART:20190101T000000
END:STANDARD
END:VTIMEZONE
BEGIN:VEVENT
DTSTART;TZID=UTC:20200811T080000
DTEND;TZID=UTC:20200811T130000
DTSTAMP:20260420T094507
CREATED:20200813T113617Z
LAST-MODIFIED:20200813T113617Z
UID:3540-1597132800-1597150800@www.wingsguate.org
SUMMARY:Anticonceptivos – Malacatancito (Huehuetenango)
DESCRIPTION:Servicios anticonceptivos en el Centro de Salud de Malacatancito (Huehuetenango).  \nAnticonceptivos: Colocación de DIU (T de cobre) y Jadelle (implante hormonal).  \nTambién se ofrecerán pruebas de detección de cáncer cervical.  \nServicios gratuitos.  \nPara más información y reserva de cupo\, llamar al 3227-4564. 
URL:https://www.wingsguate.org/event/anticonceptivos-malacatancito-huehuetenango/
CATEGORIES:English,Spanish
END:VEVENT
BEGIN:VEVENT
DTSTART;TZID=UTC:20200811T080000
DTEND;TZID=UTC:20200811T140000
DTSTAMP:20260420T094507
CREATED:20200812T052546Z
LAST-MODIFIED:20200812T053238Z
UID:3510-1597132800-1597154400@www.wingsguate.org
SUMMARY:Anticonceptivos – Tecpán (Chimaltenango)
DESCRIPTION:Servicios anticonceptivos en Centro Comunitario\, Aldea Panabajal\, Tecpán (Chimaltenango).  \nAnticonceptivos: Colocación de DIU (T de cobre) y Jadelle (implante hormonal).  \nTambién se ofrecerán pruebas de detección de cáncer cervical.  \nServicios gratuitos.  \nPara más información y reserva de cupo\, llamar al 4511-4347. 
URL:https://www.wingsguate.org/event/anticonceptivos-tecpan-chimaltenango-16/
CATEGORIES:English,Spanish
END:VEVENT
END:VCALENDAR