BEGIN:VCALENDAR
VERSION:2.0
PRODID:-//WINGS Guatemala - ECPv6.15.20//NONSGML v1.0//EN
CALSCALE:GREGORIAN
METHOD:PUBLISH
X-WR-CALNAME:WINGS Guatemala
X-ORIGINAL-URL:https://www.wingsguate.org
X-WR-CALDESC:Events for WINGS Guatemala
REFRESH-INTERVAL;VALUE=DURATION:PT1H
X-Robots-Tag:noindex
X-PUBLISHED-TTL:PT1H
BEGIN:VTIMEZONE
TZID:UTC
BEGIN:STANDARD
TZOFFSETFROM:+0000
TZOFFSETTO:+0000
TZNAME:UTC
DTSTART:20180101T000000
END:STANDARD
END:VTIMEZONE
BEGIN:VEVENT
DTSTART;TZID=UTC:20191024T070000
DTEND;TZID=UTC:20191024T140000
DTSTAMP:20260421T072451
CREATED:20190905T051628Z
LAST-MODIFIED:20190905T051628Z
UID:2576-1571900400-1571925600@www.wingsguate.org
SUMMARY:Operaciones – Quetzaltenango (Quetzaltenango)
DESCRIPTION:Jornada de operaciones para hombre y mujer en Hospital Regional de Oriente\, Quetzaltenango (Quetzaltenango).  \n Operaciones (para no tener más hijos): Ligaduras de trompas y vasectomías.  \nJORNADA GRATIS.  \nPara más información y reserva de cupo\, llamar al 4651-9751. 
URL:https://www.wingsguate.org/event/operaciones-quetzaltenango-quetzaltenango-2/
CATEGORIES:English,Spanish
END:VEVENT
BEGIN:VEVENT
DTSTART;TZID=UTC:20191024T073000
DTEND;TZID=UTC:20191024T140000
DTSTAMP:20260421T072451
CREATED:20190905T051356Z
LAST-MODIFIED:20190905T051356Z
UID:2574-1571902200-1571925600@www.wingsguate.org
SUMMARY:Operaciones – Palín (Escuintla)
DESCRIPTION:Jornada de operaciones para hombre y mujer en Maternidad Municipal de Palín (Escuintla). \n Operaciones (para no tener más hijos): ligaduras de trompas y vasectomías. \nJORNADA GRATUITA.  \nPara más información y reserva de cupo\, llamar al 4511-4347. 
URL:https://www.wingsguate.org/event/operaciones-palin-escuintla-11/
CATEGORIES:English,Spanish
END:VEVENT
END:VCALENDAR