BEGIN:VCALENDAR
VERSION:2.0
PRODID:-//WINGS Guatemala - ECPv6.15.20//NONSGML v1.0//EN
CALSCALE:GREGORIAN
METHOD:PUBLISH
X-ORIGINAL-URL:https://www.wingsguate.org
X-WR-CALDESC:Events for WINGS Guatemala
REFRESH-INTERVAL;VALUE=DURATION:PT1H
X-Robots-Tag:noindex
X-PUBLISHED-TTL:PT1H
BEGIN:VTIMEZONE
TZID:UTC
BEGIN:STANDARD
TZOFFSETFROM:+0000
TZOFFSETTO:+0000
TZNAME:UTC
DTSTART:20180101T000000
END:STANDARD
END:VTIMEZONE
BEGIN:VEVENT
DTSTART;TZID=UTC:20190822T070000
DTEND;TZID=UTC:20190822T140000
DTSTAMP:20260423T084906
CREATED:20190802T000147Z
LAST-MODIFIED:20190802T000722Z
UID:2381-1566457200-1566482400@www.wingsguate.org
SUMMARY:Operaciones – Jacaltenango (Huehuetenango)
DESCRIPTION:Jornada de operaciones para hombre y mujer en Centro de Atención Permanente (CAP)\, Jacaltenango (Huehuetenango).  \nJORNADA GRATUITA.  \n Operaciones (para no tener más hijos): Ligaduras de trompas y vasectomías.  \n\nPara más información y reserva de cupo\, llamar al 4651-9751. 
URL:https://www.wingsguate.org/event/operaciones-jacaltenango-huehuetenango/
CATEGORIES:English,Spanish
END:VEVENT
BEGIN:VEVENT
DTSTART;TZID=UTC:20190822T073000
DTEND;TZID=UTC:20190822T140000
DTSTAMP:20260423T084906
CREATED:20190801T235745Z
LAST-MODIFIED:20190801T235745Z
UID:2379-1566459000-1566482400@www.wingsguate.org
SUMMARY:Operaciones – Tiquisate (Escuintla)
DESCRIPTION:Jornada de operaciones para hombre y mujer en el Hospital Nacional de Tiquisate (Escuintla).  \nJORNADA GRATUITA.  \n Operaciones (para no tener más hijos): Ligaduras de trompas y vasectomías.  \nPara más información y reserva de cupo\, llamar al 4511-4347. 
URL:https://www.wingsguate.org/event/operaciones-tiquisate-escuintla-16/
CATEGORIES:English,Spanish
END:VEVENT
BEGIN:VEVENT
DTSTART;TZID=UTC:20190822T080000
DTEND;TZID=UTC:20190822T140000
DTSTAMP:20260423T084906
CREATED:20190727T210613Z
LAST-MODIFIED:20190727T210613Z
UID:2299-1566460800-1566482400@www.wingsguate.org
SUMMARY:Anticonceptivos – Santa María Cauque\, Santiago (Sacatepéquez)
DESCRIPTION:Jornada de anticonceptivos en casa particular\, Santa María Cauque\, Santiago (Sacatepéquez).  \nDonación: Q. 25.  \nAnticonceptivos: Colocación de DIU (T de cobre) e Implante Hormonal (Jadelle).  \nTambién se ofrecerán pruebas de detección de cáncer cervical.  \nPara más información y reserva de cupo\, llamar al 4511-4347. 
URL:https://www.wingsguate.org/event/anticonceptivos-santa-maria-cauque-santiago-sacatepequez/
CATEGORIES:English,Spanish
END:VEVENT
END:VCALENDAR