BEGIN:VCALENDAR
VERSION:2.0
PRODID:-//WINGS Guatemala - ECPv6.15.20//NONSGML v1.0//EN
CALSCALE:GREGORIAN
METHOD:PUBLISH
X-ORIGINAL-URL:https://www.wingsguate.org
X-WR-CALDESC:Events for WINGS Guatemala
REFRESH-INTERVAL;VALUE=DURATION:PT1H
X-Robots-Tag:noindex
X-PUBLISHED-TTL:PT1H
BEGIN:VTIMEZONE
TZID:UTC
BEGIN:STANDARD
TZOFFSETFROM:+0000
TZOFFSETTO:+0000
TZNAME:UTC
DTSTART:20180101T000000
END:STANDARD
END:VTIMEZONE
BEGIN:VEVENT
DTSTART;TZID=UTC:20190716T070000
DTEND;TZID=UTC:20190716T140000
DTSTAMP:20260421T012416
CREATED:20190702T234152Z
LAST-MODIFIED:20190702T234152Z
UID:2211-1563260400-1563285600@www.wingsguate.org
SUMMARY:Operaciones – Cobán (Alta Verapaz)
DESCRIPTION:Jornada de operaciones para hombre y mujer en el Hospital Cubano\, Cobán (Alta Verapaz).  \nOperaciones (para no tener más hijos): Ligaduras de trompas y vasectomías.  \nDonación: Q. 50.  \n\nPara más información y reserva de cupo\, llamar al 4511-7279. 
URL:https://www.wingsguate.org/event/operaciones-coban-alta-verapaz-5/
CATEGORIES:English,Spanish
END:VEVENT
BEGIN:VEVENT
DTSTART;TZID=UTC:20190716T080000
DTEND;TZID=UTC:20190716T140000
DTSTAMP:20260421T012416
CREATED:20190702T234431Z
LAST-MODIFIED:20190702T234431Z
UID:2213-1563264000-1563285600@www.wingsguate.org
SUMMARY:Anticonceptivos – Santa Lucía Cotzumalguapa (Escuintla)
DESCRIPTION:Jornada de anticonceptivos en Rio Santiago\, Santa Lucía Cotzumalguapa (Escuintla).  \nAnticonceptivos: Colocación de DIU (T de cobre) e Implante Hormonal (Jadelle).  \nTambién se ofrecerán pruebas de detección de cáncer cervical.  \nPara más información y reserva de cupo\, llamar al 4511-4347. 
URL:https://www.wingsguate.org/event/anticonceptivos-santa-lucia-cotzumalguapa-escuintla-5/
CATEGORIES:English,Spanish
END:VEVENT
BEGIN:VEVENT
DTSTART;TZID=UTC:20190716T083000
DTEND;TZID=UTC:20190716T140000
DTSTAMP:20260421T012416
CREATED:20190702T234941Z
LAST-MODIFIED:20190702T234941Z
UID:2215-1563265800-1563285600@www.wingsguate.org
SUMMARY:Anticonceptivos –  Concepción Tutuapa (San Marcos)
DESCRIPTION:Jornada de anticonceptivos en el Centro de Atención Permanente en Concepción Tutuapa (San Marcos).  \nAnticonceptivos: Colocación de DIU (T de cobre) e Implante Hormonal (Jadelle).  \nJORNADA GRATUITA.  \nTambién se ofrecerán pruebas de detección de cáncer cervical.  \nPara más información y reserva de cupo\, llamar al 4511-4347.
URL:https://www.wingsguate.org/event/anticonceptivos-concepcion-tutuapa-san-marcos/
CATEGORIES:English,Spanish
END:VEVENT
BEGIN:VEVENT
DTSTART;TZID=UTC:20190716T173000
DTEND;TZID=UTC:20190716T190000
DTSTAMP:20260421T012416
CREATED:20190621T031156Z
LAST-MODIFIED:20190621T031156Z
UID:2162-1563298200-1563303600@www.wingsguate.org
SUMMARY:“Life in Guatemala” talk by WINGS founder Sue Patterson at Rainbow Café
DESCRIPTION:Join us for a talk with WINGS founder\, Sue Patterson! \nSue first developed her passion for helping vulnerable women have control over their lives when she served as a Peace Corps Volunteer in a rural area of Colombia from 1966 to 1968. Since that time she has been passionate about enabling such women to learn about and get access to reproductive health services. Starting in 1996\, when she retired from a 24-year-long career as a Foreign Service Officer in the U.S. Foreign Service\, Sue has lived in Antigua\, Guatemala. She has dedicated her time and energy to improving the lives of marginalized Guatemalans\, particularly women who are Mayan\, undereducated\, and live in rural areas.  \nIn 1999\, when Sue was asked by a Guatemalan friend to help seven women\, all with at least eight children\, to be able to get the tubal ligations they desired\, Sue contributed her own funds and wrote to others seeking donations. Within a few months she had received over $4\,000\, and she decided there was a need for a family planning non-profit organization in Guatemala and for the resources to fund it. So\, Sue started WINGS (Women’s International Network for Guatemalan Solutions). \nSue has remained an active WINGS Board Member\, and she has contributed in fundamental ways to the growth of the organization and to the professionalization of its Board of Directors. \n  \nDonation Q. 25
URL:https://www.wingsguate.org/event/life-in-guatemala-talk-by-wings-founder-sue-patterson-at-rainbow-cafe-5/
CATEGORIES:English
END:VEVENT
END:VCALENDAR