BEGIN:VCALENDAR
VERSION:2.0
PRODID:-//WINGS Guatemala - ECPv6.15.20//NONSGML v1.0//EN
CALSCALE:GREGORIAN
METHOD:PUBLISH
X-ORIGINAL-URL:https://www.wingsguate.org
X-WR-CALDESC:Events for WINGS Guatemala
REFRESH-INTERVAL;VALUE=DURATION:PT1H
X-Robots-Tag:noindex
X-PUBLISHED-TTL:PT1H
BEGIN:VTIMEZONE
TZID:Asia/Shanghai
BEGIN:STANDARD
TZOFFSETFROM:+0800
TZOFFSETTO:+0800
TZNAME:CST
DTSTART:20170101T000000
END:STANDARD
END:VTIMEZONE
BEGIN:VEVENT
DTSTART;TZID=Asia/Shanghai:20181112T080000
DTEND;TZID=Asia/Shanghai:20181112T170000
DTSTAMP:20260424T185236
CREATED:20181025T205038Z
LAST-MODIFIED:20181025T205038Z
UID:1412-1542009600-1542042000@www.wingsguate.org
SUMMARY:WINGS Happy Hour House Party (Sammamish\, WA)
DESCRIPTION:VISIT http://evite.me/tYK8EYgcXC FOR ALL THE INFO & TO RSVP!Come meet Kirsten Taylor\, Development and Communications Director with WINGS. Based in Antigua\, Guatemala\, Kirsten is in Seattle for one night only to share WINGS’s mission\, successes\, and our response to the recent heartbreaking volcanic eruption near our headquarters.Kirsten is a dynamic\, passionate and engaging speaker. Save the date and plan to join us for this inspiring\, informative evening!RSVP to http://evite.me/tYK8EYgcXC.Donations for WINGS will be gratefully accepted at the event. Can’t attend but want to support WINGS? Donate at www.wingsguate.org.
URL:https://www.wingsguate.org/event/wings-happy-hour-house-party-sammamish-wa/
CATEGORIES:English
END:VEVENT
END:VCALENDAR