BEGIN:VCALENDAR
VERSION:2.0
PRODID:-//WINGS Guatemala - ECPv6.15.20//NONSGML v1.0//EN
CALSCALE:GREGORIAN
METHOD:PUBLISH
X-ORIGINAL-URL:https://www.wingsguate.org
X-WR-CALDESC:Events for WINGS Guatemala
REFRESH-INTERVAL;VALUE=DURATION:PT1H
X-Robots-Tag:noindex
X-PUBLISHED-TTL:PT1H
BEGIN:VTIMEZONE
TZID:UTC
BEGIN:STANDARD
TZOFFSETFROM:+0000
TZOFFSETTO:+0000
TZNAME:UTC
DTSTART:20230101T000000
END:STANDARD
END:VTIMEZONE
BEGIN:VEVENT
DTSTART;TZID=UTC:20241212T080000
DTEND;TZID=UTC:20241212T143000
DTSTAMP:20260423T051325
CREATED:20241210T192549Z
LAST-MODIFIED:20241210T192549Z
UID:17945-1733990400-1734013800@www.wingsguate.org
SUMMARY:Anticonceptivos – Cahabón (Alta Verapaz)
DESCRIPTION:Servicios anticonceptivos en Centro Nutreme\, Aldea Tzalamtún\, Cahabón (Alta Verapaz). \nAnticonceptivos: Colocación de DIU (T de cobre) y Jadelle (implante hormonal).  \nTambién se ofrecerán pruebas de detección de cáncer cervical.  \nServicios gratuitos.  \nPara más información y reserva de cupo llamar al 3227-1513. 
URL:https://www.wingsguate.org/event/anticonceptivos-cahabon-alta-verapaz-57/
CATEGORIES:English,Spanish
END:VEVENT
BEGIN:VEVENT
DTSTART;TZID=UTC:20241212T080000
DTEND;TZID=UTC:20241212T143000
DTSTAMP:20260423T051325
CREATED:20241210T193110Z
LAST-MODIFIED:20241210T193110Z
UID:17949-1733990400-1734013800@www.wingsguate.org
SUMMARY:Anticonceptivos – Carchá (Alta Verapaz)
DESCRIPTION:Servicios anticonceptivos en Salón Las Terrazas\, 3er. nivel C.C Gran Carchá\, Carchá (Alta Verapaz). \nAnticonceptivos: Colocación de DIU (T de cobre) y Jadelle (implante hormonal).  \nTambién se ofrecerán pruebas de detección de cáncer cervical.  \nServicios gratuitos.  \nPara más información y reserva de cupo llamar al 3227-1513. 
URL:https://www.wingsguate.org/event/anticonceptivos-carcha-alta-verapaz-18/
CATEGORIES:English,Spanish
END:VEVENT
BEGIN:VEVENT
DTSTART;TZID=UTC:20241212T080000
DTEND;TZID=UTC:20241212T143000
DTSTAMP:20260423T051325
CREATED:20241210T193303Z
LAST-MODIFIED:20241210T193303Z
UID:17953-1733990400-1734013800@www.wingsguate.org
SUMMARY:Anticonceptivos – La Tinta (Alta Verapaz)
DESCRIPTION:Servicios anticonceptivos en Salón Agro-progreso\, La Tinta (Alta Verapaz). \nAnticonceptivos: Colocación de DIU (T de cobre) y Jadelle (implante hormonal).  \nTambién se ofrecerán pruebas de detección de cáncer cervical.  \nServicios gratuitos.  \nPara más información y reserva de cupo llamar al 3227-1513. 
URL:https://www.wingsguate.org/event/anticonceptivos-la-tinta-alta-verapaz-12/
CATEGORIES:English,Spanish
END:VEVENT
BEGIN:VEVENT
DTSTART;TZID=UTC:20241212T080000
DTEND;TZID=UTC:20241212T170000
DTSTAMP:20260423T051325
CREATED:20241210T193205Z
LAST-MODIFIED:20241210T193205Z
UID:17951-1733990400-1734022800@www.wingsguate.org
SUMMARY:Anticonceptivos – Senahú (Alta Verapaz)
DESCRIPTION:Servicios anticonceptivos en Asociación Narú\, Senahú (Alta Verapaz). \nAnticonceptivos: Colocación de DIU (T de cobre) y Jadelle (implante hormonal).  \nTambién se ofrecerán pruebas de detección de cáncer cervical.  \nServicios gratuitos.  \nPara más información y reserva de cupo llamar al 3227-1513. 
URL:https://www.wingsguate.org/event/anticonceptivos-senahu-alta-verapaz-31/
CATEGORIES:English,Spanish
END:VEVENT
END:VCALENDAR