BEGIN:VCALENDAR
VERSION:2.0
PRODID:-//WINGS Guatemala - ECPv6.15.20//NONSGML v1.0//EN
CALSCALE:GREGORIAN
METHOD:PUBLISH
X-ORIGINAL-URL:https://www.wingsguate.org
X-WR-CALDESC:Events for WINGS Guatemala
REFRESH-INTERVAL;VALUE=DURATION:PT1H
X-Robots-Tag:noindex
X-PUBLISHED-TTL:PT1H
BEGIN:VTIMEZONE
TZID:UTC
BEGIN:STANDARD
TZOFFSETFROM:+0000
TZOFFSETTO:+0000
TZNAME:UTC
DTSTART:20230101T000000
END:STANDARD
END:VTIMEZONE
BEGIN:VEVENT
DTSTART;TZID=UTC:20241205T080000
DTEND;TZID=UTC:20241205T143000
DTSTAMP:20260420T080526
CREATED:20241209T223019Z
LAST-MODIFIED:20241209T223019Z
UID:17939-1733385600-1733409000@www.wingsguate.org
SUMMARY:Anticonceptivos – San Cristobal (Alta Verapaz)
DESCRIPTION:Servicios anticonceptivos en Clinica Especializada de la Mujer\, zona 3\, Bo. San Sebastián\, San Cristobal (Alta Verapaz). \nAnticonceptivos: Colocación de DIU (T de cobre) y Jadelle (implante hormonal).  \nTambién se ofrecerán pruebas de detección de cáncer cervical.  \nServicios gratuitos.  \nPara más información y reserva de cupo llamar al 3227-1513. 
URL:https://www.wingsguate.org/event/anticonceptivos-san-cristobal-alta-verapaz-18/
CATEGORIES:English,Spanish
END:VEVENT
END:VCALENDAR