BEGIN:VCALENDAR
VERSION:2.0
PRODID:-//WINGS Guatemala - ECPv6.15.20//NONSGML v1.0//EN
CALSCALE:GREGORIAN
METHOD:PUBLISH
X-WR-CALNAME:WINGS Guatemala
X-ORIGINAL-URL:https://www.wingsguate.org
X-WR-CALDESC:Events for WINGS Guatemala
REFRESH-INTERVAL;VALUE=DURATION:PT1H
X-Robots-Tag:noindex
X-PUBLISHED-TTL:PT1H
BEGIN:VTIMEZONE
TZID:UTC
BEGIN:STANDARD
TZOFFSETFROM:+0000
TZOFFSETTO:+0000
TZNAME:UTC
DTSTART:20230101T000000
END:STANDARD
END:VTIMEZONE
BEGIN:VEVENT
DTSTART;TZID=UTC:20241129T080000
DTEND;TZID=UTC:20241129T143000
DTSTAMP:20260424T083407
CREATED:20241024T212226Z
LAST-MODIFIED:20241024T212226Z
UID:17737-1732867200-1732890600@www.wingsguate.org
SUMMARY:Anticonceptivos – La Gomera (Escuintla)
DESCRIPTION:Servicios anticonceptivos en las Obras Sociales La Gomera (Escuintla).  \nAnticonceptivos: Colocación de DIU (T de cobre) y Jadelle (implante hormonal).  \nTambién se ofrecerán pruebas de detección de cáncer cervical.  \nServicios gratuitos.  \nPara más información y reserva de cupo llamar al 4511-3527. 
URL:https://www.wingsguate.org/event/anticonceptivos-la-gomera-escuintla-10/
CATEGORIES:English,Spanish
END:VEVENT
BEGIN:VEVENT
DTSTART;TZID=UTC:20241129T080000
DTEND;TZID=UTC:20241129T143000
DTSTAMP:20260424T083407
CREATED:20241108T042210Z
LAST-MODIFIED:20241108T042210Z
UID:17817-1732867200-1732890600@www.wingsguate.org
SUMMARY:Anticonceptivos – El Tejar (Chimaltenango)
DESCRIPTION:Servicios anticonceptivos en Ministerios Grace\, El Tejar (Chimaltenango).  \nAnticonceptivos: Colocación de DIU (T de cobre) y Jadelle (implante hormonal).  \nTambién se ofrecerán pruebas de detección de cáncer cervical.  \nServicios gratuitos.  \nPara más información y reserva de cupo llamar al 4511-5525. 
URL:https://www.wingsguate.org/event/anticonceptivos-el-tejar-chimaltenango-49/
CATEGORIES:English,Spanish
END:VEVENT
END:VCALENDAR