BEGIN:VCALENDAR
VERSION:2.0
PRODID:-//WINGS Guatemala - ECPv6.15.20//NONSGML v1.0//EN
CALSCALE:GREGORIAN
METHOD:PUBLISH
X-ORIGINAL-URL:https://www.wingsguate.org
X-WR-CALDESC:Events for WINGS Guatemala
REFRESH-INTERVAL;VALUE=DURATION:PT1H
X-Robots-Tag:noindex
X-PUBLISHED-TTL:PT1H
BEGIN:VTIMEZONE
TZID:UTC
BEGIN:STANDARD
TZOFFSETFROM:+0000
TZOFFSETTO:+0000
TZNAME:UTC
DTSTART:20230101T000000
END:STANDARD
END:VTIMEZONE
BEGIN:VEVENT
DTSTART;TZID=UTC:20241128T080000
DTEND;TZID=UTC:20241128T143000
DTSTAMP:20260420T070320
CREATED:20241024T092530Z
LAST-MODIFIED:20241024T092530Z
UID:17678-1732780800-1732804200@www.wingsguate.org
SUMMARY:Operaciones – Cobán (Alta Verapaz)
DESCRIPTION:Jornada de operaciones para mujer y hombre en el Hospital Cubano zona 3 de Cobán (Alta Verapaz).  \nOperaciones (para no tener más hijos): ligadura de trompas y vasectomías.  \nDonativo: Q75.   \nPara más información y requisitos llamar al 3227-1513. 
URL:https://www.wingsguate.org/event/operaciones-coban-alta-verapaz-30/
CATEGORIES:English,Spanish
END:VEVENT
BEGIN:VEVENT
DTSTART;TZID=UTC:20241128T080000
DTEND;TZID=UTC:20241128T143000
DTSTAMP:20260420T070320
CREATED:20241108T040321Z
LAST-MODIFIED:20241108T040321Z
UID:17815-1732780800-1732804200@www.wingsguate.org
SUMMARY:Anticonceptivos – Chimaltenango (Chimaltenango)
DESCRIPTION:Servicios anticonceptivos en Fundación Carroll Berhorsth\, zona 2\, Chimaltenango (Chimaltenango).  \nAnticonceptivos: Colocación de DIU (T de cobre) y Jadelle (implante hormonal).  \nTambién se ofrecerán pruebas de detección de cáncer cervical.  \nServicios gratuitos.  \nPara más información y reserva de cupo llamar al 4511-5525. 
URL:https://www.wingsguate.org/event/anticonceptivos-chimaltenango-chimaltenango-68/
CATEGORIES:English,Spanish
END:VEVENT
BEGIN:VEVENT
DTSTART;TZID=UTC:20241128T080000
DTEND;TZID=UTC:20241128T143000
DTSTAMP:20260420T070320
CREATED:20241108T042822Z
LAST-MODIFIED:20241108T042822Z
UID:17823-1732780800-1732804200@www.wingsguate.org
SUMMARY:Operaciones – Tecpán (Chimaltenango)
DESCRIPTION:Jornada de operaciones para mujer en Sanatorio Tecpán\, zona 2 de Tecpán (Chimaltenango).  \nOperaciones (para no tener más hijos): ligadura de trompas.  \nDonativo: Q50.   \nPara más información y requisitos llamar al 4511-5525. 
URL:https://www.wingsguate.org/event/operaciones-tecpan-chimaltenango-18/
CATEGORIES:English,Spanish
END:VEVENT
END:VCALENDAR