BEGIN:VCALENDAR
VERSION:2.0
PRODID:-//WINGS Guatemala - ECPv6.15.20//NONSGML v1.0//EN
CALSCALE:GREGORIAN
METHOD:PUBLISH
X-ORIGINAL-URL:https://www.wingsguate.org
X-WR-CALDESC:Events for WINGS Guatemala
REFRESH-INTERVAL;VALUE=DURATION:PT1H
X-Robots-Tag:noindex
X-PUBLISHED-TTL:PT1H
BEGIN:VTIMEZONE
TZID:UTC
BEGIN:STANDARD
TZOFFSETFROM:+0000
TZOFFSETTO:+0000
TZNAME:UTC
DTSTART:20230101T000000
END:STANDARD
END:VTIMEZONE
BEGIN:VEVENT
DTSTART;TZID=UTC:20241127T080000
DTEND;TZID=UTC:20241127T143000
DTSTAMP:20260420T230807
CREATED:20241024T212446Z
LAST-MODIFIED:20241024T212446Z
UID:17739-1732694400-1732717800@www.wingsguate.org
SUMMARY:Operaciones – Palin (Escuintla)
DESCRIPTION:Jornada de operaciones para hombre en las Clinicas Médicas Municipales\, Palin (Escuintla).  \nOperaciones (para no tener más hijos): vasectomías.  \nServicio Gratuito.   \nPara más información y requisitos llamar al 4511-3527. 
URL:https://www.wingsguate.org/event/operaciones-palin-escuintla-45/
CATEGORIES:English,Spanish
END:VEVENT
BEGIN:VEVENT
DTSTART;TZID=UTC:20241127T080000
DTEND;TZID=UTC:20241127T143000
DTSTAMP:20260420T230807
CREATED:20241107T005548Z
LAST-MODIFIED:20241107T005548Z
UID:17765-1732694400-1732717800@www.wingsguate.org
SUMMARY:Anticonceptivos – Salama (Baja Verapaz)
DESCRIPTION:Servicios anticonceptivos en el Salón Municipal de Salamá (Baja Verapaz). \nAnticonceptivos: Colocación de DIU (T de cobre) y Jadelle (implante hormonal).  \nTambién se ofrecerán pruebas de detección de cáncer cervical.  \nServicios gratuitos.  \nPara más información y reserva de cupo llamar al 3002-5055. 
URL:https://www.wingsguate.org/event/anticonceptivos-salama-baja-verapaz-48/
CATEGORIES:English,Spanish
END:VEVENT
END:VCALENDAR