BEGIN:VCALENDAR
VERSION:2.0
PRODID:-//WINGS Guatemala - ECPv6.15.20//NONSGML v1.0//EN
CALSCALE:GREGORIAN
METHOD:PUBLISH
X-ORIGINAL-URL:https://www.wingsguate.org
X-WR-CALDESC:Events for WINGS Guatemala
REFRESH-INTERVAL;VALUE=DURATION:PT1H
X-Robots-Tag:noindex
X-PUBLISHED-TTL:PT1H
BEGIN:VTIMEZONE
TZID:UTC
BEGIN:STANDARD
TZOFFSETFROM:+0000
TZOFFSETTO:+0000
TZNAME:UTC
DTSTART:20230101T000000
END:STANDARD
END:VTIMEZONE
BEGIN:VEVENT
DTSTART;TZID=UTC:20241023T080000
DTEND;TZID=UTC:20241023T123000
DTSTAMP:20260423T125456
CREATED:20241002T101517Z
LAST-MODIFIED:20241002T101517Z
UID:17462-1729670400-1729686600@www.wingsguate.org
SUMMARY:Operaciones – Tiquisate (Escuintla)
DESCRIPTION:Jornada de operaciones para mujer en el Centro Médico Belen\, Tiquisate (Escuintla).  \nOperaciones (para no tener más hijos): ligadura de trompas.  \nDonativo: Q100.   \nPara más información y requisitos llamar al 3185-0032. 
URL:https://www.wingsguate.org/event/operaciones-tiquisate-escuintla-36/
CATEGORIES:English,Spanish
END:VEVENT
BEGIN:VEVENT
DTSTART;TZID=UTC:20241023T080000
DTEND;TZID=UTC:20241023T123000
DTSTAMP:20260423T125456
CREATED:20241004T042503Z
LAST-MODIFIED:20241004T042503Z
UID:17608-1729670400-1729686600@www.wingsguate.org
SUMMARY:Operaciones –  San Marcos (San Marcos)
DESCRIPTION:Jornada de operaciones para mujer en OSSA Guatemala zona 5\, San Marcos (San Marcos).  \nOperaciones (para no tener más hijos): ligadura de trompas.  \nDonativo: Q100.   \nPara más información y requisitos llamar al 4511-7490. 
URL:https://www.wingsguate.org/event/operaciones-san-marcos-san-marcos-10/
CATEGORIES:English,Spanish
END:VEVENT
BEGIN:VEVENT
DTSTART;TZID=UTC:20241023T080000
DTEND;TZID=UTC:20241023T143000
DTSTAMP:20260423T125456
CREATED:20241002T100011Z
LAST-MODIFIED:20241002T100011Z
UID:17441-1729670400-1729693800@www.wingsguate.org
SUMMARY:Anticonceptivos – San José Poaquil (Chimaltenango)
DESCRIPTION:Servicios anticonceptivos en la Clinica ABIFAGUA\, San José Poaquil (Chimaltenango).  \nAnticonceptivos: Colocación de DIU (T de cobre) y Jadelle (implante hormonal).  \nTambién se ofrecerán pruebas de detección de cáncer cervical.  \nServicios gratuitos.  \nPara más información y reserva de cupo llamar al 4511-5525. 
URL:https://www.wingsguate.org/event/anticonceptivos-san-jose-poaquil-chimaltenango-20/
CATEGORIES:English,Spanish
END:VEVENT
BEGIN:VEVENT
DTSTART;TZID=UTC:20241023T080000
DTEND;TZID=UTC:20241023T143000
DTSTAMP:20260423T125456
CREATED:20241002T101352Z
LAST-MODIFIED:20241002T101352Z
UID:17460-1729670400-1729693800@www.wingsguate.org
SUMMARY:Operaciones – Santa Lucía Cotzumalguapa (Escuintla)
DESCRIPTION:Jornada de operaciones para mujer en el Sanatorio Santa Lucia 5ta avenida\, Santa Lucía Cotzumalguapa (Escuintla).  \nOperaciones (para no tener más hijos): ligadura de trompas.  \nDonativo: Q50.   \nPara más información y requisitos llamar al 4511-3527. 
URL:https://www.wingsguate.org/event/operaciones-santa-lucia-cotzumalguapa-escuintla-11/
CATEGORIES:English,Spanish
END:VEVENT
BEGIN:VEVENT
DTSTART;TZID=UTC:20241023T080000
DTEND;TZID=UTC:20241023T143000
DTSTAMP:20260423T125456
CREATED:20241007T215727Z
LAST-MODIFIED:20241007T215727Z
UID:17620-1729670400-1729693800@www.wingsguate.org
SUMMARY:Anticonceptivos – San Luis Salcaja (Quetzaltenango)
DESCRIPTION:Servicios anticonceptivos en el Salón Convencional\, San Luis Salcajá (Quetzaltenango).  \nAnticonceptivos: Colocación de DIU (T de cobre) y Jadelle (implante hormonal).  \nTambién se ofrecerán pruebas de detección de cáncer cervical.  \nServicios gratuitos.  \nPara más información y reserva de cupo llamar al 4511-7490. 
URL:https://www.wingsguate.org/event/anticonceptivos-san-luis-salcaja-quetzaltenango/
CATEGORIES:English,Spanish
END:VEVENT
BEGIN:VEVENT
DTSTART;TZID=UTC:20241023T080000
DTEND;TZID=UTC:20241023T143000
DTSTAMP:20260423T125456
CREATED:20241007T224848Z
LAST-MODIFIED:20241007T224848Z
UID:17632-1729670400-1729693800@www.wingsguate.org
SUMMARY:Anticonceptivos – Jalapa (Jalapa)
DESCRIPTION:Servicios anticonceptivos en el Salon Municipal de Mataquescuintla\, Jalapa (Jalapa). \nAnticonceptivos: Colocación de DIU (T de cobre) y Jadelle (implante hormonal).  \nTambién se ofrecerán pruebas de detección de cáncer cervical.  \nServicios gratuitos.  \nPara más información y reserva de cupo llamar al 3004-7603. 
URL:https://www.wingsguate.org/event/anticonceptivos-jalapa-jalapa-22/
CATEGORIES:English,Spanish
END:VEVENT
END:VCALENDAR