BEGIN:VCALENDAR
VERSION:2.0
PRODID:-//WINGS Guatemala - ECPv6.15.20//NONSGML v1.0//EN
CALSCALE:GREGORIAN
METHOD:PUBLISH
X-WR-CALNAME:WINGS Guatemala
X-ORIGINAL-URL:https://www.wingsguate.org
X-WR-CALDESC:Events for WINGS Guatemala
REFRESH-INTERVAL;VALUE=DURATION:PT1H
X-Robots-Tag:noindex
X-PUBLISHED-TTL:PT1H
BEGIN:VTIMEZONE
TZID:UTC
BEGIN:STANDARD
TZOFFSETFROM:+0000
TZOFFSETTO:+0000
TZNAME:UTC
DTSTART:20230101T000000
END:STANDARD
END:VTIMEZONE
BEGIN:VEVENT
DTSTART;TZID=UTC:20241008T080000
DTEND;TZID=UTC:20241008T143000
DTSTAMP:20260420T075923
CREATED:20241002T094922Z
LAST-MODIFIED:20241002T094922Z
UID:17423-1728374400-1728397800@www.wingsguate.org
SUMMARY:Anticonceptivos – Purulhá (Baja Verapaz)
DESCRIPTION:Servicios anticonceptivos en el Salón Comunal Nuevo Amanecer\, Purulha (Baja Verapaz). \nAnticonceptivos: Colocación de DIU (T de cobre) y Jadelle (implante hormonal).  \nTambién se ofrecerán pruebas de detección de cáncer cervical.  \nServicios gratuitos.  \nPara más información y reserva de cupo llamar al 3002-5055. 
URL:https://www.wingsguate.org/event/anticonceptivos-purulha-baja-verapaz-48/
CATEGORIES:English,Spanish
END:VEVENT
BEGIN:VEVENT
DTSTART;TZID=UTC:20241008T080000
DTEND;TZID=UTC:20241008T143000
DTSTAMP:20260420T075923
CREATED:20241002T095850Z
LAST-MODIFIED:20241002T095850Z
UID:17439-1728374400-1728397800@www.wingsguate.org
SUMMARY:Anticonceptivos – San Juan Comalapa (Chimaltenango)
DESCRIPTION:Servicios anticonceptivos en la Clinica de Consejera Social y Familiar\, San Juan Comalapa (Chimaltenango).  \nAnticonceptivos: Colocación de DIU (T de cobre) y Jadelle (implante hormonal).  \nTambién se ofrecerán pruebas de detección de cáncer cervical.  \nServicios gratuitos.  \nPara más información y reserva de cupo llamar al 4511-5525. 
URL:https://www.wingsguate.org/event/anticonceptivos-san-juan-comalapa-chimaltenango-28/
CATEGORIES:English,Spanish
END:VEVENT
BEGIN:VEVENT
DTSTART;TZID=UTC:20241008T080000
DTEND;TZID=UTC:20241008T143000
DTSTAMP:20260420T075923
CREATED:20241002T102650Z
LAST-MODIFIED:20241002T102650Z
UID:17476-1728374400-1728397800@www.wingsguate.org
SUMMARY:Anticonceptivos - Mazatenango (Suchitepéquez)
DESCRIPTION:Servicios anticonceptivos en el Centro Cultural\, Mazatenango (Suchitepéquez).  \nAnticonceptivos: Colocación de DIU (T de cobre) y Jadelle (implante hormonal).  \nTambién se ofrecerán pruebas de detección de cáncer cervical.  \nServicios gratuitos.  \nPara más información y reserva de cupo llamar al 4511-6520. 
URL:https://www.wingsguate.org/event/anticonceptivos-mazatenango-suchitepequez-31/
CATEGORIES:English,Spanish
END:VEVENT
BEGIN:VEVENT
DTSTART;TZID=UTC:20241008T080000
DTEND;TZID=UTC:20241008T143000
DTSTAMP:20260420T075923
CREATED:20241004T034922Z
LAST-MODIFIED:20241004T034922Z
UID:17598-1728374400-1728397800@www.wingsguate.org
SUMMARY:Anticonceptivos – Santa Catarina Palopo (Sololá)
DESCRIPTION:Servicios anticonceptivos en el Salón Comunal de Santa Catarina Palopo (Sololá).  \nAnticonceptivos: Colocación de DIU (T de cobre) y Jadelle (implante hormonal).  \nTambién se ofrecerán pruebas de detección de cáncer cervical.  \nServicios gratuitos.  \nPara más información y reserva de cupo llamar al 3227-4564. 
URL:https://www.wingsguate.org/event/anticonceptivos-santa-catarina-palopo-solola/
CATEGORIES:English,Spanish
END:VEVENT
BEGIN:VEVENT
DTSTART;TZID=UTC:20241008T080000
DTEND;TZID=UTC:20241008T143000
DTSTAMP:20260420T075923
CREATED:20241004T042039Z
LAST-MODIFIED:20241004T042039Z
UID:17604-1728374400-1728397800@www.wingsguate.org
SUMMARY:Operaciones – Quetzaltenango (Quetzaltenango)
DESCRIPTION:Jornada de operaciones para mujer en el Hospital Vida zona 8\, Quetzaltenango (Quetzaltenango).  \nOperaciones (para no tener más hijos): ligadura de trompas.  \nDonativo: Q75.   \nPara más información y requisitos llamar al 4511-7490. 
URL:https://www.wingsguate.org/event/operaciones-quetzaltenango-quetzaltenango-49/
CATEGORIES:English,Spanish
END:VEVENT
BEGIN:VEVENT
DTSTART;TZID=UTC:20241008T080000
DTEND;TZID=UTC:20241008T143000
DTSTAMP:20260420T075923
CREATED:20241007T224324Z
LAST-MODIFIED:20241007T224324Z
UID:17626-1728374400-1728397800@www.wingsguate.org
SUMMARY:Operaciones – Chiquimulilla (Santa Rosa)
DESCRIPTION: \n\nJornada de operaciones para hombres y mujeres en el Sanatorio Familiar\, Chiquimulilla (Santa Rosa).  \nOperaciones (para no tener más hijos): vasectomias y ligadura de trompas.  \nDonativo: Q100.   \nPara más información y requisitos llamar al 3063-5196. 
URL:https://www.wingsguate.org/event/operaciones-chiquimulilla-santa-rosa-25/
CATEGORIES:English,Spanish
END:VEVENT
BEGIN:VEVENT
DTSTART;TZID=UTC:20241008T080000
DTEND;TZID=UTC:20241008T143000
DTSTAMP:20260420T075923
CREATED:20241007T231750Z
LAST-MODIFIED:20241007T231750Z
UID:17652-1728374400-1728397800@www.wingsguate.org
SUMMARY:Anticonceptivos – Teculután (Zacapa)
DESCRIPTION:Servicios anticonceptivos en las Instalaciones Mis Años Dorados\, Teculután (Zacapa). \nAnticonceptivos: Colocación de DIU (T de cobre) y Jadelle (implante hormonal).  \nTambién se ofrecerán pruebas de detección de cáncer cervical.  \nServicios gratuitos.  \nPara más información y reserva de cupo llamar al 3004-7603. 
URL:https://www.wingsguate.org/event/anticonceptivos-teculutan-zacapa/
CATEGORIES:English,Spanish
END:VEVENT
BEGIN:VEVENT
DTSTART;TZID=UTC:20241008T080000
DTEND;TZID=UTC:20241009T143000
DTSTAMP:20260420T075923
CREATED:20241007T224629Z
LAST-MODIFIED:20241007T224629Z
UID:17630-1728374400-1728484200@www.wingsguate.org
SUMMARY:Operaciones – Asunción Mita (Jutiapa)
DESCRIPTION: \n\nJornada de operaciones para hombres y mujeres en el Sanatorio ViMédica\, Asunción Mita (Jutiapa) \nOperaciones (para no tener más hijos): vasectomias y ligadura de trompas.  \nServicios Gratuitos.   \nPara más información y requisitos llamar al 3063-5196. 
URL:https://www.wingsguate.org/event/operaciones-asuncion-mita-jutiapa-11/
CATEGORIES:English,Spanish
END:VEVENT
END:VCALENDAR