BEGIN:VCALENDAR
VERSION:2.0
PRODID:-//WINGS Guatemala - ECPv6.15.20//NONSGML v1.0//EN
CALSCALE:GREGORIAN
METHOD:PUBLISH
X-ORIGINAL-URL:https://www.wingsguate.org
X-WR-CALDESC:Events for WINGS Guatemala
REFRESH-INTERVAL;VALUE=DURATION:PT1H
X-Robots-Tag:noindex
X-PUBLISHED-TTL:PT1H
BEGIN:VTIMEZONE
TZID:UTC
BEGIN:STANDARD
TZOFFSETFROM:+0000
TZOFFSETTO:+0000
TZNAME:UTC
DTSTART:20230101T000000
END:STANDARD
END:VTIMEZONE
BEGIN:VEVENT
DTSTART;TZID=UTC:20241003T080000
DTEND;TZID=UTC:20241003T120000
DTSTAMP:20260421T024815
CREATED:20241002T093721Z
LAST-MODIFIED:20241002T093721Z
UID:17409-1727942400-1727956800@www.wingsguate.org
SUMMARY:Operaciones – Nebaj (Quiché)
DESCRIPTION:Jornada de operaciones para mujer en el Hospitalito Servicios Médicos Vida Esperanza\, Nebaj (Quiché).  \nOperaciones (para no tener más hijos): ligadura de trompas.  \nDonativo: Q100.   \nPara más información y requisitos llamar al 3002-5055. 
URL:https://www.wingsguate.org/event/operaciones-nebaj-quiche-10/
CATEGORIES:English,Spanish
END:VEVENT
BEGIN:VEVENT
DTSTART;TZID=UTC:20241003T080000
DTEND;TZID=UTC:20241003T120000
DTSTAMP:20260421T024815
CREATED:20241004T041030Z
LAST-MODIFIED:20241004T041030Z
UID:17600-1727942400-1727956800@www.wingsguate.org
SUMMARY:Operaciones – Quetzaltenango (Quetzaltenango)
DESCRIPTION:Jornada de operaciones para hombre en el Hospital Vida zona 8\, Quetzaltenango (Quetzaltenango).  \nOperaciones (para no tener más hijos): vasectomias.  \nDonativo: Q75.   \nPara más información y requisitos llamar al 4511-7490. 
URL:https://www.wingsguate.org/event/operaciones-quetzaltenango-quetzaltenango-48/
CATEGORIES:English,Spanish
END:VEVENT
BEGIN:VEVENT
DTSTART;TZID=UTC:20241003T080000
DTEND;TZID=UTC:20241003T130000
DTSTAMP:20260421T024815
CREATED:20241002T102241Z
LAST-MODIFIED:20241002T102241Z
UID:17472-1727942400-1727960400@www.wingsguate.org
SUMMARY:Operaciones - Patulul (Suchitepéquez)
DESCRIPTION:Jornada de operaciones para mujer en la Clinica El Porvenir Patulul (Suchitepéquez).  \nOperaciones (para no tener más hijos): ligaduras de trompas.  \nServicio Gratuito.   \nPara más información y requisitos llamar al 3185-0032. 
URL:https://www.wingsguate.org/event/operaciones-patulul-suchitepequez-8/
CATEGORIES:English,Spanish
END:VEVENT
BEGIN:VEVENT
DTSTART;TZID=UTC:20241003T080000
DTEND;TZID=UTC:20241003T133000
DTSTAMP:20260421T024815
CREATED:20241002T110759Z
LAST-MODIFIED:20241002T110759Z
UID:17533-1727942400-1727962200@www.wingsguate.org
SUMMARY:Operaciones – Guatemala (Guatemala)
DESCRIPTION:Jornada de operaciones para hombre en Asociación Corazón de Agua zona 2\, Guatemala (Guatemala).  \nOperaciones (para no tener más hijos): vasectomias.  \nDonativo: Q100.   \nPara más información y requisitos llamar al 3003-1246. 
URL:https://www.wingsguate.org/event/operaciones-guatemala-guatemala-28/
CATEGORIES:English,Spanish
END:VEVENT
BEGIN:VEVENT
DTSTART;TZID=UTC:20241003T080000
DTEND;TZID=UTC:20241003T143000
DTSTAMP:20260421T024815
CREATED:20241002T094736Z
LAST-MODIFIED:20241002T094736Z
UID:17419-1727942400-1727965800@www.wingsguate.org
SUMMARY:Anticonceptivos – Rabinal (Baja Verapaz)
DESCRIPTION:Servicios anticonceptivos en el Salón Municipal de Rabinal (Baja Verapaz). \nAnticonceptivos: Colocación de DIU (T de cobre) y Jadelle (implante hormonal).  \nTambién se ofrecerán pruebas de detección de cáncer cervical.  \nServicios gratuitos.  \nPara más información y reserva de cupo llamar al 3002-5055. 
URL:https://www.wingsguate.org/event/anticonceptivos-rabinal-baja-verapaz-5/
CATEGORIES:English,Spanish
END:VEVENT
BEGIN:VEVENT
DTSTART;TZID=UTC:20241003T080000
DTEND;TZID=UTC:20241003T143000
DTSTAMP:20260421T024815
CREATED:20241002T095612Z
LAST-MODIFIED:20241002T095612Z
UID:17435-1727942400-1727965800@www.wingsguate.org
SUMMARY:Anticonceptivos – El Tejar (Chimaltenango)
DESCRIPTION:Servicios anticonceptivos en el Salón Municipal de El Tejar (Chimaltenango).  \nAnticonceptivos: Colocación de DIU (T de cobre) y Jadelle (implante hormonal).  \nTambién se ofrecerán pruebas de detección de cáncer cervical.  \nServicios gratuitos.  \nPara más información y reserva de cupo llamar al 4511-5525. 
URL:https://www.wingsguate.org/event/anticonceptivos-el-tejar-chimaltenango-47/
CATEGORIES:English,Spanish
END:VEVENT
BEGIN:VEVENT
DTSTART;TZID=UTC:20241003T080000
DTEND;TZID=UTC:20241003T143000
DTSTAMP:20260421T024815
CREATED:20241002T105729Z
LAST-MODIFIED:20241002T105729Z
UID:17517-1727942400-1727965800@www.wingsguate.org
SUMMARY:Anticonceptivos – Jocotenango (Sacatepéquez)
DESCRIPTION:Servicios anticonceptivos en la Dirección Municipal de Jocotenango (Sacatepequez).  \nAnticonceptivos: Colocación de DIU (T de cobre) y Jadelle (implante hormonal).  \nTambién se ofrecerán pruebas de detección de cáncer cervical.  \nServicios gratuitos.  \nPara más información y reserva de cupo llamar al 4511-3527. 
URL:https://www.wingsguate.org/event/anticonceptivos-jocotenango-sacatepequez-21/
CATEGORIES:English,Spanish
END:VEVENT
BEGIN:VEVENT
DTSTART;TZID=UTC:20241003T080000
DTEND;TZID=UTC:20241003T143000
DTSTAMP:20260421T024815
CREATED:20241002T110944Z
LAST-MODIFIED:20241002T110944Z
UID:17537-1727942400-1727965800@www.wingsguate.org
SUMMARY:Operaciones – Guatemala (Guatemala)
DESCRIPTION:Jornada de operaciones para mujer en el Distrito Médico zona 6\, Guatemala (Guatemala).  \nOperaciones (para no tener más hijos): ligadura de trompas.  \nDonativo: Q100.   \nPara más información y requisitos llamar al 3003-1246. 
URL:https://www.wingsguate.org/event/operaciones-guatemala-guatemala-30/
CATEGORIES:English,Spanish
END:VEVENT
BEGIN:VEVENT
DTSTART;TZID=UTC:20241003T080000
DTEND;TZID=UTC:20241003T143000
DTSTAMP:20260421T024815
CREATED:20241007T231550Z
LAST-MODIFIED:20241007T231550Z
UID:17648-1727942400-1727965800@www.wingsguate.org
SUMMARY:Anticonceptivos – Zacapa (Zacapa)
DESCRIPTION:Servicios anticonceptivos en el Anexo Municipal Gualan\, Zacapa (Zacapa). \nAnticonceptivos: Colocación de DIU (T de cobre) y Jadelle (implante hormonal).  \nTambién se ofrecerán pruebas de detección de cáncer cervical.  \nServicios gratuitos.  \nPara más información y reserva de cupo llamar al 3004-7603. 
URL:https://www.wingsguate.org/event/anticonceptivos-zacapa-zacapa-7/
CATEGORIES:English,Spanish
END:VEVENT
END:VCALENDAR