BEGIN:VCALENDAR
VERSION:2.0
PRODID:-//WINGS Guatemala - ECPv6.15.20//NONSGML v1.0//EN
CALSCALE:GREGORIAN
METHOD:PUBLISH
X-WR-CALNAME:WINGS Guatemala
X-ORIGINAL-URL:https://www.wingsguate.org
X-WR-CALDESC:Events for WINGS Guatemala
REFRESH-INTERVAL;VALUE=DURATION:PT1H
X-Robots-Tag:noindex
X-PUBLISHED-TTL:PT1H
BEGIN:VTIMEZONE
TZID:UTC
BEGIN:STANDARD
TZOFFSETFROM:+0000
TZOFFSETTO:+0000
TZNAME:UTC
DTSTART:20230101T000000
END:STANDARD
END:VTIMEZONE
BEGIN:VEVENT
DTSTART;TZID=UTC:20240823T080000
DTEND;TZID=UTC:20240823T120000
DTSTAMP:20260420T231200
CREATED:20240802T102640Z
LAST-MODIFIED:20240802T102640Z
UID:16808-1724400000-1724414400@www.wingsguate.org
SUMMARY:Anticonceptivos – Siquinala (Escuintla)
DESCRIPTION:Servicios anticonceptivos en SOSEA Siquinala (Escuintla).  \nAnticonceptivos: Colocación de DIU (T de cobre) y Jadelle (implante hormonal).  \nTambién se ofrecerán pruebas de detección de cáncer cervical.  \nServicios gratuitos.  \nPara más información y reserva de cupo llamar al 4511-3527. 
URL:https://www.wingsguate.org/event/anticonceptivos-siquinala-escuintla-11/
CATEGORIES:English,Spanish
END:VEVENT
BEGIN:VEVENT
DTSTART;TZID=UTC:20240823T080000
DTEND;TZID=UTC:20240823T120000
DTSTAMP:20260420T231200
CREATED:20240805T112921Z
LAST-MODIFIED:20240805T112921Z
UID:16907-1724400000-1724414400@www.wingsguate.org
SUMMARY:Anticonceptivos – Mazatenango (Suchitepéquez)
DESCRIPTION:Servicios anticonceptivos en Asociación Alas de Guatemala zona 1\, Mazateango (Suchitepéquez).  \nAnticonceptivos: Colocación de DIU (T de cobre) y Jadelle (implante hormonal).  \nTambién se ofrecerán pruebas de detección de cáncer cervical.  \nServicios gratuitos.  \nPara más información y reserva de cupo llamar al 4511-6520. 
URL:https://www.wingsguate.org/event/anticonceptivos-mazatenango-suchitepequez-27/
CATEGORIES:English,Spanish
END:VEVENT
BEGIN:VEVENT
DTSTART;TZID=UTC:20240823T080000
DTEND;TZID=UTC:20240823T120000
DTSTAMP:20260420T231200
CREATED:20240806T101104Z
LAST-MODIFIED:20240806T101104Z
UID:17003-1724400000-1724414400@www.wingsguate.org
SUMMARY:Anticonceptivos – Sanarate (El Progreso)
DESCRIPTION:Servicios anticonceptivos en la Dirección Municipal de la Mujer Sanarate (El Progreso). \nAnticonceptivos: Colocación de DIU (T de cobre) y Jadelle (implante hormonal).  \nTambién se ofrecerán pruebas de detección de cáncer cervical.  \nServicios gratuitos.  \nPara más información y reserva de cupo llamar al 3004-7603. 
URL:https://www.wingsguate.org/event/anticonceptivos-sanarate-el-progreso-2/
CATEGORIES:English,Spanish
END:VEVENT
BEGIN:VEVENT
DTSTART;TZID=UTC:20240823T080000
DTEND;TZID=UTC:20240823T120000
DTSTAMP:20260420T231200
CREATED:20240806T101638Z
LAST-MODIFIED:20240806T101638Z
UID:17009-1724400000-1724414400@www.wingsguate.org
SUMMARY:Anticonceptivos – Chiquimulilla (Santa Rosa)
DESCRIPTION:Servicios anticonceptivos en la Farmacia Municipal de Chiquimulilla (Santa Rosa). \nAnticonceptivos: Colocación de DIU (T de cobre) y Jadelle (implante hormonal).  \nTambién se ofrecerán pruebas de detección de cáncer cervical.  \nServicios gratuitos.  \nPara más información y reserva de cupo llamar al 3063-5196. 
URL:https://www.wingsguate.org/event/anticonceptivos-chiquimulilla-santa-rosa-21/
CATEGORIES:English,Spanish
END:VEVENT
BEGIN:VEVENT
DTSTART;TZID=UTC:20240823T080000
DTEND;TZID=UTC:20240823T123000
DTSTAMP:20260420T231200
CREATED:20240805T115237Z
LAST-MODIFIED:20240805T115237Z
UID:16930-1724400000-1724416200@www.wingsguate.org
SUMMARY:Operaciones – Solola (Solola)
DESCRIPTION:Jornada de operaciones para hombre en Caserio Xolbé\, Canton El Tablón\, Solola (Solola).  \nOperaciones (para no tener más hijos): vasectomias.  \nServicios Gratuitos.   \nPara más información y requisitos llamar al 3227-4564. 
URL:https://www.wingsguate.org/event/operaciones-solola-solola/
CATEGORIES:English,Spanish
END:VEVENT
END:VCALENDAR