BEGIN:VCALENDAR
VERSION:2.0
PRODID:-//WINGS Guatemala - ECPv6.15.20//NONSGML v1.0//EN
CALSCALE:GREGORIAN
METHOD:PUBLISH
X-ORIGINAL-URL:https://www.wingsguate.org
X-WR-CALDESC:Events for WINGS Guatemala
REFRESH-INTERVAL;VALUE=DURATION:PT1H
X-Robots-Tag:noindex
X-PUBLISHED-TTL:PT1H
BEGIN:VTIMEZONE
TZID:UTC
BEGIN:STANDARD
TZOFFSETFROM:+0000
TZOFFSETTO:+0000
TZNAME:UTC
DTSTART:20230101T000000
END:STANDARD
END:VTIMEZONE
BEGIN:VEVENT
DTSTART;TZID=UTC:20240813T080000
DTEND;TZID=UTC:20240813T113000
DTSTAMP:20260419T144149
CREATED:20240805T115357Z
LAST-MODIFIED:20240805T115357Z
UID:16932-1723536000-1723548600@www.wingsguate.org
SUMMARY:Operaciones – Chichicastenango (Quiché)
DESCRIPTION:Jornada de operaciones para mujer en el Hospital El Buen Samaritano\, Chichicastenango (Quiché).  \nOperaciones (para no tener más hijos): ligadura de trompas.  \nServicios Gratuitos.   \nPara más información y requisitos llamar al 3227-4564. 
URL:https://www.wingsguate.org/event/operaciones-chichicastenango-quiche-11/
CATEGORIES:English,Spanish
END:VEVENT
BEGIN:VEVENT
DTSTART;TZID=UTC:20240813T080000
DTEND;TZID=UTC:20240813T120000
DTSTAMP:20260419T144149
CREATED:20240805T113021Z
LAST-MODIFIED:20240805T113021Z
UID:16909-1723536000-1723550400@www.wingsguate.org
SUMMARY:Anticonceptivos – Río Bravo (Suchitepéquez)
DESCRIPTION:Servicios anticonceptivos en la Dirección Municipal de la Mujer\, Río Bravo (Suchitepéquez).  \nAnticonceptivos: Colocación de DIU (T de cobre) y Jadelle (implante hormonal).  \nTambién se ofrecerán pruebas de detección de cáncer cervical.  \nServicios gratuitos.  \nPara más información y reserva de cupo llamar al 4511-6520. 
URL:https://www.wingsguate.org/event/anticonceptivos-rio-bravo-suchitepequez-13/
CATEGORIES:English,Spanish
END:VEVENT
BEGIN:VEVENT
DTSTART;TZID=UTC:20240813T080000
DTEND;TZID=UTC:20240813T123000
DTSTAMP:20260419T144149
CREATED:20240802T100844Z
LAST-MODIFIED:20240802T100844Z
UID:16790-1723536000-1723552200@www.wingsguate.org
SUMMARY:Operaciones – Palin (Escuintla)
DESCRIPTION:Jornada de operaciones para mujer en la Maternidad Municipal de Palin (Escuintla).  \nOperaciones (para no tener más hijos): ligadura de trompas.  \nServicios Gratuitos.   \nPara más información y requisitos llamar al 4511-3527. 
URL:https://www.wingsguate.org/event/operaciones-palin-escuintla-40/
CATEGORIES:English,Spanish
END:VEVENT
BEGIN:VEVENT
DTSTART;TZID=UTC:20240813T080000
DTEND;TZID=UTC:20240813T143000
DTSTAMP:20260419T144149
CREATED:20240730T025904Z
LAST-MODIFIED:20240730T025904Z
UID:16701-1723536000-1723559400@www.wingsguate.org
SUMMARY:Anticonceptivos – Cobán (Alta Verapaz)
DESCRIPTION:Servicios anticonceptivos en Asociación Alas de Guatemala\, zona 2\, Cobán (Alta Verapaz). \nAnticonceptivos: Colocación de DIU (T de cobre) y Jadelle (implante hormonal).  \nTambién se ofrecerán pruebas de detección de cáncer cervical.  \nServicios gratuitos.  \nPara más información y reserva de cupo llamar al 3227-1513.  \n  \n 
URL:https://www.wingsguate.org/event/anticonceptivos-coban-alta-verapaz-166/
CATEGORIES:English,Spanish
END:VEVENT
BEGIN:VEVENT
DTSTART;TZID=UTC:20240813T080000
DTEND;TZID=UTC:20240813T143000
DTSTAMP:20260419T144149
CREATED:20240730T040339Z
LAST-MODIFIED:20240730T040339Z
UID:16720-1723536000-1723559400@www.wingsguate.org
SUMMARY:Anticonceptivos – Cobán (Alta Verapaz)
DESCRIPTION:Servicios anticonceptivos en Clinica de Cruz Roja Guatemalteca\, Delegación Cobán\, Cobán (Alta Verapaz). \nAnticonceptivos: Colocación de DIU (T de cobre) y Jadelle (implante hormonal).  \nTambién se ofrecerán pruebas de detección de cáncer cervical.  \nServicios gratuitos.  \nPara más información y reserva de cupo llamar al 3227-1513. 
URL:https://www.wingsguate.org/event/anticonceptivos-coban-alta-verapaz-167/
CATEGORIES:English,Spanish
END:VEVENT
BEGIN:VEVENT
DTSTART;TZID=UTC:20240813T080000
DTEND;TZID=UTC:20240813T143000
DTSTAMP:20260419T144149
CREATED:20240802T102256Z
LAST-MODIFIED:20240802T102256Z
UID:16802-1723536000-1723559400@www.wingsguate.org
SUMMARY:Anticonceptivos – Sipacate (Escuintla)
DESCRIPTION:Servicios anticonceptivos en Clinicas Municipales\, Sipacate (Escuintla).  \nAnticonceptivos: Colocación de DIU (T de cobre) y Jadelle (implante hormonal).  \nTambién se ofrecerán pruebas de detección de cáncer cervical.  \nServicios gratuitos.  \nPara más información y reserva de cupo llamar al 4511-3527. 
URL:https://www.wingsguate.org/event/anticonceptivos-sipacate-escuintla-3/
CATEGORIES:English,Spanish
END:VEVENT
END:VCALENDAR