BEGIN:VCALENDAR
VERSION:2.0
PRODID:-//WINGS Guatemala - ECPv6.15.20//NONSGML v1.0//EN
CALSCALE:GREGORIAN
METHOD:PUBLISH
X-WR-CALNAME:WINGS Guatemala
X-ORIGINAL-URL:https://www.wingsguate.org
X-WR-CALDESC:Events for WINGS Guatemala
REFRESH-INTERVAL;VALUE=DURATION:PT1H
X-Robots-Tag:noindex
X-PUBLISHED-TTL:PT1H
BEGIN:VTIMEZONE
TZID:UTC
BEGIN:STANDARD
TZOFFSETFROM:+0000
TZOFFSETTO:+0000
TZNAME:UTC
DTSTART:20230101T000000
END:STANDARD
END:VTIMEZONE
BEGIN:VEVENT
DTSTART;TZID=UTC:20240603T080000
DTEND;TZID=UTC:20240607T170000
DTSTAMP:20260423T070844
CREATED:20240529T233037Z
LAST-MODIFIED:20240529T233037Z
UID:16050-1717401600-1717779600@www.wingsguate.org
SUMMARY:CAPACITACIÓN DE PERSONAL
DESCRIPTION:Capacitación general de personal.
URL:https://www.wingsguate.org/event/capacitacion-de-personal-6/
CATEGORIES:English,Spanish
END:VEVENT
BEGIN:VEVENT
DTSTART;TZID=UTC:20240607T080000
DTEND;TZID=UTC:20240607T143000
DTSTAMP:20260423T070844
CREATED:20240607T102811Z
LAST-MODIFIED:20240607T102811Z
UID:16192-1717747200-1717770600@www.wingsguate.org
SUMMARY:Vasectomías – Antigua Guatemala (Sacatepéquez)
DESCRIPTION:Jornada de operaciones para hombre en Asociación Alas de Guatemala\, 9na calle poniente No. 17\, Residenciales El Rosario No. 3\, Antigua Guatemala (Sacatepéquez).  \nOperaciones (para no tener más hijos): vasectomias.  \nServicios Gratuitos.   \nPara más información y reserva de cupo llamar al 4511-3527. 
URL:https://www.wingsguate.org/event/vasectomias-antigua-guatemala-sacatepequez/
CATEGORIES:English,Spanish
END:VEVENT
END:VCALENDAR