BEGIN:VCALENDAR
VERSION:2.0
PRODID:-//WINGS Guatemala - ECPv6.15.20//NONSGML v1.0//EN
CALSCALE:GREGORIAN
METHOD:PUBLISH
X-WR-CALNAME:WINGS Guatemala
X-ORIGINAL-URL:https://www.wingsguate.org
X-WR-CALDESC:Events for WINGS Guatemala
REFRESH-INTERVAL;VALUE=DURATION:PT1H
X-Robots-Tag:noindex
X-PUBLISHED-TTL:PT1H
BEGIN:VTIMEZONE
TZID:UTC
BEGIN:STANDARD
TZOFFSETFROM:+0000
TZOFFSETTO:+0000
TZNAME:UTC
DTSTART:20230101T000000
END:STANDARD
END:VTIMEZONE
BEGIN:VEVENT
DTSTART;TZID=UTC:20240423T080000
DTEND;TZID=UTC:20240423T140000
DTSTAMP:20260422T070833
CREATED:20240402T103511Z
LAST-MODIFIED:20240402T103511Z
UID:15533-1713859200-1713880800@www.wingsguate.org
SUMMARY:Operaciones – Cobán (Alta Verapaz)
DESCRIPTION:Jornada de operaciones para mujer en el Hospital Cubano\, Cobán (Alta Verapaz).  \nOperaciones (para no tener más hijos): Ligaduras de trompas.  \nDonativo: Q75.   \nPara más información y reserva de cupo llamar al 3227-1513. 
URL:https://www.wingsguate.org/event/operaciones-coban-alta-verapaz-18/
CATEGORIES:English,Spanish
END:VEVENT
BEGIN:VEVENT
DTSTART;TZID=UTC:20240423T080000
DTEND;TZID=UTC:20240423T140000
DTSTAMP:20260422T070833
CREATED:20240403T101741Z
LAST-MODIFIED:20240403T101741Z
UID:15704-1713859200-1713880800@www.wingsguate.org
SUMMARY:Operaciones – Quetzaltenango (Quetzaltenango)
DESCRIPTION:Jornada de operaciones para mujer en el Hospital Vida\, Quetzaltenango (Quetzaltenango).   \nOperaciones (para no tener más hijos): ligadura de trompas.  \nDonativo: Q75.   \nPara más información y reserva de cupo llamar al 4511-7490. 
URL:https://www.wingsguate.org/event/operaciones-quetzaltenango-quetzaltenango-34/
CATEGORIES:English,Spanish
END:VEVENT
BEGIN:VEVENT
DTSTART;TZID=UTC:20240423T080000
DTEND;TZID=UTC:20240423T143000
DTSTAMP:20260422T070833
CREATED:20240402T103246Z
LAST-MODIFIED:20240402T103246Z
UID:15531-1713859200-1713882600@www.wingsguate.org
SUMMARY:Anticonceptivos – Panzos (Alta Verapaz)
DESCRIPTION:Servicios anticonceptivos en el Centro de Atención para Mujeres\, Barrio Las Brizas\, Panzos (Alta Verapaz). \nAnticonceptivos: Colocación de DIU (T de cobre) y Jadelle (implante hormonal).  \nTambién se ofrecerán pruebas de detección de cáncer cervical.  \nServicios gratuitos.  \nPara más información y reserva de cupo llamar al 3227-1513. 
URL:https://www.wingsguate.org/event/anticonceptivos-panzos-alta-verapaz-25/
CATEGORIES:English,Spanish
END:VEVENT
BEGIN:VEVENT
DTSTART;TZID=UTC:20240423T080000
DTEND;TZID=UTC:20240423T143000
DTSTAMP:20260422T070833
CREATED:20240402T104013Z
LAST-MODIFIED:20240402T104013Z
UID:15537-1713859200-1713882600@www.wingsguate.org
SUMMARY:Vasectomías – Cobán (Alta Verapaz)
DESCRIPTION:Jornada de operaciones para hombre en el Hospital Cubano\, Cobán (Alta Verapaz).  \nOperaciones (para no tener más hijos): vasectomías.  \nDonativo: Q75.   \nPara más información y reserva de cupo llamar al 3227-1513. 
URL:https://www.wingsguate.org/event/vasectomias-coban-alta-verapaz-9/
CATEGORIES:English,Spanish
END:VEVENT
BEGIN:VEVENT
DTSTART;TZID=UTC:20240423T080000
DTEND;TZID=UTC:20240423T143000
DTSTAMP:20260422T070833
CREATED:20240402T224518Z
LAST-MODIFIED:20240402T224518Z
UID:15594-1713859200-1713882600@www.wingsguate.org
SUMMARY:Anticonceptivos – Santiago (Sacatepéquez)
DESCRIPTION:Servicios anticonceptivos en la Clinica del Dr. Juan Carlos Barrios\, zona 4 de Santiago (Sacatepéquez). \nAnticonceptivos: Colocación de DIU (T de cobre) y Jadelle (implante hormonal).  \nTambién se ofrecerán pruebas de detección de cáncer cervical.  \nServicios gratuitos.  \nPara más información y reserva de cupo llamar al 4511-3527. 
URL:https://www.wingsguate.org/event/anticonceptivos-santiago-sacatepequez-7/
CATEGORIES:English,Spanish
END:VEVENT
BEGIN:VEVENT
DTSTART;TZID=UTC:20240423T080000
DTEND;TZID=UTC:20240423T143000
DTSTAMP:20260422T070833
CREATED:20240403T093006Z
LAST-MODIFIED:20240429T232404Z
UID:15646-1713859200-1713882600@www.wingsguate.org
SUMMARY:Anticonceptivos – Ciudad de Guatemala (Ciudad de Guatemala)
DESCRIPTION:Servicios anticonceptivos en Iglesia Cristo Rey zona 6\, Ciudad de Guatemala (Ciudad de Guatemala).  \nAnticonceptivos: Colocación de DIU (T de cobre) y Jadelle (implante hormonal).  \nTambién se ofrecerán pruebas de detección de cáncer cervical.  \nServicios gratuitos.  \nPara más información y reserva de cupo llamar al 3003-1246. 
URL:https://www.wingsguate.org/event/anticonceptivos-ciudad-de-guatemala-ciudad-de-guatemala-39/
CATEGORIES:English,Spanish
END:VEVENT
BEGIN:VEVENT
DTSTART;TZID=UTC:20240423T080000
DTEND;TZID=UTC:20240423T143000
DTSTAMP:20260422T070833
CREATED:20240403T100837Z
LAST-MODIFIED:20240403T100837Z
UID:15694-1713859200-1713882600@www.wingsguate.org
SUMMARY:Anticonceptivos – El Asintal (Retalhuleu)
DESCRIPTION:Servicios anticonceptivos en la Dirección Municipal de la Mujer\, El Asintal (Retalhuleu).  \nAnticonceptivos: Colocación de DIU (T de cobre) y Jadelle (implante hormonal).  \nTambién se ofrecerán pruebas de detección de cáncer cervical.  \nServicios gratuitos.  \nPara más información y reserva de cupo llamar al 3185-0032. 
URL:https://www.wingsguate.org/event/anticonceptivos-el-asintal-retalhuleu-7/
CATEGORIES:English,Spanish
END:VEVENT
END:VCALENDAR