BEGIN:VCALENDAR
VERSION:2.0
PRODID:-//WINGS Guatemala - ECPv6.15.20//NONSGML v1.0//EN
CALSCALE:GREGORIAN
METHOD:PUBLISH
X-ORIGINAL-URL:https://www.wingsguate.org
X-WR-CALDESC:Events for WINGS Guatemala
REFRESH-INTERVAL;VALUE=DURATION:PT1H
X-Robots-Tag:noindex
X-PUBLISHED-TTL:PT1H
BEGIN:VTIMEZONE
TZID:UTC
BEGIN:STANDARD
TZOFFSETFROM:+0000
TZOFFSETTO:+0000
TZNAME:UTC
DTSTART:20230101T000000
END:STANDARD
END:VTIMEZONE
BEGIN:VEVENT
DTSTART;TZID=UTC:20240408T080000
DTEND;TZID=UTC:20240408T140000
DTSTAMP:20260422T083821
CREATED:20240402T102820Z
LAST-MODIFIED:20240402T102820Z
UID:15523-1712563200-1712584800@www.wingsguate.org
SUMMARY:Anticonceptivos – San Cristobal (Alta Verapaz)
DESCRIPTION:Servicios anticonceptivos en Clinica Especializada de la Mujer\, zona 3 Bo. San Sebastian\, San Cristobal (Alta Verapaz). \nAnticonceptivos: Colocación de DIU (T de cobre) y Jadelle (implante hormonal).  \nTambién se ofrecerán pruebas de detección de cáncer cervical.  \nServicios gratuitos.  \nPara más información y reserva de cupo llamar al 3227-1513. 
URL:https://www.wingsguate.org/event/anticonceptivos-san-cristobal-alta-verapaz-8/
CATEGORIES:English,Spanish
END:VEVENT
BEGIN:VEVENT
DTSTART;TZID=UTC:20240408T080000
DTEND;TZID=UTC:20240408T140000
DTSTAMP:20260422T083821
CREATED:20240403T093950Z
LAST-MODIFIED:20240403T094109Z
UID:15657-1712563200-1712584800@www.wingsguate.org
SUMMARY:Vasectomías – Ciudad de Guatemala (Ciudad de Guatemala)
DESCRIPTION:Jornada de operaciones para hombre en Distrito Médico zona 6\, Ciudad de Guatemala (Ciudad de Guatemala).  \nOperaciones (para no tener más hijos): vasectomías.  \nDonativo: Q100.   \nPara más información y reserva de cupo llamar al 3003-1246. 
URL:https://www.wingsguate.org/event/vasectomias-ciudad-de-guatemala-ciudad-de-guatemala-21/
CATEGORIES:English,Spanish
END:VEVENT
BEGIN:VEVENT
DTSTART;TZID=UTC:20240408T080000
DTEND;TZID=UTC:20240408T143000
DTSTAMP:20260422T083821
CREATED:20240402T102350Z
LAST-MODIFIED:20240402T102350Z
UID:15517-1712563200-1712586600@www.wingsguate.org
SUMMARY:Anticonceptivos – Cobán (Alta Verapaz)
DESCRIPTION:Servicios anticonceptivos en Asociación Alas de Guatemala\, zona 2 de Cobán (Alta Verapaz). \nAnticonceptivos: Colocación de DIU (T de cobre) y Jadelle (implante hormonal).  \nTambién se ofrecerán pruebas de detección de cáncer cervical.  \nServicios gratuitos.  \nPara más información y reserva de cupo llamar al 3227-1513. 
URL:https://www.wingsguate.org/event/anticonceptivos-coban-alta-verapaz-143/
CATEGORIES:English,Spanish
END:VEVENT
BEGIN:VEVENT
DTSTART;TZID=UTC:20240408T080000
DTEND;TZID=UTC:20240408T143000
DTSTAMP:20260422T083821
CREATED:20240402T102643Z
LAST-MODIFIED:20240402T102643Z
UID:15521-1712563200-1712586600@www.wingsguate.org
SUMMARY:Anticonceptivos – Cobán (Alta Verapaz)
DESCRIPTION:Servicios anticonceptivos en Escuela Recuerdo Chichen\, Cobán (Alta Verapaz). \nAnticonceptivos: Colocación de DIU (T de cobre) y Jadelle (implante hormonal).  \nTambién se ofrecerán pruebas de detección de cáncer cervical.  \nServicios gratuitos.  \nPara más información y reserva de cupo llamar al 3227-1513. 
URL:https://www.wingsguate.org/event/anticonceptivos-coban-alta-verapaz-145/
CATEGORIES:English,Spanish
END:VEVENT
BEGIN:VEVENT
DTSTART;TZID=UTC:20240408T080000
DTEND;TZID=UTC:20240408T143000
DTSTAMP:20260422T083821
CREATED:20240402T224336Z
LAST-MODIFIED:20240402T224336Z
UID:15592-1712563200-1712586600@www.wingsguate.org
SUMMARY:Anticonceptivos – San Juan Alotenango (Sacatepéquez)
DESCRIPTION:Servicios anticonceptivos en la Dirección Municipal de la Mujer\, San Juan Alotenango (Sacatepéquez). \nAnticonceptivos: Colocación de DIU (T de cobre) y Jadelle (implante hormonal).  \nTambién se ofrecerán pruebas de detección de cáncer cervical.  \nServicios gratuitos.  \nPara más información y reserva de cupo llamar al 4511-3527. 
URL:https://www.wingsguate.org/event/anticonceptivos-san-juan-alotenango-sacatepequez-19/
CATEGORIES:English,Spanish
END:VEVENT
END:VCALENDAR