BEGIN:VCALENDAR
VERSION:2.0
PRODID:-//WINGS Guatemala - ECPv6.15.20//NONSGML v1.0//EN
CALSCALE:GREGORIAN
METHOD:PUBLISH
X-WR-CALNAME:WINGS Guatemala
X-ORIGINAL-URL:https://www.wingsguate.org
X-WR-CALDESC:Events for WINGS Guatemala
REFRESH-INTERVAL;VALUE=DURATION:PT1H
X-Robots-Tag:noindex
X-PUBLISHED-TTL:PT1H
BEGIN:VTIMEZONE
TZID:UTC
BEGIN:STANDARD
TZOFFSETFROM:+0000
TZOFFSETTO:+0000
TZNAME:UTC
DTSTART:20220101T000000
END:STANDARD
END:VTIMEZONE
BEGIN:VEVENT
DTSTART;TZID=UTC:20231205T080000
DTEND;TZID=UTC:20231205T143000
DTSTAMP:20260420T034523
CREATED:20231127T234021Z
LAST-MODIFIED:20231127T234021Z
UID:14106-1701763200-1701786600@www.wingsguate.org
SUMMARY:Anticonceptivos – Cobán (Alta Verapaz)
DESCRIPTION:Servicios anticonceptivos en el Centro Comunitario San Benito 2\, Cobán (Alta Verapaz). \nAnticonceptivos: Colocación de DIU (T de cobre) y Jadelle (implante hormonal).  \nTambién se ofrecerán pruebas de detección de cáncer cervical.  \nServicios gratuitos.  \nPara más información y reserva de cupo llamar al 3227-1513. 
URL:https://www.wingsguate.org/event/anticonceptivos-coban-alta-verapaz-122/
CATEGORIES:English,Spanish
END:VEVENT
BEGIN:VEVENT
DTSTART;TZID=UTC:20231205T080000
DTEND;TZID=UTC:20231205T143000
DTSTAMP:20260420T034523
CREATED:20231127T234957Z
LAST-MODIFIED:20231127T234957Z
UID:14116-1701763200-1701786600@www.wingsguate.org
SUMMARY:Anticonceptivos – Chicaman (Quiché)
DESCRIPTION:Servicios anticonceptivos en el Puesto de Salud San Sebastian Beleju\, Chicaman (Quiché). \nAnticonceptivos: Colocación de DIU (T de cobre) y Jadelle (implante hormonal).  \nTambién se ofrecerán pruebas de detección de cáncer cervical.  \nServicios gratuitos.  \nPara más información y reserva de cupo llamar al 3002-5055. 
URL:https://www.wingsguate.org/event/anticonceptivos-chicaman-quiche-10/
CATEGORIES:English,Spanish
END:VEVENT
BEGIN:VEVENT
DTSTART;TZID=UTC:20231205T080000
DTEND;TZID=UTC:20231205T143000
DTSTAMP:20260420T034523
CREATED:20231127T235444Z
LAST-MODIFIED:20231127T235444Z
UID:14120-1701763200-1701786600@www.wingsguate.org
SUMMARY:Anticonceptivos – La Nueva Concepción (Escuintla)
DESCRIPTION:Servicios anticonceptivos en Casa Oneida de Leon\, Trocha 4 calle del banco\, La Nueva Concepción (Escuintla).\nAnticonceptivos: Colocación de DIU (T de cobre) y Jadelle (implante hormonal). \n\n\nTambién se ofrecerán pruebas de detección de cáncer cervical.  \nServicios gratuitos.  \nPara más información y reserva de cupo llamar al 4511-3527. 
URL:https://www.wingsguate.org/event/anticonceptivos-la-nueva-concepcion-escuintla-21/
CATEGORIES:English,Spanish
END:VEVENT
BEGIN:VEVENT
DTSTART;TZID=UTC:20231205T080000
DTEND;TZID=UTC:20231205T143000
DTSTAMP:20260420T034523
CREATED:20231127T235739Z
LAST-MODIFIED:20231127T235739Z
UID:14124-1701763200-1701786600@www.wingsguate.org
SUMMARY:Anticonceptivos – San Miguel Dueñas (Sacatepéquez)
DESCRIPTION:Servicios anticonceptivos en Clínicas Madre Teresa\, San Miguel Dueñas (Sacatepéquez).\nAnticonceptivos: Colocación de DIU (T de cobre) y Jadelle (implante hormonal). \n\n\nTambién se ofrecerán pruebas de detección de cáncer cervical.  \nServicios gratuitos.  \nPara más información y reserva de cupo llamar al 4511-3527. 
URL:https://www.wingsguate.org/event/anticonceptivos-san-miguel-duenas-sacatepequez-27/
CATEGORIES:English,Spanish
END:VEVENT
BEGIN:VEVENT
DTSTART;TZID=UTC:20231205T080000
DTEND;TZID=UTC:20231205T143000
DTSTAMP:20260420T034523
CREATED:20231128T001037Z
LAST-MODIFIED:20231128T001037Z
UID:14142-1701763200-1701786600@www.wingsguate.org
SUMMARY:Anticonceptivos – Tecpan (Chimaltenango)
DESCRIPTION:Servicios anticonceptivos en el Centro Comunitario\, Aldea Panabajal\, Tecpan (Chimaltenango).  \nAnticonceptivos: Colocación de DIU (T de cobre) y Jadelle (implante hormonal).  \nTambién se ofrecerán pruebas de detección de cáncer cervical.  \nServicios gratuitos.  \nPara más información y reserva de cupo llamar al 4511-5525. 
URL:https://www.wingsguate.org/event/anticonceptivos-tecpan-chimaltenango-73/
CATEGORIES:English,Spanish
END:VEVENT
BEGIN:VEVENT
DTSTART;TZID=UTC:20231205T080000
DTEND;TZID=UTC:20231205T143000
DTSTAMP:20260420T034523
CREATED:20231128T003652Z
LAST-MODIFIED:20231128T003652Z
UID:14157-1701763200-1701786600@www.wingsguate.org
SUMMARY:Anticonceptivos – Retalhuleu (Retalhuleu)
DESCRIPTION:Servicios anticonceptivos en el Centro de Salud Retalhuleu (Suchitepéquez).  \nAnticonceptivos: Colocación de DIU (T de cobre) y Jadelle (implante hormonal).  \nTambién se ofrecerán pruebas de detección de cáncer cervical.  \nServicios gratuitos.  \nPara más información y reserva de cupo llamar al 4511-6520. 
URL:https://www.wingsguate.org/event/anticonceptivos-retalhuleu-retalhuleu-43/
CATEGORIES:English,Spanish
END:VEVENT
BEGIN:VEVENT
DTSTART;TZID=UTC:20231205T080000
DTEND;TZID=UTC:20231205T143000
DTSTAMP:20260420T034523
CREATED:20231128T024021Z
LAST-MODIFIED:20231128T024021Z
UID:14166-1701763200-1701786600@www.wingsguate.org
SUMMARY:Anticonceptivos – Momostenango (Totonicapán)
DESCRIPTION:Servicios anticonceptivos en la Clinica Chuinajtajuyup\, Xequemeya\, Momostenango (Totonicapán).  \nAnticonceptivos: Colocación de DIU (T de cobre) y Jadelle (implante hormonal).  \nTambién se ofrecerán pruebas de detección de cáncer cervical.  \nServicios gratuitos.  \nPara más información y reserva de cupo llamar al 3227-4564. 
URL:https://www.wingsguate.org/event/anticonceptivos-momostenango-totonicapan-20/
CATEGORIES:English,Spanish
END:VEVENT
BEGIN:VEVENT
DTSTART;TZID=UTC:20231205T080000
DTEND;TZID=UTC:20231205T143000
DTSTAMP:20260420T034523
CREATED:20231128T024304Z
LAST-MODIFIED:20231128T025215Z
UID:14170-1701763200-1701786600@www.wingsguate.org
SUMMARY:Anticonceptivos – San Andrés Semetebaj (Sololá)
DESCRIPTION:Servicios anticonceptivos en el Puesto de Salud Canoas Bajas\, San Andres Semetebaj (Sololá).  \nAnticonceptivos: Colocación de DIU (T de cobre) y Jadelle (implante hormonal).  \nTambién se ofrecerán pruebas de detección de cáncer cervical.  \nServicios gratuitos.  \nPara más información y reserva de cupo llamar al 3227-4564. 
URL:https://www.wingsguate.org/event/anticonceptivos-san-andres-semetebaj-solola-2/
CATEGORIES:English,Spanish
END:VEVENT
END:VCALENDAR