BEGIN:VCALENDAR
VERSION:2.0
PRODID:-//WINGS Guatemala - ECPv6.15.20//NONSGML v1.0//EN
CALSCALE:GREGORIAN
METHOD:PUBLISH
X-ORIGINAL-URL:https://www.wingsguate.org
X-WR-CALDESC:Events for WINGS Guatemala
REFRESH-INTERVAL;VALUE=DURATION:PT1H
X-Robots-Tag:noindex
X-PUBLISHED-TTL:PT1H
BEGIN:VTIMEZONE
TZID:UTC
BEGIN:STANDARD
TZOFFSETFROM:+0000
TZOFFSETTO:+0000
TZNAME:UTC
DTSTART:20220101T000000
END:STANDARD
END:VTIMEZONE
BEGIN:VEVENT
DTSTART;TZID=UTC:20231117T080000
DTEND;TZID=UTC:20231117T143000
DTSTAMP:20260421T234655
CREATED:20231031T041943Z
LAST-MODIFIED:20231031T041943Z
UID:13750-1700208000-1700231400@www.wingsguate.org
SUMMARY:Anticonceptivos – Comalapa (Chimaltenango)
DESCRIPTION:Servicios anticonceptivos en el Centro de Atención Permanente Comalapa (Chimaltenango).  \nAnticonceptivos: Colocación de DIU (T de cobre) y Jadelle (implante hormonal).  \nTambién se ofrecerán pruebas de detección de cáncer cervical.  \nServicios gratuitos.  \nPara más información y reserva de cupo llamar al 4511-5525. 
URL:https://www.wingsguate.org/event/anticonceptivos-comalapa-chimaltenango-22/
CATEGORIES:English,Spanish
END:VEVENT
BEGIN:VEVENT
DTSTART;TZID=UTC:20231117T080000
DTEND;TZID=UTC:20231117T143000
DTSTAMP:20260421T234655
CREATED:20231103T181357Z
LAST-MODIFIED:20231103T181357Z
UID:13777-1700208000-1700231400@www.wingsguate.org
SUMMARY:Anticonceptivos – Mixco (Ciudad de Guatemala)
DESCRIPTION:Servicios anticonceptivos en Clinica Municipal 7ma calle\, 4-40 zona 1\, Mixco (Ciudad de Guatemala).  \nAnticonceptivos: Colocación de DIU (T de cobre) y Jadelle (implante hormonal).  \nTambién se ofrecerán pruebas de detección de cáncer cervical.  \nServicios gratuitos.  \nPara más información y reserva de cupo llamar al 3003-1246. 
URL:https://www.wingsguate.org/event/anticonceptivos-mixco-ciudad-de-guatemala-38/
CATEGORIES:English,Spanish
END:VEVENT
BEGIN:VEVENT
DTSTART;TZID=UTC:20231117T080000
DTEND;TZID=UTC:20231117T143000
DTSTAMP:20260421T234655
CREATED:20231103T191303Z
LAST-MODIFIED:20231103T191303Z
UID:13779-1700208000-1700231400@www.wingsguate.org
SUMMARY:Anticonceptivos – Mixco (Ciudad de Guatemala)
DESCRIPTION:Servicios anticonceptivos en Reserva Natural Cerro Alux\, El Manzanillo zona 1\, Mixco (Ciudad de Guatemala).  \nAnticonceptivos: Colocación de DIU (T de cobre) y Jadelle (implante hormonal).  \nTambién se ofrecerán pruebas de detección de cáncer cervical.  \nServicios gratuitos.  \nPara más información y reserva de cupo llamar al 3003-1246. 
URL:https://www.wingsguate.org/event/anticonceptivos-mixco-ciudad-de-guatemala-39/
CATEGORIES:English,Spanish
END:VEVENT
BEGIN:VEVENT
DTSTART;TZID=UTC:20231117T080000
DTEND;TZID=UTC:20231117T143000
DTSTAMP:20260421T234655
CREATED:20231103T193052Z
LAST-MODIFIED:20231103T193052Z
UID:13804-1700208000-1700231400@www.wingsguate.org
SUMMARY:Anticonceptivos – San Lucas (Sacatepéquez)
DESCRIPTION:Servicios anticonceptivos en el Centro de Salud San Lucas (Sacatepéquez).\nAnticonceptivos: Colocación de DIU (T de cobre) y Jadelle (implante hormonal). \n\n\nTambién se ofrecerán pruebas de detección de cáncer cervical.  \nServicios gratuitos.  \nPara más información y reserva de cupo llamar al 3003-1246. 
URL:https://www.wingsguate.org/event/anticonceptivos-san-lucas-sacatepequez-18/
CATEGORIES:English,Spanish
END:VEVENT
BEGIN:VEVENT
DTSTART;TZID=UTC:20231117T080000
DTEND;TZID=UTC:20231117T143000
DTSTAMP:20260421T234655
CREATED:20231103T201807Z
LAST-MODIFIED:20231103T201807Z
UID:13838-1700208000-1700231400@www.wingsguate.org
SUMMARY:Anticonceptivos – Cobán (Alta Verapaz)
DESCRIPTION:Servicios anticonceptivos en Asociación Alas de Guatemala\, zona 2\, Cobán (Alta Verapaz). \nAnticonceptivos: Colocación de DIU (T de cobre) y Jadelle (implante hormonal).  \nTambién se ofrecerán pruebas de detección de cáncer cervical.  \nServicios gratuitos.  \nPara más información y reserva de cupo llamar al 3227-1513. 
URL:https://www.wingsguate.org/event/anticonceptivos-coban-alta-verapaz-118/
CATEGORIES:English,Spanish
END:VEVENT
BEGIN:VEVENT
DTSTART;TZID=UTC:20231117T080000
DTEND;TZID=UTC:20231117T143000
DTSTAMP:20260421T234655
CREATED:20231103T203550Z
LAST-MODIFIED:20231103T203550Z
UID:13850-1700208000-1700231400@www.wingsguate.org
SUMMARY:Anticonceptivos – San Cristobal Verapaz (Alta Verapaz)
DESCRIPTION:Servicios anticonceptivos en la Clinica Especializada en la Mujer\, zona 3 Bo. San Sebastian\, San Cristobal Verapaz (Alta Verapaz). \nAnticonceptivos: Colocación de DIU (T de cobre) y Jadelle (implante hormonal).  \nTambién se ofrecerán pruebas de detección de cáncer cervical.  \nServicios gratuitos.  \nPara más información y reserva de cupo llamar al 3227-1513. 
URL:https://www.wingsguate.org/event/anticonceptivos-san-cristobal-verapaz-alta-verapaz-10/
CATEGORIES:English,Spanish
END:VEVENT
BEGIN:VEVENT
DTSTART;TZID=UTC:20231117T080000
DTEND;TZID=UTC:20231117T143000
DTSTAMP:20260421T234655
CREATED:20231103T203652Z
LAST-MODIFIED:20231103T203652Z
UID:13852-1700208000-1700231400@www.wingsguate.org
SUMMARY:Anticonceptivos – San Juan Chamelco (Alta Verapaz)
DESCRIPTION:Servicios anticonceptivos en el Puesto de Salud Chajaneb\, San Juan Chamelco (Alta Verapaz). \nAnticonceptivos: Colocación de DIU (T de cobre) y Jadelle (implante hormonal).  \nTambién se ofrecerán pruebas de detección de cáncer cervical.  \nServicios gratuitos.  \nPara más información y reserva de cupo llamar al 3227-1513. 
URL:https://www.wingsguate.org/event/anticonceptivos-san-juan-chamelco-alta-verapaz-9/
CATEGORIES:English,Spanish
END:VEVENT
BEGIN:VEVENT
DTSTART;TZID=UTC:20231117T080000
DTEND;TZID=UTC:20231117T143000
DTSTAMP:20260421T234655
CREATED:20231113T235547Z
LAST-MODIFIED:20231113T235547Z
UID:13986-1700208000-1700231400@www.wingsguate.org
SUMMARY:Anticonceptivos – Quetzaltenango (Quetzaltenango)
DESCRIPTION:Servicios anticonceptivos en Asociación Alas de Guatemala zona 1\, Quetzaltenango (Quetzaltenango).  \nAnticonceptivos: Colocación de DIU (T de cobre) y Jadelle (implante hormonal).  \nTambién se ofrecerán pruebas de detección de cáncer cervical.  \nServicios gratuitos.  \nPara más información y reserva de cupo llamar al 4511-4847. 
URL:https://www.wingsguate.org/event/anticonceptivos-quetzaltenango-quetzaltenango-153/
CATEGORIES:English,Spanish
END:VEVENT
END:VCALENDAR