BEGIN:VCALENDAR
VERSION:2.0
PRODID:-//WINGS Guatemala - ECPv6.15.20//NONSGML v1.0//EN
CALSCALE:GREGORIAN
METHOD:PUBLISH
X-ORIGINAL-URL:https://www.wingsguate.org
X-WR-CALDESC:Events for WINGS Guatemala
REFRESH-INTERVAL;VALUE=DURATION:PT1H
X-Robots-Tag:noindex
X-PUBLISHED-TTL:PT1H
BEGIN:VTIMEZONE
TZID:UTC
BEGIN:STANDARD
TZOFFSETFROM:+0000
TZOFFSETTO:+0000
TZNAME:UTC
DTSTART:20220101T000000
END:STANDARD
END:VTIMEZONE
BEGIN:VEVENT
DTSTART;TZID=UTC:20230320T080000
DTEND;TZID=UTC:20230320T143000
DTSTAMP:20260423T074933
CREATED:20230224T045620Z
LAST-MODIFIED:20230224T045620Z
UID:11160-1679299200-1679322600@www.wingsguate.org
SUMMARY:Anticonceptivos – Laquín (Alta Verapaz)
DESCRIPTION:Servicios anticonceptivos en el Puesto de Salud Chicanuz\, Lanquin (Alta Verapaz). \nAnticonceptivos: Colocación de DIU (T de cobre) y Jadelle (implante hormonal).  \nTambién se ofrecerán pruebas de detección de cáncer cervical.  \nServicios gratuitos.  \nPara más información y reserva de cupo\, llamar al 3227-1513. 
URL:https://www.wingsguate.org/event/anticonceptivos-laquin-alta-verapaz/
CATEGORIES:English,Spanish
END:VEVENT
BEGIN:VEVENT
DTSTART;TZID=UTC:20230320T080000
DTEND;TZID=UTC:20230320T143000
DTSTAMP:20260423T074933
CREATED:20230228T034153Z
LAST-MODIFIED:20230228T034153Z
UID:11179-1679299200-1679322600@www.wingsguate.org
SUMMARY:Anticonceptivos – Salamá (Baja Verapaz)
DESCRIPTION:Servicios anticonceptivos en el Puesto de Salud Chilasco\, Salamá (Baja Verapaz). \nAnticonceptivos: Colocación de DIU (T de cobre) y Jadelle (implante hormonal).  \nTambién se ofrecerán pruebas de detección de cáncer cervical.  \nServicios gratuitos.  \nPara más información y reserva de cupo\, llamar al 3227-1513. 
URL:https://www.wingsguate.org/event/anticonceptivos-salama-baja-verapaz-19/
CATEGORIES:English,Spanish
END:VEVENT
BEGIN:VEVENT
DTSTART;TZID=UTC:20230320T080000
DTEND;TZID=UTC:20230320T143000
DTSTAMP:20260423T074933
CREATED:20230301T105414Z
LAST-MODIFIED:20230301T105414Z
UID:11274-1679299200-1679322600@www.wingsguate.org
SUMMARY:Anticonceptivos – San Francisco El Alto (Totonicapán)
DESCRIPTION:Servicios anticonceptivos en el Centro de Salud San Francisco El Alto (Totonicapán).  \nAnticonceptivos: Colocación de DIU (T de cobre) y Jadelle (implante hormonal).  \nTambién se ofrecerán pruebas de detección de cáncer cervical.  \nServicios gratuitos.  \nPara más información y reserva de cupo\, llamar al 3227-4564. 
URL:https://www.wingsguate.org/event/anticonceptivos-san-francisco-el-alto-totonicapan-34/
CATEGORIES:English,Spanish
END:VEVENT
BEGIN:VEVENT
DTSTART;TZID=UTC:20230320T080000
DTEND;TZID=UTC:20230320T143000
DTSTAMP:20260423T074933
CREATED:20230301T113630Z
LAST-MODIFIED:20230301T113630Z
UID:11332-1679299200-1679322600@www.wingsguate.org
SUMMARY:Anticonceptivos – San Pedro Sacatepéquez (San Marcos)
DESCRIPTION:Servicios anticonceptivos en Centro de Atención Permanente\, San Pedro Sacatepéquez (San Marcos).  \nAnticonceptivos: Colocación de DIU (T de cobre) y Jadelle (implante hormonal).  \nTambién se ofrecerán pruebas de detección de cáncer cervical.  \nServicios gratuitos.  \nPara más información y reserva de cupo\, llamar al 4511-7490. 
URL:https://www.wingsguate.org/event/anticonceptivos-san-pedro-sacatepequez-san-marcos-20/
CATEGORIES:English,Spanish
END:VEVENT
END:VCALENDAR