BEGIN:VCALENDAR
VERSION:2.0
PRODID:-//WINGS Guatemala - ECPv6.15.20//NONSGML v1.0//EN
CALSCALE:GREGORIAN
METHOD:PUBLISH
X-WR-CALNAME:WINGS Guatemala
X-ORIGINAL-URL:https://www.wingsguate.org
X-WR-CALDESC:Events for WINGS Guatemala
REFRESH-INTERVAL;VALUE=DURATION:PT1H
X-Robots-Tag:noindex
X-PUBLISHED-TTL:PT1H
BEGIN:VTIMEZONE
TZID:UTC
BEGIN:STANDARD
TZOFFSETFROM:+0000
TZOFFSETTO:+0000
TZNAME:UTC
DTSTART:20220101T000000
END:STANDARD
END:VTIMEZONE
BEGIN:VEVENT
DTSTART;TZID=UTC:20230222T080000
DTEND;TZID=UTC:20230222T133000
DTSTAMP:20260420T023053
CREATED:20230128T035802Z
LAST-MODIFIED:20230128T035802Z
UID:11022-1677052800-1677072600@www.wingsguate.org
SUMMARY:Operaciones – Palin (Escuintla)
DESCRIPTION:Ligadura de Trompas y Vasectomías en la Maternidad Municipal de Palin (Escuintla).  \nServicios gratuitos.  \nLigadura de Trompas: Operación para mujeres para no tener más hijos. \nVasectomías: Operación para hombres para no tener más hijos.  \nPara más información y reserva de cupo\, llamar al 4511-3527. 
URL:https://www.wingsguate.org/event/operaciones-palin-escuintla-27/
CATEGORIES:English,Spanish
END:VEVENT
BEGIN:VEVENT
DTSTART;TZID=UTC:20230222T080000
DTEND;TZID=UTC:20230222T143000
DTSTAMP:20260420T023053
CREATED:20230119T003507Z
LAST-MODIFIED:20230119T003507Z
UID:10841-1677052800-1677076200@www.wingsguate.org
SUMMARY:Anticonceptivos – Cahabón (Alta Verapaz)
DESCRIPTION:Servicios anticonceptivos en el Centro de Atención Permanente Cahabón (Alta Verapaz). \nAnticonceptivos: Colocación de DIU (T de cobre) y Jadelle (implante hormonal).  \nTambién se ofrecerán pruebas de detección de cáncer cervical.  \nServicios gratuitos.  \nPara más información y reserva de cupo\, llamar al 3227-1513. 
URL:https://www.wingsguate.org/event/anticonceptivos-cahabon-alta-verapaz-22/
CATEGORIES:English,Spanish
END:VEVENT
BEGIN:VEVENT
DTSTART;TZID=UTC:20230222T080000
DTEND;TZID=UTC:20230222T143000
DTSTAMP:20260420T023053
CREATED:20230120T001608Z
LAST-MODIFIED:20230120T001608Z
UID:10899-1677052800-1677076200@www.wingsguate.org
SUMMARY:Anticonceptivos – Zaragoza (Chimaltenango)
DESCRIPTION:Servicios anticonceptivos en el Centro de Salud de Zaragoza (Chimaltenango).  \nAnticonceptivos: Colocación de DIU (T de cobre) y Jadelle (implante hormonal).  \nTambién se ofrecerán pruebas de detección de cáncer cervical.  \nServicios gratuitos.  \nPara más información y reserva de cupo\, llamar al 4511-5525. 
URL:https://www.wingsguate.org/event/anticonceptivos-zaragoza-chimaltenango-17/
CATEGORIES:English,Spanish
END:VEVENT
BEGIN:VEVENT
DTSTART;TZID=UTC:20230222T080000
DTEND;TZID=UTC:20230222T143000
DTSTAMP:20260420T023053
CREATED:20230120T022743Z
LAST-MODIFIED:20230120T022743Z
UID:10943-1677052800-1677076200@www.wingsguate.org
SUMMARY:Anticonceptivos –  Mazatenango (Suchitepéquez)
DESCRIPTION:Servicios anticonceptivos en Asociación Alas de Guatemala\, zona 1 de Mazatenango (Suchitepéquez).  \nAnticonceptivos: Colocación de DIU (T de cobre) y Jadelle (implante hormonal).  \nTambién se ofrecerán pruebas de detección de cáncer cervical.  \nServicios gratuitos.  \nPara más información y reserva de cupo\, llamar al 4511-6520. 
URL:https://www.wingsguate.org/event/anticonceptivos-mazatenango-suchitepequez-11/
CATEGORIES:English,Spanish
END:VEVENT
BEGIN:VEVENT
DTSTART;TZID=UTC:20230222T080000
DTEND;TZID=UTC:20230222T143000
DTSTAMP:20260420T023053
CREATED:20230120T023525Z
LAST-MODIFIED:20230120T023525Z
UID:10951-1677052800-1677076200@www.wingsguate.org
SUMMARY:Anticonceptivos – Santiago Sacatepéquez (Sacatepéquez)
DESCRIPTION:Servicios anticonceptivos en la Clínica Municipal anexo a la Municipalidad\, Santiago Sacatepéquez (Sacatepéquez).\nAnticonceptivos: Colocación de DIU (T de cobre) y Jadelle (implante hormonal). \n\n\nTambién se ofrecerán pruebas de detección de cáncer cervical.  \nServicios gratuitos.  \nPara más información y reserva de cupo\, llamar al 3003-1246. 
URL:https://www.wingsguate.org/event/anticonceptivos-santiago-sacatepequez-sacatepequez-22/
CATEGORIES:English,Spanish
END:VEVENT
BEGIN:VEVENT
DTSTART;TZID=UTC:20230222T080000
DTEND;TZID=UTC:20230222T143000
DTSTAMP:20260420T023053
CREATED:20230128T035655Z
LAST-MODIFIED:20230128T035655Z
UID:11020-1677052800-1677076200@www.wingsguate.org
SUMMARY:Anticonceptivos – Santa Lucía Cotzumalguapa (Escuintla)
DESCRIPTION:Servicios anticonceptivos en Centro Comercial SantaLú\, Santa Lucía Cotzumalguapa (Escuintla).\nAnticonceptivos: Colocación de DIU (T de cobre) y Jadelle (implante hormonal). \n\n\nTambién se ofrecerán pruebas de detección de cáncer cervical.  \nServicios gratuitos.  \nPara más información y reserva de cupo\, llamar al 4511-3527. 
URL:https://www.wingsguate.org/event/anticonceptivos-santa-lucia-cotzumalguapa-escuintla-40/
CATEGORIES:English,Spanish
END:VEVENT
BEGIN:VEVENT
DTSTART;TZID=UTC:20230222T080000
DTEND;TZID=UTC:20230222T143000
DTSTAMP:20260420T023053
CREATED:20230202T030021Z
LAST-MODIFIED:20230202T030021Z
UID:11069-1677052800-1677076200@www.wingsguate.org
SUMMARY:Operaciones – Malacatan (San Marcos)
DESCRIPTION:Jornada de operaciones para mujer y hombre en el Hospital Nacional de Malacatan (San Marcos).  \nOperaciones (para no tener más hijos): Ligaduras de trompas y Vasectomías.  \nServicio Gratuito. \nPara más información y reserva de cupo\, llamar al 4511-7490. 
URL:https://www.wingsguate.org/event/operaciones-malacatan-san-marcos-8/
CATEGORIES:English,Spanish
END:VEVENT
END:VCALENDAR