BEGIN:VCALENDAR
VERSION:2.0
PRODID:-//WINGS Guatemala - ECPv6.15.20//NONSGML v1.0//EN
CALSCALE:GREGORIAN
METHOD:PUBLISH
X-ORIGINAL-URL:https://www.wingsguate.org
X-WR-CALDESC:Events for WINGS Guatemala
REFRESH-INTERVAL;VALUE=DURATION:PT1H
X-Robots-Tag:noindex
X-PUBLISHED-TTL:PT1H
BEGIN:VTIMEZONE
TZID:UTC
BEGIN:STANDARD
TZOFFSETFROM:+0000
TZOFFSETTO:+0000
TZNAME:UTC
DTSTART:20220101T000000
END:STANDARD
END:VTIMEZONE
BEGIN:VEVENT
DTSTART;TZID=UTC:20230201T080000
DTEND;TZID=UTC:20230201T143000
DTSTAMP:20260420T143625
CREATED:20230120T002137Z
LAST-MODIFIED:20230120T002137Z
UID:10903-1675238400-1675261800@www.wingsguate.org
SUMMARY:Anticonceptivos – Villa Nueva (Ciudad de Guatemala)
DESCRIPTION:Servicios anticonceptivos en las Clinicas Ginecologicas de Villa Nueva (Ciudad de Guatemala).  \nAnticonceptivos: Colocación de DIU (T de cobre) y Jadelle (implante hormonal).  \nTambién se ofrecerán pruebas de detección de cáncer cervical.  \nServicios gratuitos.  \nPara más información y reserva de cupo\, llamar al 3003-1246. 
URL:https://www.wingsguate.org/event/anticonceptivos-villa-nueva-ciudad-de-guatemala-30/
CATEGORIES:English,Spanish
END:VEVENT
BEGIN:VEVENT
DTSTART;TZID=UTC:20230201T080000
DTEND;TZID=UTC:20230201T143000
DTSTAMP:20260420T143625
CREATED:20230120T020528Z
LAST-MODIFIED:20230120T020528Z
UID:10915-1675238400-1675261800@www.wingsguate.org
SUMMARY:Anticonceptivos – Colotenango (Huehuetenango)
DESCRIPTION:Servicios anticonceptivos en el Centro de Salud de Colotenango (Huehuetenango).  \nAnticonceptivos: Colocación de DIU (T de cobre) y Jadelle (implante hormonal).  \nTambién se ofrecerán pruebas de detección de cáncer cervical.  \nServicios gratuitos.  \nPara más información y reserva de cupo\, llamar al 3227-4564. 
URL:https://www.wingsguate.org/event/anticonceptivos-colotenango-huehuetenango-2/
CATEGORIES:English,Spanish
END:VEVENT
BEGIN:VEVENT
DTSTART;TZID=UTC:20230201T080000
DTEND;TZID=UTC:20230201T143000
DTSTAMP:20260420T143625
CREATED:20230120T024747Z
LAST-MODIFIED:20230120T024747Z
UID:10963-1675238400-1675261800@www.wingsguate.org
SUMMARY:Operaciones – Ciudad de Guatemala (Ciudad de Guatemala)
DESCRIPTION:Jornada de operaciones para mujer y hombre en la Maternidad zona 12\, Ciudad de Guatemala (Ciudad de Guatemala).  \nOperaciones (para no tener más hijos): Ligaduras de trompas y Vasectomías.  \nServicio Gratuito. \nPara más información y reserva de cupo\, llamar al 3003-1246. 
URL:https://www.wingsguate.org/event/operaciones-ciudad-de-guatemala-ciudad-de-guatemala-17/
CATEGORIES:English,Spanish
END:VEVENT
BEGIN:VEVENT
DTSTART;TZID=UTC:20230201T080000
DTEND;TZID=UTC:20230201T143000
DTSTAMP:20260420T143625
CREATED:20230128T035104Z
LAST-MODIFIED:20230128T035104Z
UID:11012-1675238400-1675261800@www.wingsguate.org
SUMMARY:Anticonceptivos – La Democracia (Escuintla)
DESCRIPTION:Servicios anticonceptivos en Casa Particular Aldea Las Delicias\, La Democracia (Escuintla).\nAnticonceptivos: Colocación de DIU (T de cobre) y Jadelle (implante hormonal). \n\n\nTambién se ofrecerán pruebas de detección de cáncer cervical.  \nServicios gratuitos.  \nPara más información y reserva de cupo\, llamar al 4511-3527. 
URL:https://www.wingsguate.org/event/anticonceptivos-la-democracia-escuintla-11/
CATEGORIES:English,Spanish
END:VEVENT
BEGIN:VEVENT
DTSTART;TZID=UTC:20230201T080000
DTEND;TZID=UTC:20230201T143000
DTSTAMP:20260420T143625
CREATED:20230202T023702Z
LAST-MODIFIED:20230202T023702Z
UID:11036-1675238400-1675261800@www.wingsguate.org
SUMMARY:Anticonceptivos – Quetzaltenango (Quetzaltenango)
DESCRIPTION:Servicios anticonceptivos en el Centro de Salud La Esperanza Centro\, zona 1 Quetzaltenango (Quetzaltenango).  \nAnticonceptivos: Colocación de DIU (T de cobre) y Jadelle (implante hormonal).  \nTambién se ofrecerán pruebas de detección de cáncer cervical.  \nServicios gratuitos.  \nPara más información y reserva de cupo\, llamar al 4511-7490. 
URL:https://www.wingsguate.org/event/anticonceptivos-quetzaltenango-quetzaltenango-102/
CATEGORIES:English,Spanish
END:VEVENT
END:VCALENDAR