BEGIN:VCALENDAR
VERSION:2.0
PRODID:-//WINGS Guatemala - ECPv6.15.20//NONSGML v1.0//EN
CALSCALE:GREGORIAN
METHOD:PUBLISH
X-ORIGINAL-URL:https://www.wingsguate.org
X-WR-CALDESC:Events for WINGS Guatemala
REFRESH-INTERVAL;VALUE=DURATION:PT1H
X-Robots-Tag:noindex
X-PUBLISHED-TTL:PT1H
BEGIN:VTIMEZONE
TZID:UTC
BEGIN:STANDARD
TZOFFSETFROM:+0000
TZOFFSETTO:+0000
TZNAME:UTC
DTSTART:20220101T000000
END:STANDARD
END:VTIMEZONE
BEGIN:VEVENT
DTSTART;TZID=UTC:20230102T080000
DTEND;TZID=UTC:20230102T143000
DTSTAMP:20260421T102530
CREATED:20230104T030820Z
LAST-MODIFIED:20230104T030820Z
UID:10660-1672646400-1672669800@www.wingsguate.org
SUMMARY:VACACIONES
DESCRIPTION:ÚLTIMO DIA DE VACACIONES
URL:https://www.wingsguate.org/event/vacaciones-3/
CATEGORIES:English,Spanish
END:VEVENT
END:VCALENDAR