BEGIN:VCALENDAR
VERSION:2.0
PRODID:-//WINGS Guatemala - ECPv6.15.20//NONSGML v1.0//EN
CALSCALE:GREGORIAN
METHOD:PUBLISH
X-ORIGINAL-URL:https://www.wingsguate.org
X-WR-CALDESC:Events for WINGS Guatemala
REFRESH-INTERVAL;VALUE=DURATION:PT1H
X-Robots-Tag:noindex
X-PUBLISHED-TTL:PT1H
BEGIN:VTIMEZONE
TZID:UTC
BEGIN:STANDARD
TZOFFSETFROM:+0000
TZOFFSETTO:+0000
TZNAME:UTC
DTSTART:20210101T000000
END:STANDARD
END:VTIMEZONE
BEGIN:VEVENT
DTSTART;TZID=UTC:20220913T080000
DTEND;TZID=UTC:20220913T140000
DTSTAMP:20260421T072441
CREATED:20220906T180859Z
LAST-MODIFIED:20220906T180859Z
UID:9970-1663056000-1663077600@www.wingsguate.org
SUMMARY:Anticonceptivos – Río Bravo (Suchitepéquez)
DESCRIPTION:Servicios anticonceptivos en el Puesto de Salud Aldea Morazan\, Río Bravo (Suchitepéquez).  \nAnticonceptivos: Colocación de DIU (T de cobre) y Jadelle (implante hormonal).  \nTambién se ofrecerán pruebas de detección de cáncer cervical.  \nServicios gratuitos.  \nPara más información y reserva de cupo\, llamar al 4511-6520. 
URL:https://www.wingsguate.org/event/anticonceptivos-rio-bravo-suchitepequez-7/
CATEGORIES:English,Spanish
END:VEVENT
BEGIN:VEVENT
DTSTART;TZID=UTC:20220913T080000
DTEND;TZID=UTC:20220913T140000
DTSTAMP:20260421T072441
CREATED:20220906T181006Z
LAST-MODIFIED:20220906T181006Z
UID:9972-1663056000-1663077600@www.wingsguate.org
SUMMARY:Anticonceptivos – San Francisco Zapotitlán (Suchitepéquez)
DESCRIPTION:Servicios anticonceptivos en Dirección Municipal de la Mujer San Francisco Zapotitlán (Suchitepéquez).  \nAnticonceptivos: Colocación de DIU (T de cobre) y Jadelle (implante hormonal).  \nTambién se ofrecerán pruebas de detección de cáncer cervical.  \nServicios gratuitos.  \nPara más información y reserva de cupo\, llamar al 4511-6520. 
URL:https://www.wingsguate.org/event/anticonceptivos-san-francisco-zapotitlan-suchitepequez-14/
CATEGORIES:English,Spanish
END:VEVENT
BEGIN:VEVENT
DTSTART;TZID=UTC:20220913T080000
DTEND;TZID=UTC:20220913T143000
DTSTAMP:20260421T072441
CREATED:20220831T012320Z
LAST-MODIFIED:20220831T012320Z
UID:9885-1663056000-1663079400@www.wingsguate.org
SUMMARY:Anticonceptivos – Cobán (Alta Verapaz)
DESCRIPTION:Servicios anticonceptivos en Asociación Alas de Guatemala\, 2da. calle 11-51 zona 2\, Cobán (Alta Verapaz). \nAnticonceptivos: Colocación de DIU (T de cobre) y Jadelle (implante hormonal).  \nTambién se ofrecerán pruebas de detección de cáncer cervical.  \nServicios gratuitos.  \nPara más información y reserva de cupo\, llamar al 3227-1513. 
URL:https://www.wingsguate.org/event/anticonceptivos-coban-alta-verapaz-49/
CATEGORIES:English,Spanish
END:VEVENT
BEGIN:VEVENT
DTSTART;TZID=UTC:20220913T080000
DTEND;TZID=UTC:20220913T143000
DTSTAMP:20260421T072441
CREATED:20220831T020805Z
LAST-MODIFIED:20220831T020805Z
UID:9901-1663056000-1663079400@www.wingsguate.org
SUMMARY:Anticonceptivos – Parramos (Chimaltenango)
DESCRIPTION:Servicios anticonceptivos en el Salón Municipal Parramos (Chimaltenango).  \nAnticonceptivos: Colocación de DIU (T de cobre) y Jadelle (implante hormonal).  \nTambién se ofrecerán pruebas de detección de cáncer cervical.  \nServicios gratuitos.  \nPara más información y reserva de cupo\, llamar al 4511-5525. 
URL:https://www.wingsguate.org/event/anticonceptivos-parramos-chimaltenango-8/
CATEGORIES:English,Spanish
END:VEVENT
BEGIN:VEVENT
DTSTART;TZID=UTC:20220913T080000
DTEND;TZID=UTC:20220913T150000
DTSTAMP:20260421T072441
CREATED:20220831T021120Z
LAST-MODIFIED:20220831T021120Z
UID:9903-1663056000-1663081200@www.wingsguate.org
SUMMARY:Anticonceptivos – San Martín Jilotepeque (Chimaltenango)
DESCRIPTION:Servicios anticonceptivos en el Puesto de Salud Aldea Estancia de la Virgen\, San Martín Jilotepeque (Chimaltenango).  \nAnticonceptivos: Colocación de DIU (T de cobre) y Jadelle (implante hormonal).  \nTambién se ofrecerán pruebas de detección de cáncer cervical.  \nServicios gratuitos.  \nPara más información y reserva de cupo\, llamar al 4511-5525. 
URL:https://www.wingsguate.org/event/anticonceptivos-san-martin-jilotepeque-chimaltenango-12/
CATEGORIES:English,Spanish
END:VEVENT
BEGIN:VEVENT
DTSTART;TZID=UTC:20220913T080000
DTEND;TZID=UTC:20220913T150000
DTSTAMP:20260421T072441
CREATED:20220906T180132Z
LAST-MODIFIED:20220906T180132Z
UID:9960-1663056000-1663081200@www.wingsguate.org
SUMMARY:Anticonceptivos – San Juan Amatitlán (Ciudad de Guatemala)
DESCRIPTION:Servicios anticonceptivos en Dirección Municipal de la Mujer 5av. 4-22\, San Juan Amatitlán (Ciudad de Guatemala).  \nAnticonceptivos: Colocación de DIU (T de cobre) y Jadelle (implante hormonal).  \nTambién se ofrecerán pruebas de detección de cáncer cervical.  \nServicios gratuitos.  \nPara más información y reserva de cupo\, llamar al 3003-1246. 
URL:https://www.wingsguate.org/event/anticonceptivos-san-juan-amatitlan-ciudad-de-guatemala-7/
CATEGORIES:English,Spanish
END:VEVENT
BEGIN:VEVENT
DTSTART;TZID=UTC:20220913T080000
DTEND;TZID=UTC:20220913T150000
DTSTAMP:20260421T072441
CREATED:20220906T235311Z
LAST-MODIFIED:20220906T235311Z
UID:10028-1663056000-1663081200@www.wingsguate.org
SUMMARY:Operaciones – Colomba Costa Cuca (Quetzaltenango)
DESCRIPTION:Jornada de operaciones para mujer y hombre en el Centro de Atención Permanente\, Colomba Costa Cuca (Quetzaltenango).  \nOperaciones (para no tener más hijos): Ligaduras de trompas y Vasectomías.  \nServicios Gratuitos.  \nPara más información y reserva de cupo\, llamar al 4511-7490. 
URL:https://www.wingsguate.org/event/operaciones-colomba-costa-cuca-quetzaltenango-2/
CATEGORIES:English,Spanish
END:VEVENT
END:VCALENDAR