BEGIN:VCALENDAR
VERSION:2.0
PRODID:-//WINGS Guatemala - ECPv6.15.20//NONSGML v1.0//EN
CALSCALE:GREGORIAN
METHOD:PUBLISH
X-ORIGINAL-URL:https://www.wingsguate.org
X-WR-CALDESC:Events for WINGS Guatemala
REFRESH-INTERVAL;VALUE=DURATION:PT1H
X-Robots-Tag:noindex
X-PUBLISHED-TTL:PT1H
BEGIN:VTIMEZONE
TZID:UTC
BEGIN:STANDARD
TZOFFSETFROM:+0000
TZOFFSETTO:+0000
TZNAME:UTC
DTSTART:20210101T000000
END:STANDARD
END:VTIMEZONE
BEGIN:VEVENT
DTSTART;TZID=UTC:20220520T070000
DTEND;TZID=UTC:20220520T113000
DTSTAMP:20260422T211331
CREATED:20220504T111528Z
LAST-MODIFIED:20220504T111528Z
UID:8228-1653030000-1653046200@www.wingsguate.org
SUMMARY:Vasectomías – La Antigua Guatemala (Sacatepéquez)
DESCRIPTION:Vasectomías en la Clínica de Alas\, La Antigua Guatemala (Sacatepéquez).  \nDonación: Servicio Gratuito (población objetivo) / Q.100  \nVasectomía: Operación para hombres para no tener más hijos.  \nPara más información y reserva de cupo\, llamar al 4511-4347. 
URL:https://www.wingsguate.org/event/vasectomias-la-antigua-guatemala-sacatepequez-92/
CATEGORIES:English,Spanish
END:VEVENT
BEGIN:VEVENT
DTSTART;TZID=UTC:20220520T080000
DTEND;TZID=UTC:20220520T140000
DTSTAMP:20260422T211331
CREATED:20220512T234138Z
LAST-MODIFIED:20220512T234138Z
UID:8291-1653033600-1653055200@www.wingsguate.org
SUMMARY:Anticonceptivos – Cantel (Quetzaltenango)
DESCRIPTION:Servicios anticonceptivos en el Centro de Salud de Cantel (Quetzaltenango).  \nAnticonceptivos: Colocación de DIU (T de cobre) y Jadelle (implante hormonal).  \nTambién se ofrecerán pruebas de detección de cáncer cervical.  \nServicios gratuitos.  \nPara más información y reserva de cupo\, llamar al 4511-7490. 
URL:https://www.wingsguate.org/event/anticonceptivos-cantel-quetzaltenango-17/
CATEGORIES:English,Spanish
END:VEVENT
BEGIN:VEVENT
DTSTART;TZID=UTC:20220520T080000
DTEND;TZID=UTC:20220520T140000
DTSTAMP:20260422T211331
CREATED:20220513T212854Z
LAST-MODIFIED:20220513T212854Z
UID:8301-1653033600-1653055200@www.wingsguate.org
SUMMARY:Anticonceptivos – Samayac (Suchitepéquez)
DESCRIPTION:Servicios anticonceptivos en la Dirección Municipal de la Mujer de Samayac (Suchitepéquez).  \nAnticonceptivos: Colocación de DIU (T de cobre) y Jadelle (implante hormonal).  \nTambién se ofrecerán pruebas de detección de cáncer cervical.  \nServicios gratuitos.  \nPara más información y reserva de cupo\, llamar al 4511-6520. 
URL:https://www.wingsguate.org/event/anticonceptivos-samayac-suchitepequez-10/
CATEGORIES:English,Spanish
END:VEVENT
BEGIN:VEVENT
DTSTART;TZID=UTC:20220520T080000
DTEND;TZID=UTC:20220520T140000
DTSTAMP:20260422T211331
CREATED:20220514T003805Z
LAST-MODIFIED:20220514T003805Z
UID:8314-1653033600-1653055200@www.wingsguate.org
SUMMARY:Anticonceptivos – Santa Lucía Cotzumalguapa (Escuintla)
DESCRIPTION:Servicios anticonceptivos en Tienda La Pasadita\, Parcelamiento Los Vaquesito\, Santa Lucía Cotzumalguapa (Escuintla).\nAnticonceptivos: Colocación de DIU (T de cobre) y Jadelle (implante hormonal). \n\n\nTambién se ofrecerán pruebas de detección de cáncer cervical.  \nServicios gratuitos.  \nPara más información y reserva de cupo\, llamar al 4511-3527. 
URL:https://www.wingsguate.org/event/anticonceptivos-santa-lucia-cotzumalguapa-escuintla-25/
CATEGORIES:English,Spanish
END:VEVENT
END:VCALENDAR