BEGIN:VCALENDAR
VERSION:2.0
PRODID:-//WINGS Guatemala - ECPv6.15.20//NONSGML v1.0//EN
CALSCALE:GREGORIAN
METHOD:PUBLISH
X-ORIGINAL-URL:https://www.wingsguate.org
X-WR-CALDESC:Events for WINGS Guatemala
REFRESH-INTERVAL;VALUE=DURATION:PT1H
X-Robots-Tag:noindex
X-PUBLISHED-TTL:PT1H
BEGIN:VTIMEZONE
TZID:UTC
BEGIN:STANDARD
TZOFFSETFROM:+0000
TZOFFSETTO:+0000
TZNAME:UTC
DTSTART:20200101T000000
END:STANDARD
END:VTIMEZONE
BEGIN:VEVENT
DTSTART;TZID=UTC:20210707T080000
DTEND;TZID=UTC:20210707T133000
DTSTAMP:20260421T093022
CREATED:20210622T215606Z
LAST-MODIFIED:20210622T215606Z
UID:5828-1625644800-1625664600@www.wingsguate.org
SUMMARY:Anticonceptivos – Lanquín (Alta Verapaz)
DESCRIPTION:Servicios anticonceptivos en el Puesto de Salud de Comunidad Chicanus\, Lanquín (Alta Verapaz).  \nAnticonceptivos: Colocación de DIU (T de cobre) y Jadelle (implante hormonal).  \nTambién se ofrecerán pruebas de detección de cáncer cervical.  \nServicios gratuitos.  \nPara más información y reserva de cupo\, llamar al 3227-1513. 
URL:https://www.wingsguate.org/event/anticonceptivos-lanquin-alta-verapaz/
CATEGORIES:English,Spanish
END:VEVENT
BEGIN:VEVENT
DTSTART;TZID=UTC:20210707T080000
DTEND;TZID=UTC:20210707T133000
DTSTAMP:20260421T093022
CREATED:20210622T233324Z
LAST-MODIFIED:20210706T211418Z
UID:5834-1625644800-1625664600@www.wingsguate.org
SUMMARY:Anticonceptivos – Santa Lucía Cotzumalguapa (Escuintla)
DESCRIPTION:Servicios anticonceptivos en Colonia Miriam II\, Santa Lucía Cotzumalguapa (Escuintla).  \nAnticonceptivos: Colocación de DIU (T de cobre) y Jadelle (implante hormonal).  \nTambién se ofrecerán pruebas de detección de cáncer cervical.  \nServicios gratuitos.  \nPara más información y reserva de cupo\, llamar al 4511-3527. 
URL:https://www.wingsguate.org/event/anticonceptivos-santa-lucia-cotzumalguapa-escuintla-18/
CATEGORIES:English,Spanish
END:VEVENT
BEGIN:VEVENT
DTSTART;TZID=UTC:20210707T080000
DTEND;TZID=UTC:20210707T133000
DTSTAMP:20260421T093022
CREATED:20210624T204601Z
LAST-MODIFIED:20210624T204601Z
UID:5880-1625644800-1625664600@www.wingsguate.org
SUMMARY:Anticonceptivos – Huitán (Quetzaltenango)
DESCRIPTION:Servicios anticonceptivos en el Puesto de Salud Huitancito\, Huitán (Quetzaltenango).  \nAnticonceptivos: Colocación de DIU (T de cobre) y Jadelle (implante hormonal).  \nTambién se ofrecerán pruebas de detección de cáncer cervical.  \nServicios gratuitos.  \nPara más información y reserva de cupo\, llamar al 4511-7490. 
URL:https://www.wingsguate.org/event/anticonceptivos-huitan-quetzaltenango-3/
CATEGORIES:English,Spanish
END:VEVENT
BEGIN:VEVENT
DTSTART;TZID=UTC:20210707T080000
DTEND;TZID=UTC:20210707T133000
DTSTAMP:20260421T093022
CREATED:20210630T000912Z
LAST-MODIFIED:20210630T000912Z
UID:5956-1625644800-1625664600@www.wingsguate.org
SUMMARY:Anticonceptivos – San Pedro Yepocapa (Chimaltenango)
DESCRIPTION:Servicios anticonceptivos en el Centro de Atención Permanente de Yepocapa (Chimaltenango).  \nAnticonceptivos: Colocación de DIU (T de cobre) y Jadelle (implante hormonal).  \nTambién se ofrecerán pruebas de detección de cáncer cervical.  \nServicios gratuitos.  \nPara más información y reserva de cupo\, llamar al 4511-5525. 
URL:https://www.wingsguate.org/event/anticonceptivos-san-pedro-yepocapa-chimaltenango-5/
CATEGORIES:English,Spanish
END:VEVENT
BEGIN:VEVENT
DTSTART;TZID=UTC:20210707T080000
DTEND;TZID=UTC:20210707T133000
DTSTAMP:20260421T093022
CREATED:20210630T005943Z
LAST-MODIFIED:20210630T005943Z
UID:5984-1625644800-1625664600@www.wingsguate.org
SUMMARY:Anticonceptivos – San Sebastián (Retalhuleu)
DESCRIPTION:Servicios anticonceptivos en el Puesto de Salud de Aldea La Libertad\, San Sebastián (Retalhuleu).  \nAnticonceptivos: Colocación de DIU (T de cobre) y Jadelle (implante hormonal).  \nTambién se ofrecerán pruebas de detección de cáncer cervical.  \nServicios gratuitos.  \nPara más información y reserva de cupo\, llamar al 4511-6520. 
URL:https://www.wingsguate.org/event/anticonceptivos-san-sebastian-retalhuleu-4/
CATEGORIES:English,Spanish
END:VEVENT
BEGIN:VEVENT
DTSTART;TZID=UTC:20210707T080000
DTEND;TZID=UTC:20210707T133000
DTSTAMP:20260421T093022
CREATED:20210706T215819Z
LAST-MODIFIED:20210706T215819Z
UID:6042-1625644800-1625664600@www.wingsguate.org
SUMMARY:Anticonceptivos – San Sebástian (Retalhuleu)
DESCRIPTION:Servicios anticonceptivos en el Puesto de Salud Aldea La Libertad\, San Sebástian (Retalhuleu).  \nAnticonceptivos: Colocación de DIU (T de cobre) y Jadelle (implante hormonal).  \nTambién se ofrecerán pruebas de detección de cáncer cervical.  \nServicios gratuitos.  \nPara más información y reserva de cupo\, llamar al 4511-6520. 
URL:https://www.wingsguate.org/event/anticonceptivos-san-sebastian-retalhuleu-5/
CATEGORIES:English,Spanish
END:VEVENT
END:VCALENDAR